BEGIN:VCALENDAR
VERSION:2.0
PRODID:-//JayceLand - ECPv6.15.20//NONSGML v1.0//EN
CALSCALE:GREGORIAN
METHOD:PUBLISH
X-ORIGINAL-URL:https://jayceland.com/blog
X-WR-CALDESC:Events for JayceLand
REFRESH-INTERVAL;VALUE=DURATION:PT1H
X-Robots-Tag:noindex
X-PUBLISHED-TTL:PT1H
BEGIN:VTIMEZONE
TZID:America/New_York
BEGIN:DAYLIGHT
TZOFFSETFROM:-0500
TZOFFSETTO:-0400
TZNAME:EDT
DTSTART:20160313T070000
END:DAYLIGHT
BEGIN:STANDARD
TZOFFSETFROM:-0400
TZOFFSETTO:-0500
TZNAME:EST
DTSTART:20161106T060000
END:STANDARD
BEGIN:DAYLIGHT
TZOFFSETFROM:-0500
TZOFFSETTO:-0400
TZNAME:EDT
DTSTART:20170312T070000
END:DAYLIGHT
BEGIN:STANDARD
TZOFFSETFROM:-0400
TZOFFSETTO:-0500
TZNAME:EST
DTSTART:20171105T060000
END:STANDARD
BEGIN:DAYLIGHT
TZOFFSETFROM:-0500
TZOFFSETTO:-0400
TZNAME:EDT
DTSTART:20180311T070000
END:DAYLIGHT
BEGIN:STANDARD
TZOFFSETFROM:-0400
TZOFFSETTO:-0500
TZNAME:EST
DTSTART:20181104T060000
END:STANDARD
END:VTIMEZONE
BEGIN:VEVENT
DTSTART;TZID=America/New_York:20170216T180000
DTEND;TZID=America/New_York:20170216T190000
DTSTAMP:20260423T130541
CREATED:20170215T180554Z
LAST-MODIFIED:20170215T180554Z
UID:11321-1487268000-1487271600@jayceland.com
SUMMARY:Shawn Dunwoody DeTOUR Takeover: Black History Month
DESCRIPTION:Presented by MAGsocial and this month featuring Shawn Dunwoody\, DeTOURS are exclusive themed tours that are enlightening\, engaging and entertaining. All of these tours focus on the personal lives of artists\, the inspiration and method to their madness\, and lesser known facts about some of the works in our collection. This month will also highlight works that touch on Black History. \n [source: Memorial Art Gallery Calendar\, 2017-Feb-13]
URL:https://jayceland.com/blog/event/shawn-dunwoody-detour-takeover-black-history-month/
LOCATION:Memorial Art Gallery\, 500 University Ave.\, Rochester\, New York\, 14607\, United States
CATEGORIES:JayceLand 2017-Feb-16
END:VEVENT
BEGIN:VEVENT
DTSTART;TZID=America/New_York:20170216T180000
DTEND;TZID=America/New_York:20170216T200000
DTSTAMP:20260423T130541
CREATED:20170203T193857Z
LAST-MODIFIED:20170203T193857Z
UID:11206-1487268000-1487275200@jayceland.com
SUMMARY:Draft Highland Park South Master Plan Update meeting
DESCRIPTION:The Monroe County Parks Advisory Committee will meet on Thursday\, February 16\, 2017 at 6:00 pm to review\, discuss and receive public comment on the Draft Highland Park South Master Plan Update. \n [source: Facebook image with no copyable or searchable text\, 2017-Feb-2]
URL:https://jayceland.com/blog/event/draft-highland-park-south-master-plan-update-meeting/
LOCATION:Olmsted Lodge in Highland Park\, 171 Reservoir Ave.\, Rochester\, New York\, 14620\, United States
CATEGORIES:JayceLand 2017-Feb-16
END:VEVENT
BEGIN:VEVENT
DTSTART;TZID=America/New_York:20170216T183000
DTEND;TZID=America/New_York:20170216T200000
DTSTAMP:20260423T130541
CREATED:20170215T180553Z
LAST-MODIFIED:20170215T180553Z
UID:11316-1487269800-1487275200@jayceland.com
SUMMARY:Ernst Lubitsch: The Best Romantic Comedy Director You May Never Heard Of
DESCRIPTION:Celebrate Valentine's Day with a look at some classic romantic comedies. Filmmaker\, screen-writer and RIT film professor Johannes Bockwoldt will present clips and commentary on Lubitsch and his work. \n [source: Monroe County Library website\, 2017-Feb-13]
URL:https://jayceland.com/blog/event/ernst-lubitsch-the-best-romantic-comedy-director-you-may-never-heard-of/
LOCATION:Brighton Memorial Library\, 2300 Elmwood Ave.\, Rochester\, New York\, 14618\, United States
CATEGORIES:JayceLand 2017-Feb-16
END:VEVENT
BEGIN:VEVENT
DTSTART;TZID=America/New_York:20170216T190000
DTEND;TZID=America/New_York:20170216T211300
DTSTAMP:20260423T130541
CREATED:20170208T191209Z
LAST-MODIFIED:20170208T191209Z
UID:11248-1487271600-1487279580@jayceland.com
SUMMARY:Fantastic Beast and Where to Find Them screening (2017-Feb-16 @ 7 p.m.)
DESCRIPTION:The Cinema will screen Fantastic Beast and Where to Find Them (David Yates\, U.K. / U.S. 2016\, 133 min.) "The adventures of writer Newt Scamander in New York's secret community of witches and wizards seventy years before Harry Potter reads his book in school." [source: Cinema Theater coming soon page\, 2017-Feb-8]
URL:https://jayceland.com/blog/event/fantastic-beast-and-where-to-find-them-screening-2017-feb-16-7-p-m/
LOCATION:Cinema Theatre\, 957 S. Clinton Ave.\, Rochester\, New York\, 14620\, United States
CATEGORIES:JayceLand 2017-Feb-16
END:VEVENT
BEGIN:VEVENT
DTSTART;TZID=America/New_York:20170216T193000
DTEND;TZID=America/New_York:20170216T213000
DTSTAMP:20260423T130541
CREATED:20170215T180554Z
LAST-MODIFIED:20170215T180554Z
UID:11322-1487273400-1487280600@jayceland.com
SUMMARY:The Revolutionists theatrical performance (2017-Feb-16 @ 7:30 p.m.)
DESCRIPTION:Revolution and Ribbons! Four beautiful\, badass women — playwright Olympe de Gouges\, assassin Charlotte Corday\, activist and spy Marianne Angelle and former queen Marie Antoinette — meet at the height of the Reign of Terror during the French Revolution to hang out\, share their most intimate (and hilarious!) thoughts and debate the importance of art while trying to keep their heads.  This irreverent\, girl-powered comedy by one of the country's most exciting young playwrights considers how we actually go about changing the world. \n [source: MuCCC website\, 2017-Feb-13]
URL:https://jayceland.com/blog/event/the-revolutionists-theatrical-performance-2017-feb-16-730-p-m/
LOCATION:MuCCC (Multi-use Community Cultural Center)\, 142 Atlantic Ave.\, Rochester\, New York\, 14607\, United States
CATEGORIES:JayceLand 2017-Feb-16
END:VEVENT
BEGIN:VEVENT
DTSTART;TZID=America/New_York:20170216T212000
DTEND;TZID=America/New_York:20170216T231600
DTSTAMP:20260423T130541
CREATED:20170208T191209Z
LAST-MODIFIED:20170208T191209Z
UID:11255-1487280000-1487286960@jayceland.com
SUMMARY:Passengers screening (2017-Feb-16 @ 9:20 p.m.)
DESCRIPTION:The Cinema will screen Passengers (Morten Tyldum\, U.S. 2016\, 116 min.) "A spacecraft traveling to a distant colony planet and transporting thousands of people has a malfunction in its sleep chambers. As a result\, two passengers are awakened 90 years early." [source: Cinema Theater coming soon page\, 2017-Feb-8]
URL:https://jayceland.com/blog/event/passengers-screening-2017-feb-16-920-p-m/
LOCATION:Cinema Theatre\, 957 S. Clinton Ave.\, Rochester\, New York\, 14620\, United States
CATEGORIES:JayceLand 2017-Feb-16
END:VEVENT
END:VCALENDAR