BEGIN:VCALENDAR
VERSION:2.0
PRODID:-//JayceLand - ECPv6.15.20//NONSGML v1.0//EN
CALSCALE:GREGORIAN
METHOD:PUBLISH
X-WR-CALNAME:JayceLand
X-ORIGINAL-URL:https://jayceland.com/blog
X-WR-CALDESC:Events for JayceLand
REFRESH-INTERVAL;VALUE=DURATION:PT1H
X-Robots-Tag:noindex
X-PUBLISHED-TTL:PT1H
BEGIN:VTIMEZONE
TZID:America/New_York
BEGIN:DAYLIGHT
TZOFFSETFROM:-0500
TZOFFSETTO:-0400
TZNAME:EDT
DTSTART:20160313T070000
END:DAYLIGHT
BEGIN:STANDARD
TZOFFSETFROM:-0400
TZOFFSETTO:-0500
TZNAME:EST
DTSTART:20161106T060000
END:STANDARD
BEGIN:DAYLIGHT
TZOFFSETFROM:-0500
TZOFFSETTO:-0400
TZNAME:EDT
DTSTART:20170312T070000
END:DAYLIGHT
BEGIN:STANDARD
TZOFFSETFROM:-0400
TZOFFSETTO:-0500
TZNAME:EST
DTSTART:20171105T060000
END:STANDARD
BEGIN:DAYLIGHT
TZOFFSETFROM:-0500
TZOFFSETTO:-0400
TZNAME:EDT
DTSTART:20180311T070000
END:DAYLIGHT
BEGIN:STANDARD
TZOFFSETFROM:-0400
TZOFFSETTO:-0500
TZNAME:EST
DTSTART:20181104T060000
END:STANDARD
END:VTIMEZONE
BEGIN:VEVENT
DTSTART;TZID=America/New_York:20170214T121200
DTEND;TZID=America/New_York:20170214T141200
DTSTAMP:20260420T234844
CREATED:20170111T162436Z
LAST-MODIFIED:20170111T162436Z
UID:10781-1487074320-1487081520@jayceland.com
SUMMARY:Tuesday Topics Lecture by Norm Silverstein: "WXXI at 50 and Beyond"
DESCRIPTION:At today's Tuesday Topics in the Kate Gleason Auditorium of the Bausch and Lomb Library Building\, Norm Silverstein will present today's Tuesday Topics lecture titled WXXI at 50 and Beyond.  \nWXXI is celebrating five decades of public television in Rochester this year! Go back in time to hear about the studios in the old East High School and learn of the dedication of Harold Hacker and the founding trustees. Norm Silverstein will also present what WXXI offers today to advance education as well as support quality arts and culture programming in our community. \n [source: Friends and Foundation of the Rochester Public Library website\, 2017-Jan-9]
URL:https://jayceland.com/blog/event/tuesday-topics-lecture-by-norm-silverstein-wxxi-at-50-and-beyond/
LOCATION:Bausch and Lomb Library Building\, 110 South Ave.\, Rochester\, New York\, 14604\, United States
CATEGORIES:JayceLand 2017-Feb-9
END:VEVENT
BEGIN:VEVENT
DTSTART;TZID=America/New_York:20170214T170000
DTEND;TZID=America/New_York:20170214T190000
DTSTAMP:20260420T234844
CREATED:20170208T191210Z
LAST-MODIFIED:20170208T191210Z
UID:11260-1487091600-1487098800@jayceland.com
SUMMARY:Opening Reception\, Oodles
DESCRIPTION:The Sage Art Center will host an Opening Reception for Oodles in the Asis Gallery\, on display through February 24.  \nThings in great number can point to mass production\, obsessive behavior or even imply absence. Numbers can numb and overwhelm the viewer or establish comforting pattern and rhythm. University of Rochester students in the Markings\, Methods and Materials class exhibit work that investigates multiples and the implications of large quantities of things. \n [source: Rochester City Newspaper events calendar\, 2017-Feb-8]
URL:https://jayceland.com/blog/event/opening-reception-oodles/
LOCATION:Sage Art Center\, 835 Wilson Blvd.\, Rochester\, New York\, 14611\, United States
CATEGORIES:JayceLand 2017-Feb-9
END:VEVENT
BEGIN:VEVENT
DTSTART;TZID=America/New_York:20170214T190000
DTEND;TZID=America/New_York:20170214T211300
DTSTAMP:20260420T234844
CREATED:20170208T191209Z
LAST-MODIFIED:20170208T191209Z
UID:11246-1487098800-1487106780@jayceland.com
SUMMARY:Fantastic Beast and Where to Find Them screening (2017-Feb-14 @ 7 p.m.)
DESCRIPTION:The Cinema will screen Fantastic Beast and Where to Find Them (David Yates\, U.K. / U.S. 2016\, 133 min.) "The adventures of writer Newt Scamander in New York's secret community of witches and wizards seventy years before Harry Potter reads his book in school." [source: Cinema Theater coming soon page\, 2017-Feb-8]
URL:https://jayceland.com/blog/event/fantastic-beast-and-where-to-find-them-screening-2017-feb-14-7-p-m/
LOCATION:Cinema Theatre\, 957 S. Clinton Ave.\, Rochester\, New York\, 14620\, United States
CATEGORIES:JayceLand 2017-Feb-9
END:VEVENT
BEGIN:VEVENT
DTSTART;TZID=America/New_York:20170214T193000
DTEND;TZID=America/New_York:20170214T205700
DTSTAMP:20260420T234844
CREATED:20170208T191209Z
LAST-MODIFIED:20170208T191209Z
UID:11234-1487100600-1487105820@jayceland.com
SUMMARY:Choreography for Camera short films screening
DESCRIPTION:The Dryden Theatre will screen Choreography for Camera\, a short film program curated by Douglas Crimp including:  \n\nA Study in Choreography for Camera (Maya Deren\, U.S. 1945\, 4 min.\, 16mm)\nRitual in Transfigured Time (Maya Deren\, U.S. 1946\, 15 min.\, 16mm)\nMeditation on Violence (Maya Deren\, U.S. 1948\, 13 min.\, 16mm)\nThe Very Eye of Night (Maya Deren\, U.S. 1958\, 15 min.\, 16mm)\nDance in the Sun (Shirley Clarke\, U.S. 1953\, 8 min.\, 35mm)\nBullfight (Shirley Clarke\, U.S. 1955\, 9 min.\, 35mm)\nMoment in Love (Shirley Clarke\, U.S. 1956\, 10 min.\, 35mm)\nNine Variations on a Dance Theme (Hilary Harris\, U.S. 1966\, 13 min.\, 16mm)\n\nThe first installment of our series exploring the relationship between film and dance\, curated by Douglas Crimp\, features eight short historical landmarks of this particular intersection. Directed by three major American artists\, these groundbreaking classics are preoccupied mostly with idea of employing the specifics of cinematographic apparatus to create choreographies that surpass the limitations of stage and can only exist on film. \n [source: George Eastman Museum calendar\, 2017-Feb-6]
URL:https://jayceland.com/blog/event/choreography-for-camera-short-films-screening/
LOCATION:Dryden Theatre at George Eastman Museum (formerly George Eastman House)\, 900 East Ave.\, Rochester\, New York\, 14607\, United States
CATEGORIES:JayceLand 2017-Feb-9
END:VEVENT
BEGIN:VEVENT
DTSTART;TZID=America/New_York:20170214T212000
DTEND;TZID=America/New_York:20170214T231600
DTSTAMP:20260420T234844
CREATED:20170208T191209Z
LAST-MODIFIED:20170208T191209Z
UID:11253-1487107200-1487114160@jayceland.com
SUMMARY:Passengers screening (2017-Feb-14 @ 9:20 p.m.)
DESCRIPTION:The Cinema will screen Passengers (Morten Tyldum\, U.S. 2016\, 116 min.) "A spacecraft traveling to a distant colony planet and transporting thousands of people has a malfunction in its sleep chambers. As a result\, two passengers are awakened 90 years early." [source: Cinema Theater coming soon page\, 2017-Feb-8]
URL:https://jayceland.com/blog/event/passengers-screening-2017-feb-14-920-p-m/
LOCATION:Cinema Theatre\, 957 S. Clinton Ave.\, Rochester\, New York\, 14620\, United States
CATEGORIES:JayceLand 2017-Feb-9
END:VEVENT
END:VCALENDAR