BEGIN:VCALENDAR
VERSION:2.0
PRODID:-//JayceLand - ECPv6.15.20//NONSGML v1.0//EN
CALSCALE:GREGORIAN
METHOD:PUBLISH
X-WR-CALNAME:JayceLand
X-ORIGINAL-URL:https://jayceland.com/blog
X-WR-CALDESC:Events for JayceLand
REFRESH-INTERVAL;VALUE=DURATION:PT1H
X-Robots-Tag:noindex
X-PUBLISHED-TTL:PT1H
BEGIN:VTIMEZONE
TZID:America/New_York
BEGIN:DAYLIGHT
TZOFFSETFROM:-0500
TZOFFSETTO:-0400
TZNAME:EDT
DTSTART:20160313T070000
END:DAYLIGHT
BEGIN:STANDARD
TZOFFSETFROM:-0400
TZOFFSETTO:-0500
TZNAME:EST
DTSTART:20161106T060000
END:STANDARD
BEGIN:DAYLIGHT
TZOFFSETFROM:-0500
TZOFFSETTO:-0400
TZNAME:EDT
DTSTART:20170312T070000
END:DAYLIGHT
BEGIN:STANDARD
TZOFFSETFROM:-0400
TZOFFSETTO:-0500
TZNAME:EST
DTSTART:20171105T060000
END:STANDARD
BEGIN:DAYLIGHT
TZOFFSETFROM:-0500
TZOFFSETTO:-0400
TZNAME:EDT
DTSTART:20180311T070000
END:DAYLIGHT
BEGIN:STANDARD
TZOFFSETFROM:-0400
TZOFFSETTO:-0500
TZNAME:EST
DTSTART:20181104T060000
END:STANDARD
END:VTIMEZONE
BEGIN:VEVENT
DTSTART;TZID=America/New_York:20170126T210000
DTEND;TZID=America/New_York:20170127T020000
DTSTAMP:20260419T083314
CREATED:20170125T170416Z
LAST-MODIFIED:20170125T170416Z
UID:10991-1485464400-1485482400@jayceland.com
SUMMARY:Tyler Westcott\, Chris James and Mama G\, Brendan Gosson\, Cammy Enaharo\, Jackson Cavalier musical performances
DESCRIPTION:[source: Abilene website\, 2017-Jan-23]
URL:https://jayceland.com/blog/event/tyler-westcott-chris-james-and-mama-g-brendan-gosson-cammy-enaharo-jackson-cavalier-musical-performances/
LOCATION:Abilene Bar and Lounge\, 153 Liberty Pole Way\, Rochester\, New York\, 14604\, United States
CATEGORIES:JayceLand 2017-Jan-26
END:VEVENT
BEGIN:VEVENT
DTSTART;TZID=America/New_York:20170127T160000
DTEND;TZID=America/New_York:20170127T180000
DTSTAMP:20260419T083314
CREATED:20170125T170416Z
LAST-MODIFIED:20170125T170416Z
UID:10997-1485532800-1485540000@jayceland.com
SUMMARY:Opening Receptions for (Re)Invention: Art + Innovation + Disability + Design; Shakespeare in American Deaf History; Visual Communication Studies Faculty Show
DESCRIPTION:The Dyer Arts Center will host an Opening Reception for three simultaneous exhibits: (Re)Invention: Art + Innovation + Disability + Design (through March 4)\, Shakespeare in American Deaf History (through March 4)\, and Visual Communication Studies Faculty Show (through February 25). [source: NTID Campus Events and Activities page\, 2017-Jan-23]
URL:https://jayceland.com/blog/event/opening-receptions-for-reinvention-art-innovation-disability-design-shakespeare-in-american-deaf-history-visual-communication-studies-faculty-show/
LOCATION:Dyer Arts Center at NTID\, 52 Lomb Memorial Dr.\, Rochester\, New York\, 14623\, United States
CATEGORIES:JayceLand 2017-Jan-26
END:VEVENT
BEGIN:VEVENT
DTSTART;TZID=America/New_York:20170127T170000
DTEND;TZID=America/New_York:20170127T200000
DTSTAMP:20260419T083314
CREATED:20170125T170417Z
LAST-MODIFIED:20170125T170417Z
UID:11016-1485536400-1485547200@jayceland.com
SUMMARY:Opening Reception\, Colleen Buzzard: Entangled\, Scott Bye: What Happens
DESCRIPTION:At the Buffalo Arts Studio in the Tri-Main Center is the Opening Reception for Colleen Buzzard's Entangled\, and Scott Bye's What Happens\, on display through February 28. [source: flyer\, 2017-Jan-23]
URL:https://jayceland.com/blog/event/opening-reception-colleen-buzzard-entangled-scott-bye-what-happens/
LOCATION:Buffalo Arts Studio in the Tri-Main Center\, 2495 Main Street\, Suite 500\, Buffalo\, New York\, 14214\, United States
CATEGORIES:JayceLand 2017-Jan-26
END:VEVENT
BEGIN:VEVENT
DTSTART;TZID=America/New_York:20170127T190000
DTEND;TZID=America/New_York:20170127T205100
DTSTAMP:20260419T083314
CREATED:20170125T170418Z
LAST-MODIFIED:20170125T170418Z
UID:11017-1485543600-1485550260@jayceland.com
SUMMARY:Why Him? screening (2017-Jan-27 @ 7 p.m.)
DESCRIPTION:The Cinema will screen Why Him? (John Hamburg\, U.S. 2016\, 111 min.) "A holiday gathering threatens to go off the rails when Ned Fleming realizes that his daughter's Silicon Valley billionaire boyfriend is about to pop the question." [source: Cinema Theater coming soon page\, 2017-Jan-25]
URL:https://jayceland.com/blog/event/why-him-screening-2017-jan-27-7-p-m/
LOCATION:Cinema Theatre\, 957 S. Clinton Ave.\, Rochester\, New York\, 14620\, United States
CATEGORIES:JayceLand 2017-Jan-26
END:VEVENT
BEGIN:VEVENT
DTSTART;TZID=America/New_York:20170127T190000
DTEND;TZID=America/New_York:20170127T210000
DTSTAMP:20260419T083314
CREATED:20170125T170416Z
LAST-MODIFIED:20170125T170416Z
UID:10996-1485543600-1485550800@jayceland.com
SUMMARY:I Love Female Orgasm
DESCRIPTION:In Ingle Auditorium at RIT is a presentation of I <3 Female Orgasm.  \nJoin us and the Center for Women and Gender for a night of comedic sex ed with "I <3 Female Orgasm"! This event has been a high attendance fun event for the past few years already and we hope to continue that. Thank you to the Center for Campus Life\, Student Health Center\, and Residence Life for sponsorship. \n [source: RIT College Activities Board calendar\, 2017-Jan-23]
URL:https://jayceland.com/blog/event/i-love-female-orgasm/
LOCATION:Rochester Institute of Technology (RIT)\, 1 Lomb Memorial Dr.\, Rochester\, New York\, 14623\, United States
CATEGORIES:JayceLand 2017-Jan-26
END:VEVENT
BEGIN:VEVENT
DTSTART;TZID=America/New_York:20170127T193000
DTEND;TZID=America/New_York:20170127T210200
DTSTAMP:20260419T083314
CREATED:20170125T170417Z
LAST-MODIFIED:20170125T170417Z
UID:11003-1485545400-1485550920@jayceland.com
SUMMARY:Die Russen kommen (The Russians Are Coming) screening
DESCRIPTION:The Dryden will screen Die Russen kommen (The Russians Are Coming\, Heiner Carow\, East Germany 1971\, 92 min.\, DCP\, German w/ subtitles).  \nDirector Heiner Carow's semi-autobiographical story about sixteen-year-old Günter\, a member of the Hitler Youth who is part of the Nazis' last-ditch effort to resist the feared approaching Soviet Army\, did not get the approval for final production in 1968. Censors lamented the film's focus on an ordinary Nazi follower rather than an anti-fascist hero\, and objected to its "contamination with modernism." Today considered a classic of its era\, the film was finally released in East Germany in 1987. \n [source: George Eastman Museum calendar\, 2017-Jan-23]
URL:https://jayceland.com/blog/event/die-russen-kommen-the-russians-are-coming-screening/
LOCATION:Dryden Theatre at George Eastman Museum (formerly George Eastman House)\, 900 East Ave.\, Rochester\, New York\, 14607\, United States
CATEGORIES:JayceLand 2017-Jan-26
END:VEVENT
BEGIN:VEVENT
DTSTART;TZID=America/New_York:20170127T193000
DTEND;TZID=America/New_York:20170127T213000
DTSTAMP:20260419T083314
CREATED:20170125T170417Z
LAST-MODIFIED:20170125T170417Z
UID:11011-1485545400-1485552600@jayceland.com
SUMMARY:An Evening With Tony Trischka
DESCRIPTION:Tony Trischka is considered to be the consummate banjo artist and perhaps the most influential banjo player in the roots music world. For more than 45 years\, his stylings have inspired a whole generation of bluegrass and acoustic musicians with the many voices he has brought to the instrument. \n [source: Facebook\, 2017-Jan-23]
URL:https://jayceland.com/blog/event/an-evening-with-tony-trischka/
LOCATION:Bernunzio Uptown Music\, 122 East Ave.\, Rochester\, New York\, 14604\, United States
CATEGORIES:JayceLand 2017-Jan-26
END:VEVENT
BEGIN:VEVENT
DTSTART;TZID=America/New_York:20170127T205500
DTEND;TZID=America/New_York:20170127T225100
DTSTAMP:20260419T083314
CREATED:20170125T170418Z
LAST-MODIFIED:20170125T170418Z
UID:11026-1485550500-1485557460@jayceland.com
SUMMARY:Nocturnal Animals screening (2017-Jan-27 @ 8:55 p.m.)
DESCRIPTION:The Cinema will screen Nocturnal Animals (Tom Ford\, U.S. 2016\, 116 min.) "A wealthy art gallery owner is haunted by her ex-husband's novel\, a violent thriller she interprets as a symbolic revenge tale." [source: Cinema Theater coming soon page\, 2017-Jan-25]
URL:https://jayceland.com/blog/event/nocturnal-animals-screening-2017-jan-27-855-p-m/
LOCATION:Cinema Theatre\, 957 S. Clinton Ave.\, Rochester\, New York\, 14620\, United States
CATEGORIES:JayceLand 2017-Jan-26
END:VEVENT
BEGIN:VEVENT
DTSTART;TZID=America/New_York:20170127T210000
DTEND;TZID=America/New_York:20170127T230000
DTSTAMP:20260419T083314
CREATED:20170125T170416Z
LAST-MODIFIED:20170125T170416Z
UID:10994-1485550800-1485558000@jayceland.com
SUMMARY:Rock for Women's Rights: Melia\, Deborah Magone\, The Windshield Bugs\, Jane Evil and Zadoc Angell Acoustic musical performances
DESCRIPTION:The Montage is hosting a Rock for Women's Rights to support Planned Parenthood—Uniersity Avenue Health Center featuring music by Melia\, Deborah Magone\, The Windshield Bugs\, and Jane Evil and Zadoc Angell Acoustic. [source: Montage Music Hall website\, 2017-Jan-23]
URL:https://jayceland.com/blog/event/rock-for-womens-rights-melia-deborah-magone-the-windshield-bugs-jane-evil-and-zadoc-angell-acoustic-musical-performances/
LOCATION:Montage Music Hall\, 50 Chestnut St.\, Rochester\, New York\, 14604\, United States
CATEGORIES:JayceLand 2017-Jan-26
END:VEVENT
BEGIN:VEVENT
DTSTART;TZID=America/New_York:20170127T220000
DTEND;TZID=America/New_York:20170128T000000
DTSTAMP:20260419T083314
CREATED:20170125T170416Z
LAST-MODIFIED:20170125T170416Z
UID:10989-1485554400-1485561600@jayceland.com
SUMMARY:Handsome Jack\, Leus Zeus\, Planet Assassin musical performances
DESCRIPTION:The Bug Jar will host awesome\, wild\, blue-collar rock from Handsome Jack\, Leus Zeus\, and Planet Assassin. [source: Facebook\, 2017-Jan-23]
URL:https://jayceland.com/blog/event/handsome-jack-leus-zeus-planet-assassin-musical-performances/
LOCATION:Bug Jar\, 219 Monroe Ave\, Rochester\, New York\, 14607\, United States
CATEGORIES:JayceLand 2017-Jan-26
END:VEVENT
END:VCALENDAR