BEGIN:VCALENDAR
VERSION:2.0
PRODID:-//JayceLand - ECPv6.15.20//NONSGML v1.0//EN
CALSCALE:GREGORIAN
METHOD:PUBLISH
X-WR-CALNAME:JayceLand
X-ORIGINAL-URL:https://jayceland.com/blog
X-WR-CALDESC:Events for JayceLand
REFRESH-INTERVAL;VALUE=DURATION:PT1H
X-Robots-Tag:noindex
X-PUBLISHED-TTL:PT1H
BEGIN:VTIMEZONE
TZID:America/New_York
BEGIN:DAYLIGHT
TZOFFSETFROM:-0500
TZOFFSETTO:-0400
TZNAME:EDT
DTSTART:20160313T070000
END:DAYLIGHT
BEGIN:STANDARD
TZOFFSETFROM:-0400
TZOFFSETTO:-0500
TZNAME:EST
DTSTART:20161106T060000
END:STANDARD
BEGIN:DAYLIGHT
TZOFFSETFROM:-0500
TZOFFSETTO:-0400
TZNAME:EDT
DTSTART:20170312T070000
END:DAYLIGHT
BEGIN:STANDARD
TZOFFSETFROM:-0400
TZOFFSETTO:-0500
TZNAME:EST
DTSTART:20171105T060000
END:STANDARD
BEGIN:DAYLIGHT
TZOFFSETFROM:-0500
TZOFFSETTO:-0400
TZNAME:EDT
DTSTART:20180311T070000
END:DAYLIGHT
BEGIN:STANDARD
TZOFFSETFROM:-0400
TZOFFSETTO:-0500
TZNAME:EST
DTSTART:20181104T060000
END:STANDARD
END:VTIMEZONE
BEGIN:VEVENT
DTSTART;TZID=America/New_York:20170124T121200
DTEND;TZID=America/New_York:20170124T141200
DTSTAMP:20260423T235750
CREATED:20170111T162436Z
LAST-MODIFIED:20170111T162436Z
UID:10778-1485259920-1485267120@jayceland.com
SUMMARY:Tuesday Topics Lecture by Jody Gage: "Amerks with Jody Gage"
DESCRIPTION:At today's Tuesday Topics in the Kate Gleason Auditorium of the Bausch and Lomb Library Building\, Jody Gage will present today's Tuesday Topics lecture titled Amerks with Jody Gage.  \nFind out what's new with Rochester's own professional hockey team\, and hear stories of past and present seasons from Mr. Amerk himself. Gage is the Amerks' all-time leader in games played (728)\, goals (351)\, and assists (377). \n [source: Friends and Foundation of the Rochester Public Library website\, 2017-Jan-9]
URL:https://jayceland.com/blog/event/tuesday-topics-lecture-by-jody-gage-amerks-with-jody-gage/
LOCATION:Bausch and Lomb Library Building\, 110 South Ave.\, Rochester\, New York\, 14604\, United States
CATEGORIES:JayceLand 2017-Jan-19
END:VEVENT
BEGIN:VEVENT
DTSTART;TZID=America/New_York:20170124T190000
DTEND;TZID=America/New_York:20170124T205500
DTSTAMP:20260423T235750
CREATED:20170118T211309Z
LAST-MODIFIED:20170118T211309Z
UID:10924-1485284400-1485291300@jayceland.com
SUMMARY:Assassin's Creed screening (2017-Jan-24 @ 7 p.m.)
DESCRIPTION:The Cinema will screen Assassin's Creed (Justin Kurzel\, U.K. / France / Hong Kong / U.S. 2016\, 115 min.) "When Callum Lynch explores the memories of his ancestor Aguilar and gains the skills of a Master Assassin\, he discovers he is a descendant of the secret Assassins society." [source: Cinema Theater coming soon page\, 2017-Jan-18]
URL:https://jayceland.com/blog/event/assassins-creed-screening-2017-jan-24-7-p-m/
LOCATION:Cinema Theatre\, 957 S. Clinton Ave.\, Rochester\, New York\, 14620\, United States
CATEGORIES:JayceLand 2017-Jan-19
END:VEVENT
BEGIN:VEVENT
DTSTART;TZID=America/New_York:20170124T193000
DTEND;TZID=America/New_York:20170124T204100
DTSTAMP:20260423T235750
CREATED:20170118T211308Z
LAST-MODIFIED:20170118T211308Z
UID:10908-1485286200-1485290460@jayceland.com
SUMMARY:He Who Gets Slapped screening
DESCRIPTION:The Dryden will screen He Who Gets Slapped (Victor SjÃ¶strÃ¶m\, U.S. 1924\, 71 min.\, 35mm) with live piano accompaniment by Philip C. Carli\, as part of the Silent Tuesdays series.  \nLon Chaney\, the "Man of a Thousand Faces\," stars as an embittered inventor who faces humiliation by embracing the lifestyle of a circus clown. To deal with his daily feelings of betrayal\, he creates an act in which he is slapped around by his fellow clowns. Director SjÃ¶strÃ¶m\, Chaney\, and costars Norma Shearer and John Gilbert\, crafted one of the most emotional films of the silent era. \n [source: George Eastman Museum calendar\, 2017-Jan-16]
URL:https://jayceland.com/blog/event/he-who-gets-slapped-screening/
LOCATION:Dryden Theatre at George Eastman Museum (formerly George Eastman House)\, 900 East Ave.\, Rochester\, New York\, 14607\, United States
CATEGORIES:JayceLand 2017-Jan-19
END:VEVENT
BEGIN:VEVENT
DTSTART;TZID=America/New_York:20170124T193000
DTEND;TZID=America/New_York:20170124T213000
DTSTAMP:20260423T235750
CREATED:20170118T211308Z
LAST-MODIFIED:20170118T211308Z
UID:10910-1485286200-1485293400@jayceland.com
SUMMARY:Challenge Yourself: Unpredictable Outcomes from Obtuse Ideas
DESCRIPTION:The quilt world is full of bizarre ways to tease out work through themes\, and fabric choices. Powerpoint presentation at how Pat Pauly embraces a challenge\, sees a design decision\, and comes up with a solution no one else would think to make. \n [source: Rochester City Newspaper events calendar\, 2017-Jan-16]
URL:https://jayceland.com/blog/event/challenge-yourself-unpredictable-outcomes-from-obtuse-ideas/
LOCATION:Chapel Oaks at St. Ann's Adult Day Services\, 1550 Portland Ave.\, Rochester\, New York\, 14621\, United States
CATEGORIES:JayceLand 2017-Jan-19
END:VEVENT
BEGIN:VEVENT
DTSTART;TZID=America/New_York:20170124T200000
DTEND;TZID=America/New_York:20170124T220000
DTSTAMP:20260423T235750
CREATED:20170118T211308Z
LAST-MODIFIED:20170118T211308Z
UID:10902-1485288000-1485295200@jayceland.com
SUMMARY:2 Pages/2 Voices Play Readings
DESCRIPTION:Each year\, Writers and Books and Geva Theatre Center collaborate to present 2 Pages/2 Voices\, an evening of short plays written by area writers and read by area actors. Rules for submission are simple: Each play must be no more than two pages in length and contain no more than two characters. The only other stipulation is that at some point in the play the word "cell" must be included (in reference to this year's "Rochester Reads" choice\, The Enchanted by Rene Denfeld. \n [source: Writers and Books website\, 2017-Jan-16]
URL:https://jayceland.com/blog/event/2-pages2-voices-play-readings/
LOCATION:Writers & Books\, 740 University Ave.\, Rochester\, New York\, 14607\, United States
CATEGORIES:JayceLand 2017-Jan-19
END:VEVENT
BEGIN:VEVENT
DTSTART;TZID=America/New_York:20170124T210000
DTEND;TZID=America/New_York:20170124T222700
DTSTAMP:20260423T235750
CREATED:20170118T211309Z
LAST-MODIFIED:20170118T211309Z
UID:10931-1485291600-1485296820@jayceland.com
SUMMARY:The Eagle Huntress screening (2017-Jan-24 @ 9 p.m.)
DESCRIPTION:The Cinema will screen The Eagle Huntress (Otto Bell\, U.K. / Mongolia / U.S. 2016\, 87 min.) "The Eagle Huntress follows Aisholpan\, a 13-year-old girl\, as she trains to become the first female in twelve generations of her Kazakh family to become an eagle hunter." [source: Cinema Theater coming soon page\, 2017-Jan-18]
URL:https://jayceland.com/blog/event/the-eagle-huntress-screening-2017-jan-24-9-p-m/
LOCATION:Cinema Theatre\, 957 S. Clinton Ave.\, Rochester\, New York\, 14620\, United States
CATEGORIES:JayceLand 2017-Jan-19
END:VEVENT
END:VCALENDAR