BEGIN:VCALENDAR
VERSION:2.0
PRODID:-//JayceLand - ECPv6.15.20//NONSGML v1.0//EN
CALSCALE:GREGORIAN
METHOD:PUBLISH
X-ORIGINAL-URL:https://jayceland.com/blog
X-WR-CALDESC:Events for JayceLand
REFRESH-INTERVAL;VALUE=DURATION:PT1H
X-Robots-Tag:noindex
X-PUBLISHED-TTL:PT1H
BEGIN:VTIMEZONE
TZID:America/New_York
BEGIN:DAYLIGHT
TZOFFSETFROM:-0500
TZOFFSETTO:-0400
TZNAME:EDT
DTSTART:20160313T070000
END:DAYLIGHT
BEGIN:STANDARD
TZOFFSETFROM:-0400
TZOFFSETTO:-0500
TZNAME:EST
DTSTART:20161106T060000
END:STANDARD
BEGIN:DAYLIGHT
TZOFFSETFROM:-0500
TZOFFSETTO:-0400
TZNAME:EDT
DTSTART:20170312T070000
END:DAYLIGHT
BEGIN:STANDARD
TZOFFSETFROM:-0400
TZOFFSETTO:-0500
TZNAME:EST
DTSTART:20171105T060000
END:STANDARD
BEGIN:DAYLIGHT
TZOFFSETFROM:-0500
TZOFFSETTO:-0400
TZNAME:EDT
DTSTART:20180311T070000
END:DAYLIGHT
BEGIN:STANDARD
TZOFFSETFROM:-0400
TZOFFSETTO:-0500
TZNAME:EST
DTSTART:20181104T060000
END:STANDARD
END:VTIMEZONE
BEGIN:VEVENT
DTSTART;TZID=America/New_York:20170106T210000
DTEND;TZID=America/New_York:20170107T020000
DTSTAMP:20260423T115231
CREATED:20170104T181220Z
LAST-MODIFIED:20170104T181220Z
UID:10701-1483736400-1483754400@jayceland.com
SUMMARY:Art And Music Variety Show\, Verona Street Animal Shelter Benefit
DESCRIPTION:[source: Facebook\, 2017-Jan-2]
URL:https://jayceland.com/blog/event/art-and-music-variety-show-verona-street-animal-shelter-benefit/
LOCATION:Bug Jar\, 219 Monroe Ave\, Rochester\, New York\, 14607\, United States
CATEGORIES:JayceLand 2017-Jan-5
END:VEVENT
BEGIN:VEVENT
DTSTART;TZID=America/New_York:20170107T160000
DTEND;TZID=America/New_York:20170107T175500
DTSTAMP:20260423T115231
CREATED:20170104T181221Z
LAST-MODIFIED:20170104T181221Z
UID:10718-1483804800-1483811700@jayceland.com
SUMMARY:Doctor Strange screening (2017-Jan-7 @ 4 p.m.)
DESCRIPTION:The Cinema will screen Doctor Strange (Scott Derrickson\, U.S. 2016\, 115 min.) "A former neurosurgeon embarks on a journey of healing only to be drawn into the world of the mystic arts." [source: Cinema Theater coming soon page\, 2017-Jan-4]
URL:https://jayceland.com/blog/event/doctor-strange-screening-2017-jan-7-4-p-m/
LOCATION:Cinema Theatre\, 957 S. Clinton Ave.\, Rochester\, New York\, 14620\, United States
CATEGORIES:JayceLand 2017-Jan-5
END:VEVENT
BEGIN:VEVENT
DTSTART;TZID=America/New_York:20170107T190000
DTEND;TZID=America/New_York:20170107T211200
DTSTAMP:20260423T115231
CREATED:20170104T181220Z
LAST-MODIFIED:20170104T181220Z
UID:10705-1483815600-1483823520@jayceland.com
SUMMARY:Miss Sloane screening (2017-Jan-7 @ 7 p.m.)
DESCRIPTION:The Cinema will screen Miss Sloane (John Madden\, France / U.S. 2016\, 132 min.) "In the high-stakes world of political power-brokers\, Elizabeth Sloane is the most sought after and formidable lobbyist in D.C. But when taking on the most powerful opponent of her career\, she finds winning may come at too high a price." [source: Cinema Theater coming soon page\, 2017-Jan-4]
URL:https://jayceland.com/blog/event/miss-sloane-screening-2017-jan-7-7-p-m/
LOCATION:Cinema Theatre\, 957 S. Clinton Ave.\, Rochester\, New York\, 14620\, United States
CATEGORIES:JayceLand 2017-Jan-5
END:VEVENT
BEGIN:VEVENT
DTSTART;TZID=America/New_York:20170107T193000
DTEND;TZID=America/New_York:20170107T212000
DTSTAMP:20260423T115231
CREATED:20170104T181220Z
LAST-MODIFIED:20170104T181220Z
UID:10694-1483817400-1483824000@jayceland.com
SUMMARY:Johnny Guitar screening
DESCRIPTION:The Dryden will screen Johnny Guitar (Nicholas Ray\, U.S. 1954\, 110 min.\, 35mm) as part of the Ernest Borgnine series.  \nStrong-willed saloon-casino owner Vienna (Joan Crawford) squares off against her nemesis: the shrieking Emma Small (Mercedes McCambridge)\, who wrongly blames Vienna for her brother's death. One of the most resonant of all westerns because of its Freudian\, feminist and anti-Mccarthy hysteria themes\, it's also one of the most fun due to its eye-popping colors\, razor-sharp dialogue\, masterful direction\, and incredible cast\, which also includes Sterling Hayden and Ernest Borgnine. \n [source: George Eastman Museum calendar\, 2017-Jan-2]
URL:https://jayceland.com/blog/event/johnny-guitar-screening/
LOCATION:Dryden Theatre at George Eastman Museum (formerly George Eastman House)\, 900 East Ave.\, Rochester\, New York\, 14607\, United States
CATEGORIES:JayceLand 2017-Jan-5
END:VEVENT
BEGIN:VEVENT
DTSTART;TZID=America/New_York:20170107T193000
DTEND;TZID=America/New_York:20170107T213000
DTSTAMP:20260423T115231
CREATED:20170104T181220Z
LAST-MODIFIED:20170104T181220Z
UID:10699-1483817400-1483824600@jayceland.com
SUMMARY:WAYO's First Anniversary Concert\, Pengo\, Space is Haunted\, Slow Mutants musical performances
DESCRIPTION:The German House will host WAYO's First Anniversary Concert with something like semi-melodic fast-paced noise from Pengo\, Space is Haunted\, and Slow Mutants. [source: Carbon Records website\, 2017-Jan-2]
URL:https://jayceland.com/blog/event/wayos-first-anniversary-concert-pengo-space-is-haunted-slow-mutants-musical-performances/
LOCATION:German House\, 315 Gregory St.\, Rochester\, New York\, 14620\, United States
CATEGORIES:JayceLand 2017-Jan-5
END:VEVENT
BEGIN:VEVENT
DTSTART;TZID=America/New_York:20170107T211500
DTEND;TZID=America/New_York:20170107T231800
DTSTAMP:20260423T115231
CREATED:20170104T181221Z
LAST-MODIFIED:20170104T181221Z
UID:10712-1483823700-1483831080@jayceland.com
SUMMARY:Loving screening (2017-Jan-7 @ 9:15 p.m.)
DESCRIPTION:The Cinema will screen the wonderful (if simple) Loving (Jeff Nichols\, U.K. / U.S. 2016\, 123 min.) "The story of Richard and Mildred Loving\, an interracial couple\, whose challenge of their anti-miscegenation arrest for their marriage in Virginia led to a legal battle that would end at the U.S. Supreme Court." [source: Cinema Theater coming soon page\, 2017-Jan-4]
URL:https://jayceland.com/blog/event/loving-screening-2017-jan-7-915-p-m/
LOCATION:Cinema Theatre\, 957 S. Clinton Ave.\, Rochester\, New York\, 14620\, United States
CATEGORIES:JayceLand 2017-Jan-5
END:VEVENT
END:VCALENDAR