BEGIN:VCALENDAR
VERSION:2.0
PRODID:-//JayceLand - ECPv6.15.20//NONSGML v1.0//EN
CALSCALE:GREGORIAN
METHOD:PUBLISH
X-WR-CALNAME:JayceLand
X-ORIGINAL-URL:https://jayceland.com/blog
X-WR-CALDESC:Events for JayceLand
REFRESH-INTERVAL;VALUE=DURATION:PT1H
X-Robots-Tag:noindex
X-PUBLISHED-TTL:PT1H
BEGIN:VTIMEZONE
TZID:America/New_York
BEGIN:DAYLIGHT
TZOFFSETFROM:-0500
TZOFFSETTO:-0400
TZNAME:EDT
DTSTART:20150308T070000
END:DAYLIGHT
BEGIN:STANDARD
TZOFFSETFROM:-0400
TZOFFSETTO:-0500
TZNAME:EST
DTSTART:20151101T060000
END:STANDARD
BEGIN:DAYLIGHT
TZOFFSETFROM:-0500
TZOFFSETTO:-0400
TZNAME:EDT
DTSTART:20160313T070000
END:DAYLIGHT
BEGIN:STANDARD
TZOFFSETFROM:-0400
TZOFFSETTO:-0500
TZNAME:EST
DTSTART:20161106T060000
END:STANDARD
BEGIN:DAYLIGHT
TZOFFSETFROM:-0500
TZOFFSETTO:-0400
TZNAME:EDT
DTSTART:20170312T070000
END:DAYLIGHT
BEGIN:STANDARD
TZOFFSETFROM:-0400
TZOFFSETTO:-0500
TZNAME:EST
DTSTART:20171105T060000
END:STANDARD
END:VTIMEZONE
BEGIN:VEVENT
DTSTART;TZID=America/New_York:20161210T100000
DTEND;TZID=America/New_York:20161210T150000
DTSTAMP:20260422T021905
CREATED:20161207T181441Z
LAST-MODIFIED:20161207T181441Z
UID:10379-1481364000-1481382000@jayceland.com
SUMMARY:6th Annual Holiday Art Bazaar
DESCRIPTION:Join us at the Yards for our 6th Holiday Art Bazaar and take care of last minute holiday shopping while supporting your local makers! Our lineup features handmade wares\, fine art\, and great gift ideas from over 20 fantastic local artists. Free admission and super cozy vibes! \n [source: Facebook\, 2016-Dec-5]
URL:https://jayceland.com/blog/event/6th-annual-holiday-art-bazaar/
LOCATION:The Yards\, 50-52 Public Market\, Rochester\, New York\, 14609\, United States
CATEGORIES:JayceLand 2016-Dec-8
END:VEVENT
BEGIN:VEVENT
DTSTART;TZID=America/New_York:20161210T120000
DTEND;TZID=America/New_York:20161210T130000
DTSTAMP:20260422T021905
CREATED:20161207T181441Z
LAST-MODIFIED:20161207T181441Z
UID:10371-1481371200-1481374800@jayceland.com
SUMMARY:Focus 45: Virginia Dodier and Cheri Crist Staff: More Access\, More History
DESCRIPTION:The museum has just completed the first year of a three-year project\, Making More Available: Secure and Accessible Archives\, funded by the Institute of Museum and Library Services. Project staff will give an illustrated progress report and reveal some of the special items they have come across at the Richard and Ronay Menschel Library in their efforts to make archives and special collections more available. \n [source: George Eastman Museum website\, 2016-Dec-5]
URL:https://jayceland.com/blog/event/focus-45-virginia-dodier-and-cheri-crist-staff-more-access-more-history/
LOCATION:George Eastman Museum (formerly George Eastman House)\, 900 East Ave.\, Rochester\, New York\, 14607\, United States
CATEGORIES:JayceLand 2016-Dec-8
END:VEVENT
BEGIN:VEVENT
DTSTART;TZID=America/New_York:20161210T130000
DTEND;TZID=America/New_York:20161210T150000
DTSTAMP:20260422T021905
CREATED:20161207T181440Z
LAST-MODIFIED:20161207T181440Z
UID:10361-1481374800-1481382000@jayceland.com
SUMMARY:Workspace Resident Presentation: Max Bernstein\, Arisleyda Dilone
DESCRIPTION:Join us for a free afternoon artist presentation by our Winter Workspace Residents! The Workspace Residency is a jewel of our institution\, providing artists with time\, space\, and support to complete their projects\, while collaborating with Buffalo Game Space\, Buffalo Lab\, and Silo City. We are proud to host Max Bernstein (NYC/Buffalo) and Arisleyda Dilone (NYC) for our Winter residency! Each artist will be presenting on works they've completed in the past\, and their continuing practice. Each presentation will last approximately 45 minutes. \n [source: Squeaky Wheel website\, 2016-Dec-5]
URL:https://jayceland.com/blog/event/workspace-resident-presentation-max-bernstein-arisleyda-dilone/
LOCATION:Squeaky Wheel Film & Media Art Center\, 617 Main St.\, Buffalo\, New York\, 14203\, United States
CATEGORIES:JayceLand 2016-Dec-8
END:VEVENT
BEGIN:VEVENT
DTSTART;TZID=America/New_York:20161210T154500
DTEND;TZID=America/New_York:20161210T175300
DTSTAMP:20260422T021905
CREATED:20161207T181442Z
LAST-MODIFIED:20161207T181442Z
UID:10399-1481384700-1481392380@jayceland.com
SUMMARY:The Accountant screening (2016-Dec-10 @ 3:45 p.m.)
DESCRIPTION:The Cinema will screen The Accountant (Gavin O'Connor\, U.S. 2016\, 128 min.) "As a math savant uncooks the books for a new client\, the Treasury Department closes in on his activities and the body count starts to rise." [source: Cinema coming soon page\, 2016-Nov-30]
URL:https://jayceland.com/blog/event/the-accountant-screening-2016-dec-10-345-p-m/
LOCATION:Cinema Theatre\, 957 S. Clinton Ave.\, Rochester\, New York\, 14620\, United States
CATEGORIES:JayceLand 2016-Dec-8
END:VEVENT
BEGIN:VEVENT
DTSTART;TZID=America/New_York:20161210T190000
DTEND;TZID=America/New_York:20161210T205600
DTSTAMP:20260422T021905
CREATED:20161207T181441Z
LAST-MODIFIED:20161207T181441Z
UID:10386-1481396400-1481403360@jayceland.com
SUMMARY:A Man Called Ove screening (2016-Dec-10 @ 7 p.m.)
DESCRIPTION:The Cinema will screen the wonderful film\, A Man Called Ove (Hannes Holm\, Sweden 2015\, 116 min.) "Ove\, an ill-tempered\, isolated retiree who spends his days enforcing block association rules and visiting his wife's grave\, has finally given up on life just as an unlikely friendship develops with his boisterous new neighbors." [source: Cinema coming soon page\, 2016-Dec-7]
URL:https://jayceland.com/blog/event/a-man-called-ove-screening-2016-dec-10-7-p-m/
LOCATION:Cinema Theatre\, 957 S. Clinton Ave.\, Rochester\, New York\, 14620\, United States
CATEGORIES:JayceLand 2016-Dec-8
END:VEVENT
BEGIN:VEVENT
DTSTART;TZID=America/New_York:20161210T200000
DTEND;TZID=America/New_York:20161210T211000
DTSTAMP:20260422T021905
CREATED:20161207T181441Z
LAST-MODIFIED:20161207T181441Z
UID:10372-1481400000-1481404200@jayceland.com
SUMMARY:The Hitch-Hiker screening
DESCRIPTION:The Dryden will screen The Hitch-Hiker (Ida Lupino\, U.S. 1953\, 70 min.\, 35mm) as part of the Noir Effect series.  \nIda Lupino directs the story of two fisherman (Frank Lovejoy and Edmond O'Brien) taken hostage by the psychopathic\, mass-murdering title character (William Talman). The almost unbearably suspenseful dark jewel of Lupino's directorial career\, The Hitch-Hiker is also the only classical film noir ever directed by a woman. \n [source: George Eastman Museum website\, 2016-Dec-5]
URL:https://jayceland.com/blog/event/the-hitch-hiker-screening/
LOCATION:Dryden Theatre at George Eastman Museum (formerly George Eastman House)\, 900 East Ave.\, Rochester\, New York\, 14607\, United States
CATEGORIES:JayceLand 2016-Dec-8
END:VEVENT
BEGIN:VEVENT
DTSTART;TZID=America/New_York:20161210T200000
DTEND;TZID=America/New_York:20161210T220000
DTSTAMP:20260422T021905
CREATED:20161207T181441Z
LAST-MODIFIED:20161207T181441Z
UID:10367-1481400000-1481407200@jayceland.com
SUMMARY:Eastman Collegium Musicum musical performance
DESCRIPTION:[source: Eastman School of Music calendar\, 2016-Dec-5]
URL:https://jayceland.com/blog/event/eastman-collegium-musicum-musical-performance/
LOCATION:Kilbourn Hall at Eastman School of Music\, 60 Gibbs St.\, Rochester\, New York\, 14604\, United States
CATEGORIES:JayceLand 2016-Dec-8
END:VEVENT
BEGIN:VEVENT
DTSTART;TZID=America/New_York:20161210T210000
DTEND;TZID=America/New_York:20161210T224900
DTSTAMP:20260422T021905
CREATED:20161207T181442Z
LAST-MODIFIED:20161207T181442Z
UID:10393-1481403600-1481410140@jayceland.com
SUMMARY:Denial screening (2016-Dec-10 @ 9 p.m.)
DESCRIPTION:The Cinema will screen Denial (Mick Jackson\, U.K. / U.S. 2016\, 109 min.) "Acclaimed writer and historian Deborah E. Lipstadt must battle for historical truth to prove the Holocaust actually occurred when David Irving\, a renowned denier\, sues her for libel." [source: Cinema coming soon page\, 2016-Dec-7]
URL:https://jayceland.com/blog/event/denial-screening-2016-dec-10-9-p-m/
LOCATION:Cinema Theatre\, 957 S. Clinton Ave.\, Rochester\, New York\, 14620\, United States
CATEGORIES:JayceLand 2016-Dec-8
END:VEVENT
BEGIN:VEVENT
DTSTART;TZID=America/New_York:20161210T213000
DTEND;TZID=America/New_York:20161210T233000
DTSTAMP:20260422T021905
CREATED:20161207T181440Z
LAST-MODIFIED:20161207T181440Z
UID:10354-1481405400-1481412600@jayceland.com
SUMMARY:Shana Falana\, Buffalo Sex Change\, Cavalcade\, American Oil Company musical performances
DESCRIPTION:[source: Bug Jar calendar\, 2016-Dec-5]
URL:https://jayceland.com/blog/event/shana-falana-buffalo-sex-change-cavalcade-american-oil-company-musical-performances/
LOCATION:Bug Jar\, 219 Monroe Ave\, Rochester\, New York\, 14607\, United States
CATEGORIES:JayceLand 2016-Dec-8
END:VEVENT
BEGIN:VEVENT
DTSTART;TZID=America/New_York:20161210T213000
DTEND;TZID=America/New_York:20161211T000000
DTSTAMP:20260422T021905
CREATED:20161207T181441Z
LAST-MODIFIED:20161207T181441Z
UID:10380-1481405400-1481414400@jayceland.com
SUMMARY:KNOWER\, Overhand Sam\, The Saplings musical performances
DESCRIPTION:[source: Facebook\, 2016-Dec-5]
URL:https://jayceland.com/blog/event/knower-overhand-sam-the-saplings-musical-performances/
LOCATION:The Yards\, 50-52 Public Market\, Rochester\, New York\, 14609\, United States
CATEGORIES:JayceLand 2016-Dec-8
END:VEVENT
END:VCALENDAR