BEGIN:VCALENDAR
VERSION:2.0
PRODID:-//JayceLand - ECPv6.15.20//NONSGML v1.0//EN
CALSCALE:GREGORIAN
METHOD:PUBLISH
X-ORIGINAL-URL:https://jayceland.com/blog
X-WR-CALDESC:Events for JayceLand
REFRESH-INTERVAL;VALUE=DURATION:PT1H
X-Robots-Tag:noindex
X-PUBLISHED-TTL:PT1H
BEGIN:VTIMEZONE
TZID:America/New_York
BEGIN:DAYLIGHT
TZOFFSETFROM:-0500
TZOFFSETTO:-0400
TZNAME:EDT
DTSTART:20150308T070000
END:DAYLIGHT
BEGIN:STANDARD
TZOFFSETFROM:-0400
TZOFFSETTO:-0500
TZNAME:EST
DTSTART:20151101T060000
END:STANDARD
BEGIN:DAYLIGHT
TZOFFSETFROM:-0500
TZOFFSETTO:-0400
TZNAME:EDT
DTSTART:20160313T070000
END:DAYLIGHT
BEGIN:STANDARD
TZOFFSETFROM:-0400
TZOFFSETTO:-0500
TZNAME:EST
DTSTART:20161106T060000
END:STANDARD
BEGIN:DAYLIGHT
TZOFFSETFROM:-0500
TZOFFSETTO:-0400
TZNAME:EDT
DTSTART:20170312T070000
END:DAYLIGHT
BEGIN:STANDARD
TZOFFSETFROM:-0400
TZOFFSETTO:-0500
TZNAME:EST
DTSTART:20171105T060000
END:STANDARD
END:VTIMEZONE
BEGIN:VEVENT
DTSTART;TZID=America/New_York:20161204T131500
DTEND;TZID=America/New_York:20161204T145100
DTSTAMP:20260423T092941
CREATED:20161130T182551Z
LAST-MODIFIED:20161130T182551Z
UID:10280-1480857300-1480863060@jayceland.com
SUMMARY:Sully screening (2016-Dec-4 @ 1:15 p.m.)
DESCRIPTION:The Cinema will screen Sully (Clint Eastwood\, U.S. 2016\, 96 min.) "The story of Chesley Sullenberger\, an American pilot who became a hero after landing his damaged plane on the Hudson River in order to save the flight's passengers and crew." [source: Cinema coming soon page\, 2016-Nov-30]
URL:https://jayceland.com/blog/event/sully-screening-2016-dec-4-115-p-m/
LOCATION:Cinema Theatre\, 957 S. Clinton Ave.\, Rochester\, New York\, 14620\, United States
CATEGORIES:JayceLand 2016-Dec-1
END:VEVENT
BEGIN:VEVENT
DTSTART;TZID=America/New_York:20161204T140000
DTEND;TZID=America/New_York:20161204T153100
DTSTAMP:20260423T092941
CREATED:20161130T182550Z
LAST-MODIFIED:20161130T182550Z
UID:10255-1480860000-1480865460@jayceland.com
SUMMARY:Angel Face screening
DESCRIPTION:The Dryden will screen Angel Face (Otto Preminger\, U.S. 1952\, 91 min.\, 16mm) as part of the Noir Effect series.  \nPreminger's final film noir may be his most potent\, as ambulance driver Robert Mitchum is taken in by a young Jean Simmons after a near-death scare at her home. She convinces him to quit his job and leave his girlfriend to become the house chauffeur and move in with her\, all for the opportunity to race cars and open a garage. Preminger was never better than when directing noir\, as the enduring legacy of Laura and Where the Sidewalk Ends can attest\, but there may be no femme more fatale than in this film. \n [source: George Eastman Museum website\, 2016-Nov-28]
URL:https://jayceland.com/blog/event/angel-face-screening/
LOCATION:Dryden Theatre at George Eastman Museum (formerly George Eastman House)\, 900 East Ave.\, Rochester\, New York\, 14607\, United States
CATEGORIES:JayceLand 2016-Dec-1
END:VEVENT
BEGIN:VEVENT
DTSTART;TZID=America/New_York:20161204T150000
DTEND;TZID=America/New_York:20161204T160000
DTSTAMP:20260423T092941
CREATED:20161130T182551Z
LAST-MODIFIED:20161130T182551Z
UID:10284-1480863600-1480867200@jayceland.com
SUMMARY:A City Sings For The Season
DESCRIPTION:Rochester Oratorio Society (ROS) returns with the 3rd annual holiday celebration of music and dance! In addition to The Oratorio Society and its touring small ensemble Resonanz\, performances include the Hochstein Youth Singers\, the Dunwoody Dancers\, the Mt. Vernon Missionary Baptist Male Chorus and ROCMusic Collaborative. Donations of food items\, cash and personal care items are accepted at the door and benefit the Rochester Area Interfaith Hospitality Network (RAIHN). \n [source: City of Rochester website\, 2016-Nov-30]
URL:https://jayceland.com/blog/event/a-city-sings-for-the-season/
LOCATION:Sibley Tower Building\, 228 East Main St.\, Rochester\, New York\, 14604\, United States
CATEGORIES:JayceLand 2016-Dec-1
END:VEVENT
BEGIN:VEVENT
DTSTART;TZID=America/New_York:20161204T154500
DTEND;TZID=America/New_York:20161204T180200
DTSTAMP:20260423T092941
CREATED:20161130T182551Z
LAST-MODIFIED:20161130T182551Z
UID:10282-1480866300-1480874520@jayceland.com
SUMMARY:The Beatles: Eight Days a Week - The Touring Years screening (2016-Dec-4 @ 3:45 p.m.)
DESCRIPTION:The Cinema will screen The Beatles: Eight Days a Week – The Touring Years (Ron Howard\, U.K. / U.S. 2016\, 137 min.) "A compilation of found footage featuring music\, interviews\, and stories of The Beatles' 250 concerts from 1963 to 1966." [source: Cinema Theatre e-mail\, 2016-Nov-30]
URL:https://jayceland.com/blog/event/the-beatles-eight-days-a-week-the-touring-years-screening-2016-dec-4-345-p-m/
LOCATION:Cinema Theatre\, 957 S. Clinton Ave.\, Rochester\, New York\, 14620\, United States
CATEGORIES:JayceLand 2016-Dec-1
END:VEVENT
BEGIN:VEVENT
DTSTART;TZID=America/New_York:20161204T160000
DTEND;TZID=America/New_York:20161204T180000
DTSTAMP:20260423T092941
CREATED:20161130T182549Z
LAST-MODIFIED:20161130T182549Z
UID:10243-1480867200-1480874400@jayceland.com
SUMMARY:Eastman Mbira Ensemble musical performance
DESCRIPTION:The Eastman Mbira Ensemble will perform in the Eastman School Ray Wright Room. [source: Eastman School of Music calendar\, 2016-Nov-28]
URL:https://jayceland.com/blog/event/eastman-mbira-ensemble-musical-performance/
LOCATION:Eastman School of Music\, 26 Gibbs St.\, Rochester\, New York\, 14604\, United States
CATEGORIES:JayceLand 2016-Dec-1
END:VEVENT
BEGIN:VEVENT
DTSTART;TZID=America/New_York:20161204T190000
DTEND;TZID=America/New_York:20161204T210800
DTSTAMP:20260423T092941
CREATED:20161130T182551Z
LAST-MODIFIED:20161130T182551Z
UID:10267-1480878000-1480885680@jayceland.com
SUMMARY:The Accountant screening (2016-Dec-4 @ 7 p.m.)
DESCRIPTION:The Cinema will screen The Accountant (Gavin O'Connor\, U.S. 2016\, 128 min.) "As a math savant uncooks the books for a new client\, the Treasury Department closes in on his activities and the body count starts to rise." [source: Cinema coming soon page\, 2016-Nov-30]
URL:https://jayceland.com/blog/event/the-accountant-screening-2016-dec-4-7-p-m/
LOCATION:Cinema Theatre\, 957 S. Clinton Ave.\, Rochester\, New York\, 14620\, United States
CATEGORIES:JayceLand 2016-Dec-1
END:VEVENT
BEGIN:VEVENT
DTSTART;TZID=America/New_York:20161204T193000
DTEND;TZID=America/New_York:20161204T220000
DTSTAMP:20260423T092941
CREATED:20161130T182549Z
LAST-MODIFIED:20161130T182549Z
UID:10233-1480879800-1480888800@jayceland.com
SUMMARY:Bill Kirchen's Honky Tonk Holiday Show (2016-Dec-4 @ 7:30 p.m.)
DESCRIPTION:Grammy nominated guitarist\, singer and songwriter Bill Kirchen is one of the fortunate few who can step onto any stage\, play those trademark licks that drove his seminal Commander Cody classic Hot Rod Lincoln into the Top Ten\, and elicit instant recognition for a career that has spanned over 40 years and includes guitar work with Nick Lowe\, Emmylou Harris\, Doug Sahm\, Elvis Costello and many more. Named "A Titan of the Telecaster" by Guitar Player Magazine\, he celebrates an American musical tradition where rock 'n' roll and country music draws upon its origins in blues and bluegrass\, Western swing from Texas and California honky-tonk. \n [source: Bop Shop website\, 2016-Nov-28]
URL:https://jayceland.com/blog/event/bill-kirchens-honky-tonk-holiday-show-2016-dec-4-730-p-m/
LOCATION:Lovin' Cup\, 300 Park Point Dr.\, Rochester\, New York\, 14623\, United States
CATEGORIES:JayceLand 2016-Dec-1
END:VEVENT
BEGIN:VEVENT
DTSTART;TZID=America/New_York:20161204T211000
DTEND;TZID=America/New_York:20161204T225200
DTSTAMP:20260423T092941
CREATED:20161130T182551Z
LAST-MODIFIED:20161130T182551Z
UID:10274-1480885800-1480891920@jayceland.com
SUMMARY:The Girl on the Train screening (2016-Dec-4 @ 9:10 p.m.)
DESCRIPTION:The Cinema will screen The Girl on the Train (Tate Taylor\, U.S. 2016\, 102 min.) "A divorcee becomes entangled in a missing persons investigation that promises to send shockwaves throughout her life." [source: Cinema coming soon page\, 2016-Nov-30]
URL:https://jayceland.com/blog/event/the-girl-on-the-train-screening-2016-dec-4-910-p-m/
LOCATION:Cinema Theatre\, 957 S. Clinton Ave.\, Rochester\, New York\, 14620\, United States
CATEGORIES:JayceLand 2016-Dec-1
END:VEVENT
END:VCALENDAR