BEGIN:VCALENDAR
VERSION:2.0
PRODID:-//JayceLand - ECPv6.15.20//NONSGML v1.0//EN
CALSCALE:GREGORIAN
METHOD:PUBLISH
X-ORIGINAL-URL:https://jayceland.com/blog
X-WR-CALDESC:Events for JayceLand
REFRESH-INTERVAL;VALUE=DURATION:PT1H
X-Robots-Tag:noindex
X-PUBLISHED-TTL:PT1H
BEGIN:VTIMEZONE
TZID:America/New_York
BEGIN:DAYLIGHT
TZOFFSETFROM:-0500
TZOFFSETTO:-0400
TZNAME:EDT
DTSTART:20150308T070000
END:DAYLIGHT
BEGIN:STANDARD
TZOFFSETFROM:-0400
TZOFFSETTO:-0500
TZNAME:EST
DTSTART:20151101T060000
END:STANDARD
BEGIN:DAYLIGHT
TZOFFSETFROM:-0500
TZOFFSETTO:-0400
TZNAME:EDT
DTSTART:20160313T070000
END:DAYLIGHT
BEGIN:STANDARD
TZOFFSETFROM:-0400
TZOFFSETTO:-0500
TZNAME:EST
DTSTART:20161106T060000
END:STANDARD
BEGIN:DAYLIGHT
TZOFFSETFROM:-0500
TZOFFSETTO:-0400
TZNAME:EDT
DTSTART:20170312T070000
END:DAYLIGHT
BEGIN:STANDARD
TZOFFSETFROM:-0400
TZOFFSETTO:-0500
TZNAME:EST
DTSTART:20171105T060000
END:STANDARD
END:VTIMEZONE
BEGIN:VEVENT
DTSTART;TZID=America/New_York:20161028T183000
DTEND;TZID=America/New_York:20161028T210000
DTSTAMP:20260421T014503
CREATED:20161026T194105Z
LAST-MODIFIED:20161026T194105Z
UID:9600-1477679400-1477688400@jayceland.com
SUMMARY:The Landmark Society Ghost Walk (2016-Oct-28 @ 6:30 p.m.)
DESCRIPTION:A night-time guided walking tour down the darkened streets off East Avenue. Follow lantern-bearing guides and encounter Rochesterians Recently Returned from the Grave\, each with a true history gory story to perform. All on an incredibly atmospheric historic street. Our 23rd year — the original and the best! \n [source: Celebrate City Living website\, 2016-Oct-24]
URL:https://jayceland.com/blog/event/the-landmark-society-ghost-walk-2016-oct-28-630-p-m/
LOCATION:Lutheran Church of the Incarnate Word\, 597 East Ave.\, Rochester\, New York\, 14607\, United States
CATEGORIES:JayceLand 2016-Oct-27
END:VEVENT
BEGIN:VEVENT
DTSTART;TZID=America/New_York:20161028T190000
DTEND;TZID=America/New_York:20161028T210300
DTSTAMP:20260421T014503
CREATED:20161026T194105Z
LAST-MODIFIED:20161026T194105Z
UID:9610-1477681200-1477688580@jayceland.com
SUMMARY:Bridget Jones's Baby screening (2016-Oct-28 @ 7 p.m.)
DESCRIPTION:The Cinema will screen Bridget Jones's Baby (Sharon Maguire\, Ireland / U.K. / France / U.S. 2016\, 123 min.) "Bridget's focus on single life and her career is interrupted when she finds herself pregnant\, but with one hitch … she can only be fifty percent sure of the identity of her baby's father." [source: Cinema coming soon page\, 2016-Oct-26]
URL:https://jayceland.com/blog/event/bridget-joness-baby-screening-2016-oct-28-7-p-m/
LOCATION:Cinema Theatre\, 957 S. Clinton Ave.\, Rochester\, New York\, 14620\, United States
CATEGORIES:JayceLand 2016-Oct-27
END:VEVENT
BEGIN:VEVENT
DTSTART;TZID=America/New_York:20161028T193000
DTEND;TZID=America/New_York:20161028T213000
DTSTAMP:20260421T014503
CREATED:20161019T225931Z
LAST-MODIFIED:20161019T225931Z
UID:9447-1477683000-1477690200@jayceland.com
SUMMARY:The Just Assassins by Albert Camus theatrical perfomrance (2016-Oct-28 @ 7:30 p.m.)
DESCRIPTION:Terror stalks the Russian elite\, while insurgents craft their bombs and plan for revolution. The Just Assassins\, based on the true story of the assassination of Grand Duke Sergei Alexandrovich in 1905\, explores the moral intersect of religion\, socialism and terrorism in a gripping drama ripe for the times. \n [source: Bread and Water Theatre website\, 2016-Oct-17]
URL:https://jayceland.com/blog/event/the-just-assassins-by-albert-camus-theatrical-perfomrance-2016-oct-28-730-p-m/
LOCATION:Bread and Water Theatre\, 172 W. Main St.\, Rochester\, New York\, United States
CATEGORIES:JayceLand 2016-Oct-27
END:VEVENT
BEGIN:VEVENT
DTSTART;TZID=America/New_York:20161028T200000
DTEND;TZID=America/New_York:20161028T220000
DTSTAMP:20260421T014503
CREATED:20161026T194100Z
LAST-MODIFIED:20161026T194100Z
UID:9576-1477684800-1477692000@jayceland.com
SUMMARY:Claude La Flamme\, Kinloch Nelson musical performances
DESCRIPTION:Claude La Flamme\, and talented singer-guitarist Kinloch Nelson perform at Bernunzio's.  \nFresh from concerts at the Woodstock Luthier's Invitational and the National Harp Guitar Gathering\, Canadian touring and recording artist Claude La Flamme brings his 20 string harp guitar to Kinloch Nelson's Guitar Artistry series for a night of original music on this unique member of the guitar family. \n [source: Bernunzio Uptown Music website\, 2016-Oct-24]
URL:https://jayceland.com/blog/event/claude-la-flamme-kinloch-nelson-musical-performances/
LOCATION:Bernunzio Uptown Music\, 122 East Ave.\, Rochester\, New York\, 14604\, United States
CATEGORIES:JayceLand 2016-Oct-27
END:VEVENT
BEGIN:VEVENT
DTSTART;TZID=America/New_York:20161028T200000
DTEND;TZID=America/New_York:20161028T221500
DTSTAMP:20260421T014503
CREATED:20161026T194104Z
LAST-MODIFIED:20161026T194104Z
UID:9591-1477684800-1477692900@jayceland.com
SUMMARY:Matewan screening (2016-Oct-28 @ 8 p.m.)
DESCRIPTION:The Dryden will screen Matewan (John Sayles\, U.S. 1987\, 135 min.\, 35mm).  \nBased on the 1920 showdown between coal miners determined to form a union and coal company agents hired to prevent them\, this is one of the classic films about American labor. Trying to unite the miners\, organizer Joe Kenehan explains\, "They got you fightin' white against colored\, native against foreign\, hollow against hollow\, when you know there ain't but two sides in this world—them that work and them that don't. You work\, they don't. That's all you got to know about the enemy." Seeing an original 35mm print of Haskell Wexler's cinematography on the big screen is an experience not to be missed. \n [source: George Eastman Museum website\, 2016-Oct-24]
URL:https://jayceland.com/blog/event/matewan-screening-2016-oct-28-8-p-m/
LOCATION:Dryden Theatre at George Eastman Museum (formerly George Eastman House)\, 900 East Ave.\, Rochester\, New York\, 14607\, United States
CATEGORIES:JayceLand 2016-Oct-27
END:VEVENT
BEGIN:VEVENT
DTSTART;TZID=America/New_York:20161028T210000
DTEND;TZID=America/New_York:20161028T224000
DTSTAMP:20260421T014503
CREATED:20161026T194100Z
LAST-MODIFIED:20161026T194100Z
UID:9568-1477688400-1477694400@jayceland.com
SUMMARY:Willy Wonka and The Chocolate Factory screening (2016-Oct-28 @ 9 p.m.)
DESCRIPTION:The Little will screen Willy Wonka and The Chocolate Factory (Mel Stuart\, U.S. 1971\, 100 min.) as part of the Mondo Movie Series.  \nThe last of five coveted "golden tickets" falls into the hands of a sweet but very poor boy. He and his grandpa then get a tour of the strangest chocolate factory in the world. The owner leads five young winners on a thrilling and often dangerous tour of his factory. Also\, there are Oompa Loompas. \n [source: Little Theatre website\, 2016-Oct-24]
URL:https://jayceland.com/blog/event/willy-wonka-and-the-chocolate-factory-screening-2016-oct-28-9-p-m/
LOCATION:Little Theatre\, 240 East Ave. #100\, Rochester\, New York\, 14604\, United States
CATEGORIES:JayceLand 2016-Oct-27
END:VEVENT
BEGIN:VEVENT
DTSTART;TZID=America/New_York:20161028T210000
DTEND;TZID=America/New_York:20161028T230000
DTSTAMP:20260421T014503
CREATED:20161026T194105Z
LAST-MODIFIED:20161026T194105Z
UID:9603-1477688400-1477695600@jayceland.com
SUMMARY:Thunder Body\, Danielle Ponder and the Tomorrow People musical performances
DESCRIPTION:Good\, crowd-pleasing reggae from Thunder Body\, and Danielle Ponder and the Tomorrow People perform at Anthology. [source: Facebook\, 2016-Oct-24]
URL:https://jayceland.com/blog/event/thunder-body-danielle-ponder-and-the-tomorrow-people-musical-performances/
LOCATION:Anthology\, 336 East Ave.\, Rochester\, New York\, 14604\, United States
CATEGORIES:JayceLand 2016-Oct-27
END:VEVENT
BEGIN:VEVENT
DTSTART;TZID=America/New_York:20161028T210000
DTEND;TZID=America/New_York:20161028T234500
DTSTAMP:20260421T014503
CREATED:20161026T194104Z
LAST-MODIFIED:20161026T194104Z
UID:9589-1477688400-1477698300@jayceland.com
SUMMARY:Museum of the Dead: Alive Again
DESCRIPTION:Be spooked\, entertained\, and enlightened at the MAG Museum of the Dead: Alive Again. We will have the musical stylings of DJ Alykhan\, tastings from Tommy Rotter Distillery\, signature drinks and food for purchase from Brown Hound Downtown. Of course\, there will be a costume contest and De-Tours. \n [source: MAG website\, 2016-Oct-24]
URL:https://jayceland.com/blog/event/museum-of-the-dead-alive-again/
LOCATION:Memorial Art Gallery\, 500 University Ave.\, Rochester\, New York\, 14607\, United States
CATEGORIES:JayceLand 2016-Oct-27
END:VEVENT
BEGIN:VEVENT
DTSTART;TZID=America/New_York:20161028T210500
DTEND;TZID=America/New_York:20161028T230500
DTSTAMP:20260421T014503
CREATED:20161026T194106Z
LAST-MODIFIED:20161026T194106Z
UID:9617-1477688700-1477695900@jayceland.com
SUMMARY:Masterminds screening (2016-Oct-28 @ 9:05 p.m.)
DESCRIPTION:The Cinema will screen Masterminds (Jared Hess\, U.S. 2016\,  min.) "A guard at an armored car company in the Southern U.S. organizes one of the biggest bank heists in American history. Based on the October 1997 Loomis Fargo robbery." [source: Cinema coming soon page\, 2016-Oct-26]
URL:https://jayceland.com/blog/event/masterminds-screening-2016-oct-28-905-p-m/
LOCATION:Cinema Theatre\, 957 S. Clinton Ave.\, Rochester\, New York\, 14620\, United States
CATEGORIES:JayceLand 2016-Oct-27
END:VEVENT
BEGIN:VEVENT
DTSTART;TZID=America/New_York:20161028T213000
DTEND;TZID=America/New_York:20161028T233000
DTSTAMP:20260421T014503
CREATED:20161026T194100Z
LAST-MODIFIED:20161026T194100Z
UID:9572-1477690200-1477697400@jayceland.com
SUMMARY:TriBeCaStan musical performance
DESCRIPTION:Radically multicultural and poly-stylistic\, New York City's TriBeCaStan is one of contemporary music's most vibrantly eclectic ensembles\, using diverse instruments to create an infectious\, exotic dance music. Nestled in the heart of New York's bustling urban sprawl lies a sonic oasis in which the sounds of Africa meet New York loft jazz\, Balkan rhythms merge with Appalachian bluegrass\, and traditional Afghan melodies mingle with good old American rock 'n' roll. Here folk instruments from all over the world coexist in harmony (and mayhem) with funky rhythms\, wailing reeds and punch brass. Blending multifarious cultures TriBeCaStan aims to tear down the barriers between American music\, world\, and jazz. The result is a virtuosic and exuberant collaboration between some of New York's finest jazz and world musicians-many of whom have played and collaborated with legendary innovators\, including Ornette Coleman\, Mahavishnu Orchestra\, Sting\, Carlos Santana\, Violent Femmes\, John Corigliano\, James Brown\, Taj Mahal\, Willy Deville and Eddie Harris. Long-time fixtures of the band feature co-founders/multi-instrumentalists John Kruth and Jeff Greene\, along with Claire Daly (New York's baritone sax goddess)\, Kenny Margolis (keyboard and accordion with Willy Deville)\, Premik Russell Tubbs on saxes and lap steel guitar (John McLaughlin\, Sting) and Ray Peterson (bassist with jazz legend Eddie Harris)\, along with many other greats. In the words of the New York Times\, "Zappa-esque…genre-bending jazz and world-music." \n [source: Abilene website\, 2016-Oct-24]
URL:https://jayceland.com/blog/event/tribecastan-musical-performance/
LOCATION:Abilene Bar and Lounge\, 153 Liberty Pole Way\, Rochester\, New York\, 14604\, United States
CATEGORIES:JayceLand 2016-Oct-27
END:VEVENT
END:VCALENDAR