BEGIN:VCALENDAR
VERSION:2.0
PRODID:-//JayceLand - ECPv6.15.20//NONSGML v1.0//EN
CALSCALE:GREGORIAN
METHOD:PUBLISH
X-ORIGINAL-URL:https://jayceland.com/blog
X-WR-CALDESC:Events for JayceLand
REFRESH-INTERVAL;VALUE=DURATION:PT1H
X-Robots-Tag:noindex
X-PUBLISHED-TTL:PT1H
BEGIN:VTIMEZONE
TZID:America/New_York
BEGIN:DAYLIGHT
TZOFFSETFROM:-0500
TZOFFSETTO:-0400
TZNAME:EDT
DTSTART:20150308T070000
END:DAYLIGHT
BEGIN:STANDARD
TZOFFSETFROM:-0400
TZOFFSETTO:-0500
TZNAME:EST
DTSTART:20151101T060000
END:STANDARD
BEGIN:DAYLIGHT
TZOFFSETFROM:-0500
TZOFFSETTO:-0400
TZNAME:EDT
DTSTART:20160313T070000
END:DAYLIGHT
BEGIN:STANDARD
TZOFFSETFROM:-0400
TZOFFSETTO:-0500
TZNAME:EST
DTSTART:20161106T060000
END:STANDARD
BEGIN:DAYLIGHT
TZOFFSETFROM:-0500
TZOFFSETTO:-0400
TZNAME:EDT
DTSTART:20170312T070000
END:DAYLIGHT
BEGIN:STANDARD
TZOFFSETFROM:-0400
TZOFFSETTO:-0500
TZNAME:EST
DTSTART:20171105T060000
END:STANDARD
END:VTIMEZONE
BEGIN:VEVENT
DTSTART;TZID=America/New_York:20160921T120000
DTEND;TZID=America/New_York:20160921T130000
DTSTAMP:20260423T085815
CREATED:20160914T165744Z
LAST-MODIFIED:20160914T165744Z
UID:8815-1474459200-1474462800@jayceland.com
SUMMARY:Subject to Change Book Discussions: two books on living creatively
DESCRIPTION:"Big Magic" by Elizabeth Gilbert and "Art and Fear" by David Bayles and Ted Orland both explore how fear can keep us from living a creative life. No need to read the books ahead of time- join a librarian from the Arts Division to discuss ideas about creativity and the myths surrounding artmaking. \n [source: Monroe County Library website\, 2016-Sep-12]
URL:https://jayceland.com/blog/event/subject-to-change-book-discussions-two-books-on-living-creatively/
LOCATION:Rundel Library Building\, 115 South Ave.\, Rochester\, New York\, 14604\, United States
CATEGORIES:JayceLand 2016-Sep-15
END:VEVENT
BEGIN:VEVENT
DTSTART;TZID=America/New_York:20160921T190000
DTEND;TZID=America/New_York:20160921T203700
DTSTAMP:20260423T085815
CREATED:20160914T165745Z
LAST-MODIFIED:20160914T165745Z
UID:8846-1474484400-1474490220@jayceland.com
SUMMARY:Mechanic: Resurrection screening (2016-Sep-21 @ 7 p.m.)
DESCRIPTION:The Cinema will screen Mechanic: Resurrection (Dennis Gansel\, France / U.S. 2016\, 97 min.) "Arthur Bishop thought he had put his murderous past behind him when his most formidable foe kidnaps the love of his life. Now he is forced to travel the globe to complete three impossible assassinations\, and do what he does best\, make them look like accidents." [source: Cinema coming soon page\, 2016-Sep-14]
URL:https://jayceland.com/blog/event/mechanic-resurrection-screening-2016-sep-21-7-p-m/
LOCATION:Cinema Theatre\, 957 S. Clinton Ave.\, Rochester\, New York\, 14620\, United States
CATEGORIES:JayceLand 2016-Sep-15
END:VEVENT
BEGIN:VEVENT
DTSTART;TZID=America/New_York:20160921T190000
DTEND;TZID=America/New_York:20160921T210000
DTSTAMP:20260423T085815
CREATED:20160914T165744Z
LAST-MODIFIED:20160914T165744Z
UID:8814-1474484400-1474491600@jayceland.com
SUMMARY:Lost Steamship Discoveries in Lake Ontario with Jim Kennard
DESCRIPTION:Join Jim Kennard as he looks at five steamships lost off the southern shore of Lake Ontario between 1862 and 1926. These steamships have been discovered by Jim's shipwreck exploration team during the past ten years. We will hear about Bay State\, the steamer\, built in 1852 and the oldest propeller drive steamer to have been discovered (2015) so far in Lake Ontario; the only two steel steamers\, Roberval (1916) and Nesbit Grammer (1926) lost in Lake Ontario; the mid-lake burning of the steamer Samuel Hodge; and the destruction of the Homer Warren by a fierce northwest gale. \n [source: Monroe County Library website\, 2016-Sep-12]
URL:https://jayceland.com/blog/event/lost-steamship-discoveries-in-lake-ontario-with-jim-kennard/
LOCATION:Chili Public Library\, 3333 Chili Ave.\, Chili\, New York\, 14624\, United States
CATEGORIES:JayceLand 2016-Sep-15
END:VEVENT
BEGIN:VEVENT
DTSTART;TZID=America/New_York:20160921T200000
DTEND;TZID=America/New_York:20160921T214800
DTSTAMP:20260423T085815
CREATED:20160914T165744Z
LAST-MODIFIED:20160914T165744Z
UID:8819-1474488000-1474494480@jayceland.com
SUMMARY:The Thoughts That Once We Had screening
DESCRIPTION:The Dryden will screen The Thoughts That Once We Had (Thom Andersen\, U.S. 2015\, 108 min.\, DCP).  \nDescribed in an opening text as a "personal history of cinema\, partially inspired by Gilles Deleuze\," The Thoughts That Once We Had from master cinematic essayist Thom Andersen (Los Angeles Plays Itself) is a richly digressive journey through cinema. A found-footage film composed entirely of unidentified\, yet often recognizable film clips and concise intertitles written by Andersen\, Thoughts leaps associatively across a vast territory spanning from Griffith to Godard\, using dynamically cinematic images and sequences not to explain\, but to embody Deleuzian ideas in all their rich ambiguity and nuance. \n [source: George Eastman Museum website\, 2016-Sep-12]
URL:https://jayceland.com/blog/event/the-thoughts-that-once-we-had-screening/
LOCATION:Dryden Theatre at George Eastman Museum (formerly George Eastman House)\, 900 East Ave.\, Rochester\, New York\, 14607\, United States
CATEGORIES:JayceLand 2016-Sep-15
END:VEVENT
BEGIN:VEVENT
DTSTART;TZID=America/New_York:20160921T204000
DTEND;TZID=America/New_York:20160921T222000
DTSTAMP:20260423T085815
CREATED:20160914T165745Z
LAST-MODIFIED:20160914T165745Z
UID:8853-1474490400-1474496400@jayceland.com
SUMMARY:Gleason screening (2016-Sep-21 @ 8:40 p.m.)
DESCRIPTION:The Cinema will screen Gleason (Clay Tweel\, U.S. 2016\, 100 min.) "After he is diagnosed with ALS\, former professional football player Steve Gleason begins making a video diary for his unborn son\, as he\, his wife\, and their friends and family work to raise money for ALS patients as his disease progresses." [source: Cinema coming soon page\, 2016-Sep-14]
URL:https://jayceland.com/blog/event/gleason-screening-2016-sep-21-840-p-m/
LOCATION:Cinema Theatre\, 957 S. Clinton Ave.\, Rochester\, New York\, 14620\, United States
CATEGORIES:JayceLand 2016-Sep-15
END:VEVENT
END:VCALENDAR