BEGIN:VCALENDAR
VERSION:2.0
PRODID:-//JayceLand - ECPv6.15.20//NONSGML v1.0//EN
CALSCALE:GREGORIAN
METHOD:PUBLISH
X-WR-CALNAME:JayceLand
X-ORIGINAL-URL:https://jayceland.com/blog
X-WR-CALDESC:Events for JayceLand
REFRESH-INTERVAL;VALUE=DURATION:PT1H
X-Robots-Tag:noindex
X-PUBLISHED-TTL:PT1H
BEGIN:VTIMEZONE
TZID:America/New_York
BEGIN:DAYLIGHT
TZOFFSETFROM:-0500
TZOFFSETTO:-0400
TZNAME:EDT
DTSTART:20150308T070000
END:DAYLIGHT
BEGIN:STANDARD
TZOFFSETFROM:-0400
TZOFFSETTO:-0500
TZNAME:EST
DTSTART:20151101T060000
END:STANDARD
BEGIN:DAYLIGHT
TZOFFSETFROM:-0500
TZOFFSETTO:-0400
TZNAME:EDT
DTSTART:20160313T070000
END:DAYLIGHT
BEGIN:STANDARD
TZOFFSETFROM:-0400
TZOFFSETTO:-0500
TZNAME:EST
DTSTART:20161106T060000
END:STANDARD
BEGIN:DAYLIGHT
TZOFFSETFROM:-0500
TZOFFSETTO:-0400
TZNAME:EDT
DTSTART:20170312T070000
END:DAYLIGHT
BEGIN:STANDARD
TZOFFSETFROM:-0400
TZOFFSETTO:-0500
TZNAME:EST
DTSTART:20171105T060000
END:STANDARD
END:VTIMEZONE
BEGIN:VEVENT
DTSTART;TZID=America/New_York:20160918T090000
DTEND;TZID=America/New_York:20160918T160000
DTSTAMP:20260422T042248
CREATED:20160914T165745Z
LAST-MODIFIED:20160914T165745Z
UID:8833-1474189200-1474214400@jayceland.com
SUMMARY:Artist Row (2016-Sep-18 @ 9 a.m.)
DESCRIPTION:Artists Row is not just your average art show. With over 180 new and emerging artists this event truly showcases the creativity of our community. \n [source: Celebrate City Living website\, 2016-Sep-12]
URL:https://jayceland.com/blog/event/artist-row-2016-sep-18-9-a-m/
LOCATION:Rochester Public Market\, 280 N. Union St.\, Rochester\, New York\, 14609\, United States
CATEGORIES:JayceLand 2016-Sep-15
END:VEVENT
BEGIN:VEVENT
DTSTART;TZID=America/New_York:20160918T120000
DTEND;TZID=America/New_York:20160918T180000
DTSTAMP:20260422T042248
CREATED:20160914T165745Z
LAST-MODIFIED:20160914T165745Z
UID:8832-1474200000-1474221600@jayceland.com
SUMMARY:The Rochester Maker's Market (2016-Sep-18 @ 12 p.m.)
DESCRIPTION:Featuring handmade artisanal furniture\, jewelry\, artwork\, and more from Rochester's finest artisanal makers and showcasing their hand made talent. The market will be a place to buy\, sell\, network and mingle with Rochester's artisans. The expo will be an ideal networking opportunity to connect with customers in Rochester looking to find one of a kind art and artisanal pieces. \n [source: Celebrate City Living website\, 2016-Sep-12]
URL:https://jayceland.com/blog/event/the-rochester-makers-market-2016-sep-18-12-p-m/
LOCATION:540WMain Community Arts Education and Cultural Center\, 540 W. Main St.\, Rochester\, New York\, 14608\, United States
CATEGORIES:JayceLand 2016-Sep-15
END:VEVENT
BEGIN:VEVENT
DTSTART;TZID=America/New_York:20160918T130000
DTEND;TZID=America/New_York:20160918T140000
DTSTAMP:20260422T042248
CREATED:20160914T165744Z
LAST-MODIFIED:20160914T165744Z
UID:8827-1474203600-1474207200@jayceland.com
SUMMARY:"Leading the way : Eastman and oral health" by Elizabeth Brayer book presentation and signing
DESCRIPTION:Elizabeth Brayer will present a lecture on her new book titled Leading the way : Eastman and oral health in the Curtis Theatre of the George Eastman Museum.  \nAuthor Elizabeth Brayer will discuss George Eastman's contributions to the dental health of Rochesterians\, in a conversation with Cyril Meyerowitz\, DDS\, MS\, of the School of Medicine and Dentistry\, University of Rochester. Book signing to follow.  \n [source: George Eastman Museum website\, 2016-Sep-12]
URL:https://jayceland.com/blog/event/leading-the-way-eastman-and-oral-health-by-elizabeth-brayer-book-presentation-and-signing/
LOCATION:George Eastman Museum (formerly George Eastman House)\, 900 East Ave.\, Rochester\, New York\, 14607\, United States
CATEGORIES:JayceLand 2016-Sep-15
END:VEVENT
BEGIN:VEVENT
DTSTART;TZID=America/New_York:20160918T130000
DTEND;TZID=America/New_York:20160918T150000
DTSTAMP:20260422T042248
CREATED:20160914T165745Z
LAST-MODIFIED:20160914T165745Z
UID:8840-1474203600-1474210800@jayceland.com
SUMMARY:Open House\, Paul Shina lecture "Auburn Road"
DESCRIPTION:Rail historian Paul Shinal will be giving a presentation about the "Auburn Road" railroad line during the open house. A large collection of historical artifacts from the Lehigh Valley Railroad is on display at the museum. \n [source: City Newspaper events calendar\, 2016-Sep-14]
URL:https://jayceland.com/blog/event/open-house-paul-shina-lecture-auburn-road/
LOCATION:Lehigh Valley Railroad Historical Society Station Museum\, 8 E. High St.\, Shortsville\, New York\, 14548\, United States
CATEGORIES:JayceLand 2016-Sep-15
END:VEVENT
BEGIN:VEVENT
DTSTART;TZID=America/New_York:20160918T140000
DTEND;TZID=America/New_York:20160918T150000
DTSTAMP:20260422T042248
CREATED:20160914T165744Z
LAST-MODIFIED:20160914T165744Z
UID:8806-1474207200-1474210800@jayceland.com
SUMMARY:The Handmade Orchestra musical performance
DESCRIPTION:"Music you have never heard on instruments you have never seen." This is the credo of The Handmade Orchestra. They are a group of musicians — ranging from beginners to professionals — who use their imaginations to build unconventional instruments. Everything from fishing poles\, satellite dishes\, and PVC piping have been coaxed into sound-making forms. The show also includes real-time art work projections and animated movement. A fun and very Fringe-friendly show for sure! \n [source: Bernunzio Uptown Music website\, 2016-Sep-12]
URL:https://jayceland.com/blog/event/the-handmade-orchestra-musical-performance/
LOCATION:Bernunzio Uptown Music\, 122 East Ave.\, Rochester\, New York\, 14604\, United States
CATEGORIES:JayceLand 2016-Sep-15
END:VEVENT
BEGIN:VEVENT
DTSTART;TZID=America/New_York:20160918T140000
DTEND;TZID=America/New_York:20160918T151100
DTSTAMP:20260422T042248
CREATED:20160914T165744Z
LAST-MODIFIED:20160914T165744Z
UID:8823-1474207200-1474211460@jayceland.com
SUMMARY:Muddy Track screening
DESCRIPTION:The Dryden will screen Muddy Track (Bernard Shakey\, U.S. 1987\, 71 min.\, DCP) as part of the Rochester Fringe Festival.  \nBernard Shakey takes the viewer on a trip through the 1987 Neil Young and Crazy Horse European Tour\, with much of the story captured by Young's handheld camera "Otto." A soundtrack drenched in feedback and distortion punctuates a look into life on the road from the artist's point of view. \n [source: George Eastman Museum website\, 2016-Sep-12]
URL:https://jayceland.com/blog/event/muddy-track-screening/
LOCATION:Dryden Theatre at George Eastman Museum (formerly George Eastman House)\, 900 East Ave.\, Rochester\, New York\, 14607\, United States
CATEGORIES:JayceLand 2016-Sep-15
END:VEVENT
BEGIN:VEVENT
DTSTART;TZID=America/New_York:20160918T140000
DTEND;TZID=America/New_York:20160918T154300
DTSTAMP:20260422T042248
CREATED:20160914T165743Z
LAST-MODIFIED:20160914T165743Z
UID:8796-1474207200-1474213380@jayceland.com
SUMMARY:3000 Layla (3000 Nights) screening
DESCRIPTION:The Little will screen 3000 Layla (3000 Nights\, Mai Masri\, Occupied Palestinian Territory / France / Jordan / Lebanon / United Arab Emirates / Qatar 2015\, 103 min.) followed by a panel discussion including one of the film's actors\, Hana Chamoun\, as part of the 2016 Witness Palestine Film Series.  \n\n\nSince 1948 over 700\,000 Palestinians have been detained in Israeli prisons\nIn November 1983\, the PLO obtained the release of 4\,765 Palestinian and Lebanese prisoners in exchange for 6 Israeli soldiers capture in south Lebanon\nThere are now over 6\,000 Palestinian men\, women\, and children in Israeli prisons\n\n  This is the story of one of them\, Layla Asfour\, who is arrested in the opening scene\, blindfolded\, handcuffed\, and taken to an Israeli women's detention center housing Israeli and Palestinian prisoners. After significant interrogation\, she gets a lawyer\, a perfunctory trial\, and a sentence of 8 years in prison\, about the time mentioned in the title. \n [source: Little Theatre website\, 2016-Sep-12]
URL:https://jayceland.com/blog/event/3000-layla-3000-nights-screening/
LOCATION:Little Theatre\, 240 East Ave. #100\, Rochester\, New York\, 14604\, United States
CATEGORIES:JayceLand 2016-Sep-15
END:VEVENT
BEGIN:VEVENT
DTSTART;TZID=America/New_York:20160918T190000
DTEND;TZID=America/New_York:20160918T203700
DTSTAMP:20260422T042248
CREATED:20160914T165745Z
LAST-MODIFIED:20160914T165745Z
UID:8843-1474225200-1474231020@jayceland.com
SUMMARY:Mechanic: Resurrection screening (2016-Sep-18 @ 7 p.m.)
DESCRIPTION:The Cinema will screen Mechanic: Resurrection (Dennis Gansel\, France / U.S. 2016\, 97 min.) "Arthur Bishop thought he had put his murderous past behind him when his most formidable foe kidnaps the love of his life. Now he is forced to travel the globe to complete three impossible assassinations\, and do what he does best\, make them look like accidents." [source: Cinema coming soon page\, 2016-Sep-14]
URL:https://jayceland.com/blog/event/mechanic-resurrection-screening-2016-sep-18-7-p-m/
LOCATION:Cinema Theatre\, 957 S. Clinton Ave.\, Rochester\, New York\, 14620\, United States
CATEGORIES:JayceLand 2016-Sep-15
END:VEVENT
BEGIN:VEVENT
DTSTART;TZID=America/New_York:20160918T204000
DTEND;TZID=America/New_York:20160918T222000
DTSTAMP:20260422T042248
CREATED:20160914T165745Z
LAST-MODIFIED:20160914T165745Z
UID:8850-1474231200-1474237200@jayceland.com
SUMMARY:Gleason screening (2016-Sep-18 @ 8:40 p.m.)
DESCRIPTION:The Cinema will screen Gleason (Clay Tweel\, U.S. 2016\, 100 min.) "After he is diagnosed with ALS\, former professional football player Steve Gleason begins making a video diary for his unborn son\, as he\, his wife\, and their friends and family work to raise money for ALS patients as his disease progresses." [source: Cinema coming soon page\, 2016-Sep-14]
URL:https://jayceland.com/blog/event/gleason-screening-2016-sep-18-840-p-m/
LOCATION:Cinema Theatre\, 957 S. Clinton Ave.\, Rochester\, New York\, 14620\, United States
CATEGORIES:JayceLand 2016-Sep-15
END:VEVENT
BEGIN:VEVENT
DTSTART;TZID=America/New_York:20160918T210000
DTEND;TZID=America/New_York:20160918T230000
DTSTAMP:20260422T042248
CREATED:20160914T165744Z
LAST-MODIFIED:20160914T165744Z
UID:8803-1474232400-1474239600@jayceland.com
SUMMARY:Periodic Table of Elephants\, Ryan Sutherland\, S.E. Kelton musical performances
DESCRIPTION:[source: Bug Jar calendar\, 2016-Sep-12]
URL:https://jayceland.com/blog/event/periodic-table-of-elephants-ryan-sutherland-s-e-kelton-musical-performances/
LOCATION:Bug Jar\, 219 Monroe Ave\, Rochester\, New York\, 14607\, United States
CATEGORIES:JayceLand 2016-Sep-15
END:VEVENT
END:VCALENDAR