BEGIN:VCALENDAR
VERSION:2.0
PRODID:-//JayceLand - ECPv6.15.20//NONSGML v1.0//EN
CALSCALE:GREGORIAN
METHOD:PUBLISH
X-ORIGINAL-URL:https://jayceland.com/blog
X-WR-CALDESC:Events for JayceLand
REFRESH-INTERVAL;VALUE=DURATION:PT1H
X-Robots-Tag:noindex
X-PUBLISHED-TTL:PT1H
BEGIN:VTIMEZONE
TZID:America/New_York
BEGIN:DAYLIGHT
TZOFFSETFROM:-0500
TZOFFSETTO:-0400
TZNAME:EDT
DTSTART:20150308T070000
END:DAYLIGHT
BEGIN:STANDARD
TZOFFSETFROM:-0400
TZOFFSETTO:-0500
TZNAME:EST
DTSTART:20151101T060000
END:STANDARD
BEGIN:DAYLIGHT
TZOFFSETFROM:-0500
TZOFFSETTO:-0400
TZNAME:EDT
DTSTART:20160313T070000
END:DAYLIGHT
BEGIN:STANDARD
TZOFFSETFROM:-0400
TZOFFSETTO:-0500
TZNAME:EST
DTSTART:20161106T060000
END:STANDARD
BEGIN:DAYLIGHT
TZOFFSETFROM:-0500
TZOFFSETTO:-0400
TZNAME:EDT
DTSTART:20170312T070000
END:DAYLIGHT
BEGIN:STANDARD
TZOFFSETFROM:-0400
TZOFFSETTO:-0500
TZNAME:EST
DTSTART:20171105T060000
END:STANDARD
END:VTIMEZONE
BEGIN:VEVENT
DTSTART;TZID=America/New_York:20160916T160000
DTEND;TZID=America/New_York:20160916T190000
DTSTAMP:20260422T184059
CREATED:20160914T165744Z
LAST-MODIFIED:20160914T165744Z
UID:8807-1474041600-1474052400@jayceland.com
SUMMARY:Bike Rack Bash at the Tip of the Triangle
DESCRIPTION:Come celebrate the neighborhood and your new bike racks at the Culver-Merchants Point! Meet the bike rack artists\, enjoy food and drink from local businesses\, listen to live music\, learn about community bicycling organizations\, and more! \n [source: Nextdoor page\, 2016-Sep-12]
URL:https://jayceland.com/blog/event/bike-rack-bash-at-the-tip-of-the-triangle/
LOCATION:Culver-Merchants Point\, 1382 Culver Rd.\, Rochester\, New York\, 14609\, United States
CATEGORIES:JayceLand 2016-Sep-15
END:VEVENT
BEGIN:VEVENT
DTSTART;TZID=America/New_York:20160916T180000
DTEND;TZID=America/New_York:20160916T203000
DTSTAMP:20260422T184059
CREATED:20160914T165745Z
LAST-MODIFIED:20160914T165745Z
UID:8835-1474048800-1474057800@jayceland.com
SUMMARY:Stand with Standing Rock: Benefit for the DAPL Resistance\, Pickled Brain from Outer Space\, Green Dreams musical performances
DESCRIPTION:[source: Facebook\, 2016-Sep-12]
URL:https://jayceland.com/blog/event/stand-with-standing-rock-benefit-for-the-dapl-resistance-pickled-brain-from-outer-space-green-dreams-musical-performances/
LOCATION:Abilene Bar and Lounge\, 153 Liberty Pole Way\, Rochester\, New York\, 14604\, United States
CATEGORIES:JayceLand 2016-Sep-15
END:VEVENT
BEGIN:VEVENT
DTSTART;TZID=America/New_York:20160916T180000
DTEND;TZID=America/New_York:20160916T210000
DTSTAMP:20260422T184059
CREATED:20160914T165744Z
LAST-MODIFIED:20160914T165744Z
UID:8818-1474048800-1474059600@jayceland.com
SUMMARY:We Felt it Desirable Opening Reception
DESCRIPTION:Genesee Center for the Arts is hosting an Opening Reception for We Felt it Desirable by Lynne Hobaica\, and Oktavia Schreiner\, on display through September 24.  \nThe gallery will be open for viewers to stop in and watch throughout the creation process. The exhibition will remain open through to Saturday\, September 24th. We Felt it Desirable is a collaboration between artists\, Lynne Hobaica and Oktavia Schreiner. Inspired by the traditional Japanese wishing heads\, Darumas\, this exhibition was created as a symbol for our strongest desires and an attempt to tie two worlds together. \n [source: Genesee Center for the Arts and Education website\, 2016-Sep-12]
URL:https://jayceland.com/blog/event/we-felt-it-desirable-opening-reception/
LOCATION:Genesee Center for the Arts\, 713 Monroe Ave.\, Rochester\, New York\, 14607\, United States
CATEGORIES:JayceLand 2016-Sep-15
END:VEVENT
BEGIN:VEVENT
DTSTART;TZID=America/New_York:20160916T190000
DTEND;TZID=America/New_York:20160916T203700
DTSTAMP:20260422T184059
CREATED:20160914T165745Z
LAST-MODIFIED:20160914T165745Z
UID:8841-1474052400-1474058220@jayceland.com
SUMMARY:Mechanic: Resurrection screening (2016-Sep-16 @ 7 p.m.)
DESCRIPTION:The Cinema will screen Mechanic: Resurrection (Dennis Gansel\, France / U.S. 2016\, 97 min.) "Arthur Bishop thought he had put his murderous past behind him when his most formidable foe kidnaps the love of his life. Now he is forced to travel the globe to complete three impossible assassinations\, and do what he does best\, make them look like accidents." [source: Cinema coming soon page\, 2016-Sep-14]
URL:https://jayceland.com/blog/event/mechanic-resurrection-screening-2016-sep-16-7-p-m/
LOCATION:Cinema Theatre\, 957 S. Clinton Ave.\, Rochester\, New York\, 14620\, United States
CATEGORIES:JayceLand 2016-Sep-15
END:VEVENT
BEGIN:VEVENT
DTSTART;TZID=America/New_York:20160916T190000
DTEND;TZID=America/New_York:20160916T220000
DTSTAMP:20260422T184059
CREATED:20160914T165744Z
LAST-MODIFIED:20160914T165744Z
UID:8808-1474052400-1474063200@jayceland.com
SUMMARY:Julianna Barwick\, Cammie Enharo\, Joe Clark musical performances
DESCRIPTION:[source: South Wedge Mission website\, 2016-Sep-12]
URL:https://jayceland.com/blog/event/julianna-barwick-cammie-enharo-joe-clark-musical-performances/
LOCATION:South Wedge Mission\, 125 Caroline St.\, Rochester\, New York\, 14620\, United States
CATEGORIES:JayceLand 2016-Sep-15
END:VEVENT
BEGIN:VEVENT
DTSTART;TZID=America/New_York:20160916T200000
DTEND;TZID=America/New_York:20160916T214500
DTSTAMP:20260422T184059
CREATED:20160914T165744Z
LAST-MODIFIED:20160914T165744Z
UID:8824-1474056000-1474062300@jayceland.com
SUMMARY:At Any Price screening
DESCRIPTION:The Dryden will screen At Any Price (Ramin Bahrani\, U.S. 2012\, 105 min.\, 35mm) as part of the Labor Film Series.  \nIn this parable\, Willie Loman meets Monsanto. Henry Whipple (Dennis Quaid) is a flawed Iowa corn farmer and a sales rep for a GMO seed company\, under pressure both to expand his territory and to increase his harvest—"Go big or die." Bahrani (Man Push Cart) addresses timeless themes: fathers and sons\, ambition and rebellion\, solidarity and self-interest\, morality and survival\, and\, ultimately\, the death of dreams. The film is an unsettling and introspective take on the influence of economic and social forces on an American everyman. \n [source: George Eastman Museum website\, 2016-Sep-12]
URL:https://jayceland.com/blog/event/at-any-price-screening/
LOCATION:Dryden Theatre at George Eastman Museum (formerly George Eastman House)\, 900 East Ave.\, Rochester\, New York\, 14607\, United States
CATEGORIES:JayceLand 2016-Sep-15
END:VEVENT
BEGIN:VEVENT
DTSTART;TZID=America/New_York:20160916T200000
DTEND;TZID=America/New_York:20160916T220000
DTSTAMP:20260422T184059
CREATED:20160914T165744Z
LAST-MODIFIED:20160914T165744Z
UID:8816-1474056000-1474063200@jayceland.com
SUMMARY:Krish Mohan Comedy Show
DESCRIPTION:[source: Boulder Coffee calendar\, 2016-Sep-12]
URL:https://jayceland.com/blog/event/krish-mohan-comedy-show/
LOCATION:Boulder Coffee\, South Wedge\, 100 Alexander St.\, Rochester\, New York\, 14620\, United States
CATEGORIES:JayceLand 2016-Sep-15
END:VEVENT
BEGIN:VEVENT
DTSTART;TZID=America/New_York:20160916T204000
DTEND;TZID=America/New_York:20160916T222000
DTSTAMP:20260422T184059
CREATED:20160914T165745Z
LAST-MODIFIED:20160914T165745Z
UID:8848-1474058400-1474064400@jayceland.com
SUMMARY:Gleason screening (2016-Sep-16 @ 8:40 p.m.)
DESCRIPTION:The Cinema will screen Gleason (Clay Tweel\, U.S. 2016\, 100 min.) "After he is diagnosed with ALS\, former professional football player Steve Gleason begins making a video diary for his unborn son\, as he\, his wife\, and their friends and family work to raise money for ALS patients as his disease progresses." [source: Cinema coming soon page\, 2016-Sep-14]
URL:https://jayceland.com/blog/event/gleason-screening-2016-sep-16-840-p-m/
LOCATION:Cinema Theatre\, 957 S. Clinton Ave.\, Rochester\, New York\, 14620\, United States
CATEGORIES:JayceLand 2016-Sep-15
END:VEVENT
BEGIN:VEVENT
DTSTART;TZID=America/New_York:20160916T210000
DTEND;TZID=America/New_York:20160916T223100
DTSTAMP:20260422T184059
CREATED:20160914T165743Z
LAST-MODIFIED:20160914T165743Z
UID:8795-1474059600-1474065060@jayceland.com
SUMMARY:The Money Pit screening
DESCRIPTION:The Little will screen The Money Pit (Richard Benjamin\, U.S. 1986\, 91 min.) as part of the Mondo Movie Series.  \nAttorney Walter Fielding (Tom Hanks) and his musician lover Anna Crowley (Shelley Long) are forced out of their home of two years by its owner\, Mr. Crowley (who has been on a tour of Europe). With few alternatives\, they decide to buy an incredibly cheap fixer-upper on Long Island and do the work themselves. Unfortunately\, the couple soon learns that the house is a lemon\, intent on eating up all their time and money. \n [source: Little Theatre website\, 2016-Sep-12]
URL:https://jayceland.com/blog/event/the-money-pit-screening/
LOCATION:Little Theatre\, 240 East Ave. #100\, Rochester\, New York\, 14604\, United States
CATEGORIES:JayceLand 2016-Sep-15
END:VEVENT
BEGIN:VEVENT
DTSTART;TZID=America/New_York:20160916T210000
DTEND;TZID=America/New_York:20160916T230000
DTSTAMP:20260422T184059
CREATED:20160914T165745Z
LAST-MODIFIED:20160914T165745Z
UID:8836-1474059600-1474066800@jayceland.com
SUMMARY:Isotopes musical performance
DESCRIPTION:Lux presents a great stage show and excellent surf-based rock from The Isotopes. [source: Facebook\, 2016-Sep-12]
URL:https://jayceland.com/blog/event/isotopes-musical-performance/
LOCATION:Lux Lounge\, 666 South Ave.\, Rochester\, New York\, 14620\, United States
CATEGORIES:JayceLand 2016-Sep-15
END:VEVENT
BEGIN:VEVENT
DTSTART;TZID=America/New_York:20160916T220000
DTEND;TZID=America/New_York:20160917T000000
DTSTAMP:20260422T184059
CREATED:20160914T165743Z
LAST-MODIFIED:20160914T165743Z
UID:8805-1474063200-1474070400@jayceland.com
SUMMARY:Dex Romweber\, JD Wilkes musical performances
DESCRIPTION:Born the 7th son of a coal miner's daughter in 1966\, Dexter Romweber has grown up to become nothing less than an icon of the American music underground. Former frontman for the world famous psycho-surf-rockabilly-garage-punk combo Flat Duo Jets\, Dex released his first of seventeen albums in 1990 to rave reviews worldwide. He starred alongside R.E.M. and The B-52s in the 1987 cult classic film Athens\, Ga. Inside Out. His first national tour in 1990 was as opening act for The Cramps. He was showcased on MTV's The Cutting Edge and 120 Minutes\, appeared with the Flat Duo Jets in videos such as "Wild Wild Lover" and "Radioactive Man\," mad a stunning performance on Late Night with David Letterman\, and has shared the stage with dozens of rock's underground kings including Iggy Pop\, the White Stripes\, Link Wray\, Reverend Horton Heat and many\, many others. Dex's unique blend of rockabilly\, swing\, surf instrumental\, and punk lounge has influenced and launched an entire generation of bands. \n [source: Abilene website\, 2016-Sep-12]
URL:https://jayceland.com/blog/event/dex-romweber-jd-wilkes-musical-performances/
LOCATION:Abilene Bar and Lounge\, 153 Liberty Pole Way\, Rochester\, New York\, 14604\, United States
CATEGORIES:JayceLand 2016-Sep-15
END:VEVENT
END:VCALENDAR