BEGIN:VCALENDAR
VERSION:2.0
PRODID:-//JayceLand - ECPv6.15.20//NONSGML v1.0//EN
CALSCALE:GREGORIAN
METHOD:PUBLISH
X-WR-CALNAME:JayceLand
X-ORIGINAL-URL:https://jayceland.com/blog
X-WR-CALDESC:Events for JayceLand
REFRESH-INTERVAL;VALUE=DURATION:PT1H
X-Robots-Tag:noindex
X-PUBLISHED-TTL:PT1H
BEGIN:VTIMEZONE
TZID:America/New_York
BEGIN:DAYLIGHT
TZOFFSETFROM:-0500
TZOFFSETTO:-0400
TZNAME:EDT
DTSTART:20150308T070000
END:DAYLIGHT
BEGIN:STANDARD
TZOFFSETFROM:-0400
TZOFFSETTO:-0500
TZNAME:EST
DTSTART:20151101T060000
END:STANDARD
BEGIN:DAYLIGHT
TZOFFSETFROM:-0500
TZOFFSETTO:-0400
TZNAME:EDT
DTSTART:20160313T070000
END:DAYLIGHT
BEGIN:STANDARD
TZOFFSETFROM:-0400
TZOFFSETTO:-0500
TZNAME:EST
DTSTART:20161106T060000
END:STANDARD
BEGIN:DAYLIGHT
TZOFFSETFROM:-0500
TZOFFSETTO:-0400
TZNAME:EDT
DTSTART:20170312T070000
END:DAYLIGHT
BEGIN:STANDARD
TZOFFSETFROM:-0400
TZOFFSETTO:-0500
TZNAME:EST
DTSTART:20171105T060000
END:STANDARD
END:VTIMEZONE
BEGIN:VEVENT
DTSTART;TZID=America/New_York:20160915T133000
DTEND;TZID=America/New_York:20160915T153000
DTSTAMP:20260422T050605
CREATED:20160914T165744Z
LAST-MODIFIED:20160914T165744Z
UID:8811-1473946200-1473953400@jayceland.com
SUMMARY:From Age-ing to Sage-ing: Elderhood and Spirituality
DESCRIPTION:So you're getting older. What does that mean? Based on the New Vision of Growing Older by Zalman Schachter-Shalomi and Ronald S. Miller\, these workshops will reflect on our personal experiences of aging\, look at models of aging from various cultures\, and revisit our framework for aging and creating meaning in our later lives. \n [source: Monroe County Library website\, 2016-Sep-12]
URL:https://jayceland.com/blog/event/from-age-ing-to-sage-ing-elderhood-and-spirituality/
LOCATION:Irondequoit Public Library\, 1290 Titus Ave.\, Rochester\, New York\, 14617\, United States
CATEGORIES:JayceLand 2016-Sep-15
END:VEVENT
BEGIN:VEVENT
DTSTART;TZID=America/New_York:20160915T183000
DTEND;TZID=America/New_York:20160915T203000
DTSTAMP:20260422T050605
CREATED:20160914T165745Z
LAST-MODIFIED:20160914T165745Z
UID:8839-1473964200-1473971400@jayceland.com
SUMMARY:John Garvey lecture
DESCRIPTION:John Garvey\, president of the Catholic University of America in Washington\, D.C.\, and one of the nation's leading scholars on religious liberty\, will address increasing attacks on religious liberty and tactics that may be helpful moving forward in the contemporary climate. \n [source: City Newspaper events calendar\, 2016-Sep-14]
URL:https://jayceland.com/blog/event/john-garvey-lecture/
LOCATION:Sacred Heart Cathedral\, 296 Flower City Pk.\, Rochester\, New York\, 14615\, United States
CATEGORIES:JayceLand 2016-Sep-15
END:VEVENT
BEGIN:VEVENT
DTSTART;TZID=America/New_York:20160915T190000
DTEND;TZID=America/New_York:20160915T204100
DTSTAMP:20260422T050605
CREATED:20160908T114143Z
LAST-MODIFIED:20160908T114143Z
UID:8750-1473966000-1473972060@jayceland.com
SUMMARY:Hunt For The Wilderpeople screening (2016-Sep-15 @ 7 p.m.)
DESCRIPTION:The Cinema will screen the very entertaining and charming Hunt For The Wilderpeople (Taika Waititi\, New Zealand 2016\, 101 min.) "A national manhunt is ordered for a rebellious kid and his foster uncle who go missing in the wild New Zealand bush." [source: Cinema coming soon page\, 2016-Sep-8]
URL:https://jayceland.com/blog/event/hunt-for-the-wilderpeople-screening-2016-sep-15-7-p-m/
LOCATION:Cinema Theatre\, 957 S. Clinton Ave.\, Rochester\, New York\, 14620\, United States
CATEGORIES:JayceLand 2016-Sep-15
END:VEVENT
BEGIN:VEVENT
DTSTART;TZID=America/New_York:20160915T190000
DTEND;TZID=America/New_York:20160915T210000
DTSTAMP:20260422T050605
CREATED:20160914T165745Z
LAST-MODIFIED:20160914T165745Z
UID:8838-1473966000-1473973200@jayceland.com
SUMMARY:Flour City Comedy Show
DESCRIPTION:[source: City Newspaper events calendar\, 2016-Sep-14]
URL:https://jayceland.com/blog/event/flour-city-comedy-show/
LOCATION:Johnny's Irish Pub\, 1382 Culver Rd.\, Rochester\, New York\, 14609\, United States
CATEGORIES:JayceLand 2016-Sep-15
END:VEVENT
BEGIN:VEVENT
DTSTART;TZID=America/New_York:20160915T193000
DTEND;TZID=America/New_York:20160915T213000
DTSTAMP:20260422T050605
CREATED:20160914T165743Z
LAST-MODIFIED:20160914T165743Z
UID:8794-1473967800-1473975000@jayceland.com
SUMMARY:The Photographic Historical Society (TPHS) monthly meeting with Joe R. Struble
DESCRIPTION:Joe R. Struble presents: Snapshot… In 1860\, the eminent British scientist Sir John Herschel adapted a hunting term for "shooting from the hip without taking careful aim" to the possibility of someday being able to take a photograph in 1/10 of a second.  More than 100 years later\, the photographer Steven Halpern wrote\, "The family albums of my great-grandparents are filled with serious and severe people looking as if they were bringing their souls to judgement. The snapshots in the albums of my parents show Mom and Dad throwing snowballs at each other in the storm of 1947." \n [source: The Photographic Historical Society e-mail\, 2016-Sep-11]
URL:https://jayceland.com/blog/event/the-photographic-historical-society-tphs-monthly-meeting-with-joe-r-struble/
LOCATION:Barnes and Noble\, 3349 Monroe Ave.\, Pittsford\, New York\, 14618\, United States
CATEGORIES:JayceLand 2016-Sep-15
END:VEVENT
BEGIN:VEVENT
DTSTART;TZID=America/New_York:20160915T200000
DTEND;TZID=America/New_York:20160915T204600
DTSTAMP:20260422T050605
CREATED:20160914T165744Z
LAST-MODIFIED:20160914T165744Z
UID:8825-1473969600-1473972360@jayceland.com
SUMMARY:Handmade Cinema I and II: Saïto and Romphf film screening
DESCRIPTION:The Dryden will screen Handmade Cinema I and II featuring the works of Daïchi Saïto\, and Josh Romphf with both filmmakers in attendance. The following films will be presented:  \n\nTrees of Syntax\, Leaves of Axis (Daïchi Saïto\, Canada 2009\, 10 min.\, 35mm)\nEntirely hand-processed by the filmmaker\, Trees of Syntax\, Leaves of Axis\, with the contrapuntal violin by Malcolm Goldstein\, is a poem of vision and sound that seeks certain perceptual insight and revelation through a syntactical structure based on patterns\, variations\, and repetition. \n\nVoid (Josh Romphf\, Canada/U.S. 2015\, 8 min.\, DCP)\nMeshes and wireframes erupt spontaneously in space\, while the camera meanders randomly toward an uncertain vanishing point. A computer program written for virtual reality and adapted for a cinematic environment. \n\nEngram of Returning (Daïchi Saïto\, Canada 2015\, 18 min.\, 35mm)\nAn epic 35mm Cinemascope metaphysical travelogue that reveals a supernal world which pulses and flickers with formal patterns and deep hues. \n\nTwilight Zone (Josh Romphf\, Canada/U.S. 2016\, 10 min.\, DCP)\nTwo technicians discover the concept of recursion while calibrating a video deck\, setting off a series of increasingly abstract spatial and temporal loops. \n\n\n [source: George Eastman Museum website\, 2016-Sep-12]
URL:https://jayceland.com/blog/event/handmade-cinema-i-and-ii-saito-and-romphf-film-screening/
LOCATION:Dryden Theatre at George Eastman Museum (formerly George Eastman House)\, 900 East Ave.\, Rochester\, New York\, 14607\, United States
CATEGORIES:JayceLand 2016-Sep-15
END:VEVENT
BEGIN:VEVENT
DTSTART;TZID=America/New_York:20160915T203000
DTEND;TZID=America/New_York:20160915T223000
DTSTAMP:20260422T050605
CREATED:20160914T165743Z
LAST-MODIFIED:20160914T165743Z
UID:8802-1473971400-1473978600@jayceland.com
SUMMARY:Paris Monster\, The Dirty Pennies\, (secret band) musical performances
DESCRIPTION:[source: Bug Jar calendar\, 2016-Sep-12]
URL:https://jayceland.com/blog/event/paris-monster-the-dirty-pennies-secret-band-musical-performances/
LOCATION:Bug Jar\, 219 Monroe Ave\, Rochester\, New York\, 14607\, United States
CATEGORIES:JayceLand 2016-Sep-15
END:VEVENT
BEGIN:VEVENT
DTSTART;TZID=America/New_York:20160915T204500
DTEND;TZID=America/New_York:20160915T222500
DTSTAMP:20260422T050605
CREATED:20160908T114143Z
LAST-MODIFIED:20160908T114143Z
UID:8757-1473972300-1473978300@jayceland.com
SUMMARY:Equity screening (2016-Sep-15 @ 8:45 p.m.)
DESCRIPTION:The Cinema will screen Equity (Meera Menon\, U.S. 2016\, 100 min.) "Senior investment banker Naomi Bishop is threatened by a financial scandal and must untangle a web of corruption." [source: Cinema coming soon page\, 2016-Sep-8]
URL:https://jayceland.com/blog/event/equity-screening-2016-sep-15-845-p-m/
LOCATION:Cinema Theatre\, 957 S. Clinton Ave.\, Rochester\, New York\, 14620\, United States
CATEGORIES:JayceLand 2016-Sep-15
END:VEVENT
END:VCALENDAR