BEGIN:VCALENDAR
VERSION:2.0
PRODID:-//JayceLand - ECPv6.15.20//NONSGML v1.0//EN
CALSCALE:GREGORIAN
METHOD:PUBLISH
X-ORIGINAL-URL:https://jayceland.com/blog
X-WR-CALDESC:Events for JayceLand
REFRESH-INTERVAL;VALUE=DURATION:PT1H
X-Robots-Tag:noindex
X-PUBLISHED-TTL:PT1H
BEGIN:VTIMEZONE
TZID:America/New_York
BEGIN:DAYLIGHT
TZOFFSETFROM:-0500
TZOFFSETTO:-0400
TZNAME:EDT
DTSTART:20150308T070000
END:DAYLIGHT
BEGIN:STANDARD
TZOFFSETFROM:-0400
TZOFFSETTO:-0500
TZNAME:EST
DTSTART:20151101T060000
END:STANDARD
BEGIN:DAYLIGHT
TZOFFSETFROM:-0500
TZOFFSETTO:-0400
TZNAME:EDT
DTSTART:20160313T070000
END:DAYLIGHT
BEGIN:STANDARD
TZOFFSETFROM:-0400
TZOFFSETTO:-0500
TZNAME:EST
DTSTART:20161106T060000
END:STANDARD
BEGIN:DAYLIGHT
TZOFFSETFROM:-0500
TZOFFSETTO:-0400
TZNAME:EDT
DTSTART:20170312T070000
END:DAYLIGHT
BEGIN:STANDARD
TZOFFSETFROM:-0400
TZOFFSETTO:-0500
TZNAME:EST
DTSTART:20171105T060000
END:STANDARD
END:VTIMEZONE
BEGIN:VEVENT
DTSTART;TZID=America/New_York:20160806T100000
DTEND;TZID=America/New_York:20160806T180000
DTSTAMP:20260423T222335
CREATED:20160803T130512Z
LAST-MODIFIED:20160803T130512Z
UID:8371-1470477600-1470506400@jayceland.com
SUMMARY:Park Avenue Summer Art Fest (2016-Aug-6 @ 10 a.m.)
DESCRIPTION:[source: Park Ave Festival Site\, 2016-Aug-1]
URL:https://jayceland.com/blog/event/park-avenue-summer-art-fest-2016-aug-6-10-a-m/
LOCATION:Park Ave.\, Rochester\, New York\, United States
CATEGORIES:JayceLand 2016-Aug-4
END:VEVENT
BEGIN:VEVENT
DTSTART;TZID=America/New_York:20160806T110000
DTEND;TZID=America/New_York:20160806T130000
DTSTAMP:20260423T222335
CREATED:20160803T130512Z
LAST-MODIFIED:20160803T130512Z
UID:8374-1470481200-1470488400@jayceland.com
SUMMARY:Theme Tour: Form and Function of Mt. Hope Cemetery with Dennis Carr
DESCRIPTION:What is the history of the cemetery itself — its origins\, design\, and layout? Find out on this tour\, which looks at Mt. Hope through a unique lens. \n [source: Friends of Mount Hope Cemetery website\, 2016-Aug-1]
URL:https://jayceland.com/blog/event/theme-tour-form-and-function-of-mt-hope-cemetery-with-dennis-carr/
LOCATION:Mt. Hope Cemetery North Gatehouse\, 791 Mt. Hope Ave.\, Rochester\, New York\, 14620\, United States
CATEGORIES:JayceLand 2016-Aug-4
END:VEVENT
BEGIN:VEVENT
DTSTART;TZID=America/New_York:20160806T110000
DTEND;TZID=America/New_York:20160806T220000
DTSTAMP:20260423T222335
CREATED:20160727T175737Z
LAST-MODIFIED:20160727T175737Z
UID:8343-1470481200-1470520800@jayceland.com
SUMMARY:Monroe County Fair (2016-Aug-6 @ 11 a.m.)
DESCRIPTION:[source: Monroe County Fair website\, 2016-Jul-25]
URL:https://jayceland.com/blog/event/monroe-county-fair-2016-aug-6-11-a-m/
LOCATION:Northampton Park\, Colby St. and Hubbell Rd.\, Spencerport\, New York\, United States
CATEGORIES:JayceLand 2016-Aug-4
END:VEVENT
BEGIN:VEVENT
DTSTART;TZID=America/New_York:20160806T140000
DTEND;TZID=America/New_York:20160806T160000
DTSTAMP:20260423T222335
CREATED:20160803T130513Z
LAST-MODIFIED:20160803T130513Z
UID:8395-1470492000-1470499200@jayceland.com
SUMMARY:5 Year Anniversary Party and Girls Rock! Showcase
DESCRIPTION:This year's summer showcase will feature performances by 10+ bands (with campers ages 8 – 16)\, debuting songs they wrote together during the week of camp. The curtains open on Saturday\, August 6 at 2:00 p.m. at Anthology. The show is all ages and open to the public. Tickets are sliding scale $5 to $20\, and free for those ages 10 and under. \n [source: Facebook\, 2016-Aug-1]
URL:https://jayceland.com/blog/event/5-year-anniversary-party-and-girls-rock-showcase/
LOCATION:Anthology\, 336 East Ave.\, Rochester\, New York\, 14604\, United States
CATEGORIES:JayceLand 2016-Aug-4
END:VEVENT
BEGIN:VEVENT
DTSTART;TZID=America/New_York:20160806T160000
DTEND;TZID=America/New_York:20160806T175900
DTSTAMP:20260423T222335
CREATED:20160803T130514Z
LAST-MODIFIED:20160803T130514Z
UID:8410-1470499200-1470506340@jayceland.com
SUMMARY:The Lobster screening (2016-Aug-6 @ 4 p.m.)
DESCRIPTION:The Cinema will screen The Lobster (Yorgos Lanthimos\, Greece / Ireland / Netherlands / U.K. / France 2015\, 119 min.) "In a dystopian near future\, single people\, according to the laws of The City\, are taken to The Hotel\, where they are obliged to find a romantic partner in forty-five days or are transformed into beasts and sent off into The Woods." [source: Cinema coming soon page\, 2016-Aug-3]
URL:https://jayceland.com/blog/event/the-lobster-screening-2016-aug-6-4-p-m/
LOCATION:Cinema Theatre\, 957 S. Clinton Ave.\, Rochester\, New York\, 14620\, United States
CATEGORIES:JayceLand 2016-Aug-4
END:VEVENT
BEGIN:VEVENT
DTSTART;TZID=America/New_York:20160806T183000
DTEND;TZID=America/New_York:20160806T193000
DTSTAMP:20260423T222335
CREATED:20160803T130513Z
LAST-MODIFIED:20160803T130513Z
UID:8389-1470508200-1470511800@jayceland.com
SUMMARY:The Development of Motion Picture Sound lecture with Anthony L'Abbate
DESCRIPTION:Before the screening of Don Juan (1926)\, Anthony L'Abbate\, preservation officer\, will give a talk tracing motion picture sound\, from the 1890s through 1930. \n [source: George Eastman Museum website\, 2016-Aug-1]
URL:https://jayceland.com/blog/event/the-development-of-motion-picture-sound-lecture-with-anthony-labbate/
LOCATION:Dryden Theatre at George Eastman Museum (formerly George Eastman House)\, 900 East Ave.\, Rochester\, New York\, 14607\, United States
CATEGORIES:JayceLand 2016-Aug-4
END:VEVENT
BEGIN:VEVENT
DTSTART;TZID=America/New_York:20160806T190000
DTEND;TZID=America/New_York:20160806T203700
DTSTAMP:20260423T222335
CREATED:20160803T130513Z
LAST-MODIFIED:20160803T130513Z
UID:8397-1470510000-1470515820@jayceland.com
SUMMARY:Swiss Army Man screening (2016-Aug-6 @ 7 p.m.)
DESCRIPTION:The Cinema will screen Swiss Army Man (Dan Kwan\, Daniel Scheinert\, U.S. 2016\, 97 min.) "A hopeless man stranded in the wilderness befriends a dead body and together they go on a surreal journey to get home." [source: Cinema coming soon page\, 2016-Aug-3]
URL:https://jayceland.com/blog/event/swiss-army-man-screening-2016-aug-6-7-p-m/
LOCATION:Cinema Theatre\, 957 S. Clinton Ave.\, Rochester\, New York\, 14620\, United States
CATEGORIES:JayceLand 2016-Aug-4
END:VEVENT
BEGIN:VEVENT
DTSTART;TZID=America/New_York:20160806T200000
DTEND;TZID=America/New_York:20160806T215200
DTSTAMP:20260423T222335
CREATED:20160803T130513Z
LAST-MODIFIED:20160803T130513Z
UID:8390-1470513600-1470520320@jayceland.com
SUMMARY:Don Juan screening
DESCRIPTION:The Dryden will screen Don Juan (Alan Crosland\, U.S. 1926\, 112 min.\, 35mm).  \nJohn Barrymore was at his peak in 1926\, both professionally—only a few years before\, he had starred in a very successful stage production of Hamlet—and physically. At the time of Don Juan's release\, he was considered the greatest actor in America. The Vitaphone sound system was given an excellent launch with this lavish film\, costarring a 22-year-old Mary Astor as the only woman who can reform Don Juan from his philandering ways. \n [source: George Eastman Museum website\, 2016-Aug-1]
URL:https://jayceland.com/blog/event/don-juan-screening/
LOCATION:Dryden Theatre at George Eastman Museum (formerly George Eastman House)\, 900 East Ave.\, Rochester\, New York\, 14607\, United States
CATEGORIES:JayceLand 2016-Aug-4
END:VEVENT
BEGIN:VEVENT
DTSTART;TZID=America/New_York:20160806T200000
DTEND;TZID=America/New_York:20160806T220000
DTSTAMP:20260423T222335
CREATED:20160803T130513Z
LAST-MODIFIED:20160803T130513Z
UID:8382-1470513600-1470520800@jayceland.com
SUMMARY:Endangered Features by Spencer Christiano theatrical performance (2016-Aug-6 @ 8 p.m.)
DESCRIPTION:What's your favorite movie? The one you've seen a hundred times\, that you could quote from memory. What if you could never see that movie again? What if it were to completely disappear\, and the world forgot it ever existed?  Endangered Features is the coming-of-age story of an accidental archivist. This true story chronicles one projectionist's journey from falling in love with escapist cinema as a young boy\, to growing up working in a charmingly scrappy neighborhood movie theater\, to preserving cinema at one of the world's top film archives\, and traveling to India to teach a new generation of preservationists the skills they can use to prevent their cultural history from fading into oblivion.  This one-man play invites you to explore the secret world of the projection booth\, and shows what lies behind the glass port. This intimate\, intriguing\, and enchanting play exposes film exhibition as a technical art\, reveals the hidden evolution of cinema from its analog roots to cutting-edge digital\, and commemorates what we have lost— and what is still at risk. \n [source: MuCCC website\, 2016-Aug-1]
URL:https://jayceland.com/blog/event/endangered-features-by-spencer-christiano-theatrical-performance-2016-aug-6-8-p-m/
LOCATION:MuCCC (Multi-use Community Cultural Center)\, 142 Atlantic Ave.\, Rochester\, New York\, 14607\, United States
CATEGORIES:JayceLand 2016-Aug-4
END:VEVENT
BEGIN:VEVENT
DTSTART;TZID=America/New_York:20160806T204000
DTEND;TZID=America/New_York:20160806T221600
DTSTAMP:20260423T222335
CREATED:20160803T130514Z
LAST-MODIFIED:20160803T130514Z
UID:8404-1470516000-1470521760@jayceland.com
SUMMARY:Weiner screening (2016-Aug-6 @ 8:40 p.m.)
DESCRIPTION:The Cinema will screen Weiner (Josh Kriegman\, Elyse Steinberg\, U.S. 2016\, 96 min.) "An examination of disgraced New York Congressman Anthony Weiner's mayoral campaign and the landscape of today's political landscape." [source: Cinema coming soon page\, 2016-Aug-3]
URL:https://jayceland.com/blog/event/weiner-screening-2016-aug-6-840-p-m/
LOCATION:Cinema Theatre\, 957 S. Clinton Ave.\, Rochester\, New York\, 14620\, United States
CATEGORIES:JayceLand 2016-Aug-4
END:VEVENT
END:VCALENDAR