BEGIN:VCALENDAR
VERSION:2.0
PRODID:-//JayceLand - ECPv6.15.20//NONSGML v1.0//EN
CALSCALE:GREGORIAN
METHOD:PUBLISH
X-WR-CALNAME:JayceLand
X-ORIGINAL-URL:https://jayceland.com/blog
X-WR-CALDESC:Events for JayceLand
REFRESH-INTERVAL;VALUE=DURATION:PT1H
X-Robots-Tag:noindex
X-PUBLISHED-TTL:PT1H
BEGIN:VTIMEZONE
TZID:America/New_York
BEGIN:DAYLIGHT
TZOFFSETFROM:-0500
TZOFFSETTO:-0400
TZNAME:EDT
DTSTART:20150308T070000
END:DAYLIGHT
BEGIN:STANDARD
TZOFFSETFROM:-0400
TZOFFSETTO:-0500
TZNAME:EST
DTSTART:20151101T060000
END:STANDARD
BEGIN:DAYLIGHT
TZOFFSETFROM:-0500
TZOFFSETTO:-0400
TZNAME:EDT
DTSTART:20160313T070000
END:DAYLIGHT
BEGIN:STANDARD
TZOFFSETFROM:-0400
TZOFFSETTO:-0500
TZNAME:EST
DTSTART:20161106T060000
END:STANDARD
BEGIN:DAYLIGHT
TZOFFSETFROM:-0500
TZOFFSETTO:-0400
TZNAME:EDT
DTSTART:20170312T070000
END:DAYLIGHT
BEGIN:STANDARD
TZOFFSETFROM:-0400
TZOFFSETTO:-0500
TZNAME:EST
DTSTART:20171105T060000
END:STANDARD
END:VTIMEZONE
BEGIN:VEVENT
DTSTART;TZID=America/New_York:20160713T120000
DTEND;TZID=America/New_York:20160713T130000
DTSTAMP:20260419T135926
CREATED:20160706T185951Z
LAST-MODIFIED:20160706T185951Z
UID:8221-1468411200-1468414800@jayceland.com
SUMMARY:Me and the Boyz musical performance
DESCRIPTION:[source: City of Rochester website\, 2016-Jul-6]
URL:https://jayceland.com/blog/event/me-and-the-boyz-musical-performance/
LOCATION:Aqueduct Park\, 23 E. Main St.\, Rochester\, New York\, 14604\, United States
CATEGORIES:JayceLand 2016-Jul-7
END:VEVENT
BEGIN:VEVENT
DTSTART;TZID=America/New_York:20160713T180000
DTEND;TZID=America/New_York:20160713T200000
DTSTAMP:20260419T135926
CREATED:20160706T185951Z
LAST-MODIFIED:20160706T185951Z
UID:8197-1468432800-1468440000@jayceland.com
SUMMARY:Garden Vibes: Matuto musical performance
DESCRIPTION:Matuto takes the stage for the second installment in the 23rd season of Garden Vibes. Matuto's songs can sway hips just as easily as spark insights. Instruments (accordion\, guitar\, bass\, drums\, cavaquinho\, zabumba\, and triangle) whirl around the core of Matuto's sound: the syncopations of Brazilian music and the folk traditions of the American South—it's bluegrass meets Brazil. The band's core members share a combined obsession with connecting the dots between Brazil\, rural America\, and creative reinterpretation of long-standing party-hardy forms. \n [source: George Eastman Museum website\, 2016-Jul-4]
URL:https://jayceland.com/blog/event/garden-vibes-matuto-musical-performance/
LOCATION:George Eastman Museum (formerly George Eastman House)\, 900 East Ave.\, Rochester\, New York\, 14607\, United States
CATEGORIES:JayceLand 2016-Jul-7
END:VEVENT
BEGIN:VEVENT
DTSTART;TZID=America/New_York:20160713T190000
DTEND;TZID=America/New_York:20160713T210000
DTSTAMP:20260419T135926
CREATED:20160706T185951Z
LAST-MODIFIED:20160706T185951Z
UID:8193-1468436400-1468443600@jayceland.com
SUMMARY:Sunset Concerts: A Landmark Mini-Series
DESCRIPTION:A partnership between The Landmark Society of Western New York and The Sunset Concert Musicians. Enjoy al fresco chamber music concerts at The Landmark Society's signature historic properties. \n [source: Landmark Society website\, 2016-Jul-4]
URL:https://jayceland.com/blog/event/sunset-concerts-a-landmark-mini-series/
LOCATION:St. Joseph's Park\, Pleasant St. and N. Clinton Ave.\, Rochester\, New York\, 14604\, United States
CATEGORIES:JayceLand 2016-Jul-7
END:VEVENT
BEGIN:VEVENT
DTSTART;TZID=America/New_York:20160713T200000
DTEND;TZID=America/New_York:20160713T220000
DTSTAMP:20260419T135926
CREATED:20160706T185951Z
LAST-MODIFIED:20160706T185951Z
UID:8215-1468440000-1468447200@jayceland.com
SUMMARY:Art theatrical performance (2016-Jul-13 @ 8 p.m.)
DESCRIPTION:[Yasmina] Reza's play explores the funny\, emotional and existential consequences that challenge three longtime friends\, in Paris\, when one of them purchases an expensive work of modern art. Serge\, (played by native Rochesterian and Broadway actor Mark A. Davis) is a successful dermatologist whose newfound passions for obtaining modern art flies unnervingly in the face of his best friend and self-proclaimed mentor Marc (Chris Felo). A third friend\, the neurotic\, groom-to-be\, Yvan (Jim Orr) attempts to smooth things over between them. The vacillating allegiances between the three friends provides an evening of genuine hilarity as one friend\, then the other\, begin to wage an\, at first subtle\, then all out explosive and vindictive campaign to stand righteous above the others even at the cost of the demolition of their enduring friendship. \n [source: MuCCC website\, 2016-Jul-5]
URL:https://jayceland.com/blog/event/art-theatrical-performance-2016-jul-13-8-p-m/
LOCATION:MuCCC (Multi-use Community Cultural Center)\, 142 Atlantic Ave.\, Rochester\, New York\, 14607\, United States
CATEGORIES:JayceLand 2016-Jul-7
END:VEVENT
BEGIN:VEVENT
DTSTART;TZID=America/New_York:20160713T203000
DTEND;TZID=America/New_York:20160713T223400
DTSTAMP:20260419T135926
CREATED:20160706T185951Z
LAST-MODIFIED:20160706T185951Z
UID:8203-1468441800-1468449240@jayceland.com
SUMMARY:Clean and Sober screening
DESCRIPTION:The Dryden will screen Clean and Sober (Glenn Gordon Caron\, U.S. 1988\, 124 min.\, 35mm).  \nMichael Keaton. In perhaps his most intense performance\, Michael Keaton plays a real estate salesman addicted to alcohol and cocaine. To escape trouble from the law for embezzling a large amount of his company's money\, he hides in a rehabilitation clinic. Cynical at first\, he soon realizes that following the drug rehabilitation program might be the only way to save his life. After appearing in a series of successful comedies (Night Shift\, Mr. Mom\, Beetlejuice) Keaton deliberately chose this powerful\, somber drama to avoid being stereotyped as only a comedian. \n [source: George Eastman Museum website\, 2016-Jul-4]
URL:https://jayceland.com/blog/event/clean-and-sober-screening/
LOCATION:Dryden Theatre at George Eastman Museum (formerly George Eastman House)\, 900 East Ave.\, Rochester\, New York\, 14607\, United States
CATEGORIES:JayceLand 2016-Jul-7
END:VEVENT
END:VCALENDAR