BEGIN:VCALENDAR
VERSION:2.0
PRODID:-//JayceLand - ECPv6.15.20//NONSGML v1.0//EN
CALSCALE:GREGORIAN
METHOD:PUBLISH
X-WR-CALNAME:JayceLand
X-ORIGINAL-URL:https://jayceland.com/blog
X-WR-CALDESC:Events for JayceLand
REFRESH-INTERVAL;VALUE=DURATION:PT1H
X-Robots-Tag:noindex
X-PUBLISHED-TTL:PT1H
BEGIN:VTIMEZONE
TZID:America/New_York
BEGIN:DAYLIGHT
TZOFFSETFROM:-0500
TZOFFSETTO:-0400
TZNAME:EDT
DTSTART:20150308T070000
END:DAYLIGHT
BEGIN:STANDARD
TZOFFSETFROM:-0400
TZOFFSETTO:-0500
TZNAME:EST
DTSTART:20151101T060000
END:STANDARD
BEGIN:DAYLIGHT
TZOFFSETFROM:-0500
TZOFFSETTO:-0400
TZNAME:EDT
DTSTART:20160313T070000
END:DAYLIGHT
BEGIN:STANDARD
TZOFFSETFROM:-0400
TZOFFSETTO:-0500
TZNAME:EST
DTSTART:20161106T060000
END:STANDARD
BEGIN:DAYLIGHT
TZOFFSETFROM:-0500
TZOFFSETTO:-0400
TZNAME:EDT
DTSTART:20170312T070000
END:DAYLIGHT
BEGIN:STANDARD
TZOFFSETFROM:-0400
TZOFFSETTO:-0500
TZNAME:EST
DTSTART:20171105T060000
END:STANDARD
END:VTIMEZONE
BEGIN:VEVENT
DTSTART;TZID=America/New_York:20160707T190000
DTEND;TZID=America/New_York:20160707T203000
DTSTAMP:20260419T083916
CREATED:20160706T185951Z
LAST-MODIFIED:20160706T185951Z
UID:8207-1467918000-1467923400@jayceland.com
SUMMARY:Universal Basic Income 101 with Ted Kidd
DESCRIPTION:"Ted Kidd will be discussing how universal basic income can solve the problems of capitalism." [source: City Newspaper events calendar\, 2016-Jul-4]
URL:https://jayceland.com/blog/event/universal-basic-income-101-with-ted-kidd/
LOCATION:Monroe County for Bernie Sanders Local Office\, 1137 Culver Rd.\, Rochester\, New York\, 14609\, United States
CATEGORIES:JayceLand 2016-Jul-7
END:VEVENT
BEGIN:VEVENT
DTSTART;TZID=America/New_York:20160707T190000
DTEND;TZID=America/New_York:20160707T212700
DTSTAMP:20260419T083916
CREATED:20160629T135708Z
LAST-MODIFIED:20160629T135708Z
UID:8172-1467918000-1467926820@jayceland.com
SUMMARY:Captain America: Civil War screening (2016-Jul-7 @ 7 p.m.)
DESCRIPTION:The Cinema will screen Captain America: Civil War (Anthony Russo\, Joe Russo\, U.S. / Germany 2016\, 147 min.) "Political interference in the Avengers' activities causes a rift between former allies Captain America and Iron Man." [source: Cinema coming soon page\, 2016-Jun-29]
URL:https://jayceland.com/blog/event/captain-america-civil-war-screening-2016-jul-7-7-p-m/
LOCATION:Cinema Theatre\, 957 S. Clinton Ave.\, Rochester\, New York\, 14620\, United States
CATEGORIES:JayceLand 2016-Jul-7
END:VEVENT
BEGIN:VEVENT
DTSTART;TZID=America/New_York:20160707T193000
DTEND;TZID=America/New_York:20160707T213000
DTSTAMP:20260419T083916
CREATED:20160706T185951Z
LAST-MODIFIED:20160706T185951Z
UID:8211-1467919800-1467927000@jayceland.com
SUMMARY:The Presstitutes theatrical performance (2016-Jul-7 @ 7:30 p.m.)
DESCRIPTION:"The Presstitutes\," developed with the help of Geva Theatre Center\, is a farce about the staff of a dying newspaper in Western\, NY\, and the gubernatorial campaign of a dark horse politician joining forces to save themselves. Along the way\, issues of integrity become . . . complicated. The result is a humorous and stark commentary on the state of journalism and politics in contemporary America. \n [source: MuCCC website\, 2016-Jul-5]
URL:https://jayceland.com/blog/event/the-presstitutes-theatrical-performance-2016-jul-7-730-p-m/
LOCATION:MuCCC (Multi-use Community Cultural Center)\, 142 Atlantic Ave.\, Rochester\, New York\, 14607\, United States
CATEGORIES:JayceLand 2016-Jul-7
END:VEVENT
BEGIN:VEVENT
DTSTART;TZID=America/New_York:20160707T200000
DTEND;TZID=America/New_York:20160707T213200
DTSTAMP:20260419T083916
CREATED:20160706T185951Z
LAST-MODIFIED:20160706T185951Z
UID:8198-1467921600-1467927120@jayceland.com
SUMMARY:All Night Long screening
DESCRIPTION:The Dryden will screen All Night Long (Basil Dearden\, U.K. 1962\, 92 min.\, 16mm).  \nStarring Patrick McGoohan\, Marti Stevens\, and Paul Harris\, this British drama is an updated version of Shakespeare's Othello\, set in the London jazz scene of the 1960s and featuring performances by several legendary British and American jazz musicians\, including Charles Mingus and Dave Brubeck. Over the course of one eventful evening—the anniversary celebration of the musical and romantic partners Aurelius Rex (Paul Harris) and Delia Lane (Marti Stevens)—a jealous\, ambitious drummer\, Johnny Cousin (Patrick McGoohan)\, attempts to tear the interracial couple apart. The film is a musical insomuch as music gives it life\, giving the audience the impression of watching smoky and sensational entertainment in real time. \n [source: George Eastman Museum website\, 2016-Jul-4]
URL:https://jayceland.com/blog/event/all-night-long-screening/
LOCATION:Dryden Theatre at George Eastman Museum (formerly George Eastman House)\, 900 East Ave.\, Rochester\, New York\, 14607\, United States
CATEGORIES:JayceLand 2016-Jul-7
END:VEVENT
BEGIN:VEVENT
DTSTART;TZID=America/New_York:20160707T203000
DTEND;TZID=America/New_York:20160707T223000
DTSTAMP:20260419T083916
CREATED:20160706T185950Z
LAST-MODIFIED:20160706T185950Z
UID:8187-1467923400-1467930600@jayceland.com
SUMMARY:Lost Cousins\, Blue Falcon musical performances
DESCRIPTION:[source: Bug Jar calendar\, 2016-Jul-4]
URL:https://jayceland.com/blog/event/lost-cousins-blue-falcon-musical-performances/
LOCATION:Bug Jar\, 219 Monroe Ave\, Rochester\, New York\, 14607\, United States
CATEGORIES:JayceLand 2016-Jul-7
END:VEVENT
BEGIN:VEVENT
DTSTART;TZID=America/New_York:20160707T203000
DTEND;TZID=America/New_York:20160707T223000
DTSTAMP:20260419T083916
CREATED:20160706T185950Z
LAST-MODIFIED:20160706T185950Z
UID:8191-1467923400-1467930600@jayceland.com
SUMMARY:A Tribute to Stevie Wonder with Todd East\, Prime Time Funk\, Hot Sweets\, Me and the Boyz\, and more
DESCRIPTION:[source: Lovin' Cup website\, 2016-Jul-4]
URL:https://jayceland.com/blog/event/a-tribute-to-stevie-wonder-with-todd-east-prime-time-funk-hot-sweets-me-and-the-boyz-and-more/
LOCATION:Lovin' Cup\, 300 Park Point Dr.\, Rochester\, New York\, 14623\, United States
CATEGORIES:JayceLand 2016-Jul-7
END:VEVENT
BEGIN:VEVENT
DTSTART;TZID=America/New_York:20160707T210000
DTEND;TZID=America/New_York:20160707T230000
DTSTAMP:20260419T083916
CREATED:20160706T185951Z
LAST-MODIFIED:20160706T185951Z
UID:8208-1467925200-1467932400@jayceland.com
SUMMARY:Milk Boy\, Cynic\, Rash musical performances
DESCRIPTION:[source: Facebook\, 2016-Jul-4]
URL:https://jayceland.com/blog/event/milk-boy-cynic-rash-musical-performances/
LOCATION:Meddlesome Lab\, 289 Griffiths St.\, Rochester\, New York\, 14607\, United States
CATEGORIES:JayceLand 2016-Jul-7
END:VEVENT
BEGIN:VEVENT
DTSTART;TZID=America/New_York:20160707T213000
DTEND;TZID=America/New_York:20160707T232700
DTSTAMP:20260419T083916
CREATED:20160629T135708Z
LAST-MODIFIED:20160629T135708Z
UID:8179-1467927000-1467934020@jayceland.com
SUMMARY:The Nice Guys screening (2016-Jul-7 @ 9:30 p.m.)
DESCRIPTION:The Cinema will screen The Nice Guys (Shane Black\, U.S. 2016\, 117 min.) "A mismatched pair of private eyes investigate the apparent suicide of a porn star in 1970s Los Angeles." [source: Cinema coming soon page\, 2016-Jun-29]
URL:https://jayceland.com/blog/event/the-nice-guys-screening-2016-jul-7-930-p-m/
LOCATION:Cinema Theatre\, 957 S. Clinton Ave.\, Rochester\, New York\, 14620\, United States
CATEGORIES:JayceLand 2016-Jul-7
END:VEVENT
END:VCALENDAR