BEGIN:VCALENDAR
VERSION:2.0
PRODID:-//JayceLand - ECPv6.15.20//NONSGML v1.0//EN
CALSCALE:GREGORIAN
METHOD:PUBLISH
X-WR-CALNAME:JayceLand
X-ORIGINAL-URL:https://jayceland.com/blog
X-WR-CALDESC:Events for JayceLand
REFRESH-INTERVAL;VALUE=DURATION:PT1H
X-Robots-Tag:noindex
X-PUBLISHED-TTL:PT1H
BEGIN:VTIMEZONE
TZID:America/New_York
BEGIN:DAYLIGHT
TZOFFSETFROM:-0500
TZOFFSETTO:-0400
TZNAME:EDT
DTSTART:20150308T070000
END:DAYLIGHT
BEGIN:STANDARD
TZOFFSETFROM:-0400
TZOFFSETTO:-0500
TZNAME:EST
DTSTART:20151101T060000
END:STANDARD
BEGIN:DAYLIGHT
TZOFFSETFROM:-0500
TZOFFSETTO:-0400
TZNAME:EDT
DTSTART:20160313T070000
END:DAYLIGHT
BEGIN:STANDARD
TZOFFSETFROM:-0400
TZOFFSETTO:-0500
TZNAME:EST
DTSTART:20161106T060000
END:STANDARD
BEGIN:DAYLIGHT
TZOFFSETFROM:-0500
TZOFFSETTO:-0400
TZNAME:EDT
DTSTART:20170312T070000
END:DAYLIGHT
BEGIN:STANDARD
TZOFFSETFROM:-0400
TZOFFSETTO:-0500
TZNAME:EST
DTSTART:20171105T060000
END:STANDARD
END:VTIMEZONE
BEGIN:VEVENT
DTSTART;TZID=America/New_York:20160622T173000
DTEND;TZID=America/New_York:20160622T210000
DTSTAMP:20260422T042101
CREATED:20160615T151744Z
LAST-MODIFIED:20160615T151744Z
UID:8062-1466616600-1466629200@jayceland.com
SUMMARY:Whistle Stop Dinner: Neighborhood of the Arts
DESCRIPTION:Boomtown Table and Rochester Brainery present the Whistle Stop Dinners: progressive dinners that take place in a specific neighborhood and include multiple stops at eateries within the neighborhood. Diners will also have a chance to hear about the course they're enjoying from a staff member at each eatery. The first ever Whistle Stop Dinner will take place in the Neighborhood of the Arts and feature Nox Cocktail Lounge\, Lento\, Restaurant Good Luck and Makers Gallery and Studio. Tours will depart at 5:30 p.m.\, 6:30 p.m.\, and 7:30 p.m. \n [source: Celebrate City Living website\, 2016-Jun-13]
URL:https://jayceland.com/blog/event/whistle-stop-dinner-neighborhood-of-the-arts/
LOCATION:Rochester Brainery\, 176 Anderson Ave. #F109\, Rochester\, New York\, 14607\, United States
CATEGORIES:JayceLand 2016-Jun-16
END:VEVENT
BEGIN:VEVENT
DTSTART;TZID=America/New_York:20160622T190000
DTEND;TZID=America/New_York:20160622T204600
DTSTAMP:20260422T042101
CREATED:20160615T151746Z
LAST-MODIFIED:20160615T151746Z
UID:8091-1466622000-1466628360@jayceland.com
SUMMARY:Sing Street screening (2016-Jun-22 @ 7 p.m.)
DESCRIPTION:The Cinema will screen Sing Street (John Carney\, Ireland / U.K. / U.S. 2016\, 106 min.) "A boy growing up in Dublin during the 1980s escapes his strained family life by starting a band to impress the mysterious girl he likes." [source: Cinema coming soon page\, 2016-Jun-15]
URL:https://jayceland.com/blog/event/sing-street-screening-2016-jun-22-7-p-m/
LOCATION:Cinema Theatre\, 957 S. Clinton Ave.\, Rochester\, New York\, 14620\, United States
CATEGORIES:JayceLand 2016-Jun-16
END:VEVENT
BEGIN:VEVENT
DTSTART;TZID=America/New_York:20160622T200000
DTEND;TZID=America/New_York:20160622T214100
DTSTAMP:20260422T042101
CREATED:20160615T151745Z
LAST-MODIFIED:20160615T151745Z
UID:8077-1466625600-1466631660@jayceland.com
SUMMARY:Too Late Blues screening
DESCRIPTION:The Dryden will screen Too Late Blues (John Cassavetes\, U.S. 1961\, 101 min.\, 16mm).  \nJohn Cassavetes's first studio-produced effort is still a very personal film set in the world of jazz. A young pianist (Bobby Darin) fights valiantly against selling out\, finding encouragement in the arms of a beautiful singer (Stella Stevens). The soundtrack features jazz greats like Shelley Manne and Benny Carter. \n [source: George Eastman Museum website\, 2016-Jun-13]
URL:https://jayceland.com/blog/event/too-late-blues-screening/
LOCATION:Dryden Theatre at George Eastman Museum (formerly George Eastman House)\, 900 East Ave.\, Rochester\, New York\, 14607\, United States
CATEGORIES:JayceLand 2016-Jun-16
END:VEVENT
BEGIN:VEVENT
DTSTART;TZID=America/New_York:20160622T205000
DTEND;TZID=America/New_York:20160622T223300
DTSTAMP:20260422T042101
CREATED:20160615T151746Z
LAST-MODIFIED:20160615T151746Z
UID:8098-1466628600-1466634780@jayceland.com
SUMMARY:The Man Who Knew Infinity screening (2016-Jun-22 @ 8:50 p.m.)
DESCRIPTION:The Cinema will screen The Man Who Knew Infinity (Matt Brown\, U.K. 2015\, 103 min.) "Growing up poor in Madras\, India\, Srinivasa Ramanujan Iyengar earns admittance to Cambridge University during WWI\, where he becomes a pioneer in mathematical theories with the guidance of his professor\, G.H. Hardy." [source: Cinema coming soon page\, 2016-Jun-15]
URL:https://jayceland.com/blog/event/the-man-who-knew-infinity-screening-2016-jun-22-850-p-m/
LOCATION:Cinema Theatre\, 957 S. Clinton Ave.\, Rochester\, New York\, 14620\, United States
CATEGORIES:JayceLand 2016-Jun-16
END:VEVENT
BEGIN:VEVENT
DTSTART;TZID=America/New_York:20160622T210000
DTEND;TZID=America/New_York:20160622T230000
DTSTAMP:20260422T042101
CREATED:20160615T151744Z
LAST-MODIFIED:20160615T151744Z
UID:8056-1466629200-1466636400@jayceland.com
SUMMARY:Seepeoples\, Pat Yeomans and The Flour City Sons\, Culture Vulture musical performances
DESCRIPTION:[source: Bug Jar calendar\, 2016-Jun-13]
URL:https://jayceland.com/blog/event/seepeoples-pat-yeomans-and-the-flour-city-sons-culture-vulture-musical-performances/
LOCATION:Bug Jar\, 219 Monroe Ave\, Rochester\, New York\, 14607\, United States
CATEGORIES:JayceLand 2016-Jun-16
END:VEVENT
END:VCALENDAR