BEGIN:VCALENDAR
VERSION:2.0
PRODID:-//JayceLand - ECPv6.15.20//NONSGML v1.0//EN
CALSCALE:GREGORIAN
METHOD:PUBLISH
X-WR-CALNAME:JayceLand
X-ORIGINAL-URL:https://jayceland.com/blog
X-WR-CALDESC:Events for JayceLand
REFRESH-INTERVAL;VALUE=DURATION:PT1H
X-Robots-Tag:noindex
X-PUBLISHED-TTL:PT1H
BEGIN:VTIMEZONE
TZID:America/New_York
BEGIN:DAYLIGHT
TZOFFSETFROM:-0500
TZOFFSETTO:-0400
TZNAME:EDT
DTSTART:20150308T070000
END:DAYLIGHT
BEGIN:STANDARD
TZOFFSETFROM:-0400
TZOFFSETTO:-0500
TZNAME:EST
DTSTART:20151101T060000
END:STANDARD
BEGIN:DAYLIGHT
TZOFFSETFROM:-0500
TZOFFSETTO:-0400
TZNAME:EDT
DTSTART:20160313T070000
END:DAYLIGHT
BEGIN:STANDARD
TZOFFSETFROM:-0400
TZOFFSETTO:-0500
TZNAME:EST
DTSTART:20161106T060000
END:STANDARD
BEGIN:DAYLIGHT
TZOFFSETFROM:-0500
TZOFFSETTO:-0400
TZNAME:EDT
DTSTART:20170312T070000
END:DAYLIGHT
BEGIN:STANDARD
TZOFFSETFROM:-0400
TZOFFSETTO:-0500
TZNAME:EST
DTSTART:20171105T060000
END:STANDARD
END:VTIMEZONE
BEGIN:VEVENT
DTSTART;TZID=America/New_York:20160525T160000
DTEND;TZID=America/New_York:20160525T180000
DTSTAMP:20260422T002932
CREATED:20160525T171658Z
LAST-MODIFIED:20160525T171658Z
UID:7957-1464192000-1464199200@jayceland.com
SUMMARY:Rally 4 India Cummings
DESCRIPTION:India Cummings was a native Rochesterian and Wilson graduate who died in Buffalo and the hands of the Erie County Correctional Facility.  Since her death on Feb 16th\, officials in the city of Buffalo and Rochester have said and done little to nothing. We want more from our governing bodies. We want accountability. We want answers. This protest is for you India. We intend to uplift her memory and get folks to highlight an issue that must go national. The protest is also symbolic on the community stance against police brutality and violation of prisoners 8th/14th Amendment rights. \n [source: Facebook\, 2016-May-23]
URL:https://jayceland.com/blog/event/rally-4-india-cummings/
LOCATION:Liberty Pole\, 1 Liberty Pole Wy.\, Rochester\, New York\, 14604\, United States
CATEGORIES:JayceLand 2016-May-19
END:VEVENT
BEGIN:VEVENT
DTSTART;TZID=America/New_York:20160525T200000
DTEND;TZID=America/New_York:20160525T220000
DTSTAMP:20260422T002932
CREATED:20160518T163631Z
LAST-MODIFIED:20160518T163631Z
UID:7912-1464206400-1464213600@jayceland.com
SUMMARY:Rabin\, the Last Day screening
DESCRIPTION:The Dryden will screen Rabin\, the Last Day (Amos Gitai\, Israel/France 2015\, 153 min.\, DCP\, Hebrew w/subtitles).  \nFor many Israelis\, the assassination of Prime Minister Yitzhak Rabin in 1995 marked a grim turning point for their country. In the words of the commission set up to investigate the murder\, "Israeli society [would] never be the same again. As a democracy\, political assassination was not part of our culture." In the eyes of even more people\, the assassination ended all hope for the Israeli-Palestinian peace process through the Oslo Accords and altered the course of history. But\, as Amos Gitai sets out to prove in his brave and provocative new film\, Rabin's assassination was not just the act of one fanatic; it was the culmination of a hate campaign that emanated from the rabbis and public figures of Israel's far right. \n [source: George Eastman Museum website\, 2016-May-16]
URL:https://jayceland.com/blog/event/rabin-the-last-day-screening/
LOCATION:Dryden Theatre at George Eastman Museum (formerly George Eastman House)\, 900 East Ave.\, Rochester\, New York\, 14607\, United States
CATEGORIES:JayceLand 2016-May-19
END:VEVENT
BEGIN:VEVENT
DTSTART;TZID=America/New_York:20160525T210000
DTEND;TZID=America/New_York:20160525T230000
DTSTAMP:20260422T002932
CREATED:20160518T163631Z
LAST-MODIFIED:20160518T163631Z
UID:7897-1464210000-1464217200@jayceland.com
SUMMARY:STRAWBS musical performance
DESCRIPTION:Prog rock legends STRAWBS return to Rochester\, and for the first time in eight years they will perform with the full electric band. Original 1970s lineup of Dave Cousins (lead vocals\, guitar)\, Dave Lambert (lead guitar\, vocals)\, Chas Cronk (bass\, vocals) and Tony Fernandez (drums) will be joined by Dave Bainbridge on keyboards. For the first time ever\, this tour features the iconic Hero and Heroine album —named to Rolling Stone magazine's 50 best prog rock albums of all time— performed in its entirety. \n [source: Bop Shop website\, 2016-May-16]
URL:https://jayceland.com/blog/event/strawbs-musical-performance/
LOCATION:Lovin' Cup\, 300 Park Point Dr.\, Rochester\, New York\, 14623\, United States
CATEGORIES:JayceLand 2016-May-19
END:VEVENT
END:VCALENDAR