BEGIN:VCALENDAR
VERSION:2.0
PRODID:-//JayceLand - ECPv6.15.20//NONSGML v1.0//EN
CALSCALE:GREGORIAN
METHOD:PUBLISH
X-ORIGINAL-URL:https://jayceland.com/blog
X-WR-CALDESC:Events for JayceLand
REFRESH-INTERVAL;VALUE=DURATION:PT1H
X-Robots-Tag:noindex
X-PUBLISHED-TTL:PT1H
BEGIN:VTIMEZONE
TZID:America/New_York
BEGIN:DAYLIGHT
TZOFFSETFROM:-0500
TZOFFSETTO:-0400
TZNAME:EDT
DTSTART:20150308T070000
END:DAYLIGHT
BEGIN:STANDARD
TZOFFSETFROM:-0400
TZOFFSETTO:-0500
TZNAME:EST
DTSTART:20151101T060000
END:STANDARD
BEGIN:DAYLIGHT
TZOFFSETFROM:-0500
TZOFFSETTO:-0400
TZNAME:EDT
DTSTART:20160313T070000
END:DAYLIGHT
BEGIN:STANDARD
TZOFFSETFROM:-0400
TZOFFSETTO:-0500
TZNAME:EST
DTSTART:20161106T060000
END:STANDARD
BEGIN:DAYLIGHT
TZOFFSETFROM:-0500
TZOFFSETTO:-0400
TZNAME:EDT
DTSTART:20170312T070000
END:DAYLIGHT
BEGIN:STANDARD
TZOFFSETFROM:-0400
TZOFFSETTO:-0500
TZNAME:EST
DTSTART:20171105T060000
END:STANDARD
END:VTIMEZONE
BEGIN:VEVENT
DTSTART;TZID=America/New_York:20160524T200000
DTEND;TZID=America/New_York:20160524T221100
DTSTAMP:20260424T025124
CREATED:20160525T171656Z
LAST-MODIFIED:20160525T171656Z
UID:7924-1464120000-1464127860@jayceland.com
SUMMARY:As Mil e Uma Noites: Volume 2 (Arabian Nights: Volume 2\, The Desolate One) screening
DESCRIPTION:The Dryden will screen As Mil e Uma Noites: Volume 2 (Arabian Nights: Volume 2\, The Desolate One\, O Desolado\, Miguel Gomes\, Portugal/France/Germany/Switzerland 2015\, 131 min.\, DCP\, Portuguese w/subtitles).  \nIn which Scheherazade tells of how desolation invaded men: "It hath reached me\, O auspicious King\, that a distressed judge will cry instead of giving out her sentence on a night when all three moons are aligned. A runaway murderer will wander through the land for over forty days and will tele transport himself to escape the Police while dreaming of prostitutes and partridges. A wounded cow will reminisce about a thousand-year-old olive tree while saying what she must say\, which will sound none less than sad! The residents of a tower block in the suburbs will save parrots and piss inside lifts while surrounded by dead people and ghosts; including in fact a dog that . . . " And seeing the morning break\, Scheherazade fell silent. — "Damned tales! If things continue this way my daughter will surely end up with her throat slit!" —the Grand-Vizier\, Scheherazade's father\, thinks in his palace in Baghdad. \n [source: George Eastman Museum website\, 2016-May-16]
URL:https://jayceland.com/blog/event/as-mil-e-uma-noites-volume-2-arabian-nights-volume-2-the-desolate-one-screening-2/
LOCATION:Dryden Theatre at George Eastman Museum (formerly George Eastman House)\, 900 East Ave.\, Rochester\, New York\, 14607\, United States
CATEGORIES:JayceLand 2016-May-19
END:VEVENT
BEGIN:VEVENT
DTSTART;TZID=America/New_York:20160524T200000
DTEND;TZID=America/New_York:20160524T221500
DTSTAMP:20260424T025124
CREATED:20160518T163631Z
LAST-MODIFIED:20160523T010604Z
UID:7911-1464120000-1464128100@jayceland.com
SUMMARY:As Mil e Uma Noites: Volume 2 (Arabian Nights: Volume 2\, The Desolate One) screening
DESCRIPTION:The Dryden will screen As Mil e Uma Noites: Volume 2 (Arabian Nights: Volume 2\, The Desolate One\, O Desolado\, Miguel Gomes\, Portugal/France/Germany/Switzerland 2015\, 131 min.\, DCP\, Portuguese w/subtitles).  \nIn which Scheherazade tells of how desolation invaded men: "It hath reached me\, O auspicious King\, that a distressed judge will cry instead of giving out her sentence on a night when all three moons are aligned. A runaway murderer will wander through the land for over forty days and will tele transport himself to escape the Police while dreaming of prostitutes and partridges. A wounded cow will reminisce about a thousand-year-old olive tree while saying what she must say\, which will sound none less than sad! The residents of a tower block in the suburbs will save parrots and piss inside lifts while surrounded by dead people and ghosts; including in fact a dog that . . . " And seeing the morning break\, Scheherazade fell silent. — "Damned tales! If things continue this way my daughter will surely end up with her throat slit!" —the Grand-Vizier\, Scheherazade's father\, thinks in his palace in Baghdad. \n [source: George Eastman Museum website\, 2016-May-16]
URL:https://jayceland.com/blog/event/as-mil-e-uma-noites-volume-2-arabian-nights-volume-2-the-desolate-one-screening/
LOCATION:Dryden Theatre at George Eastman Museum (formerly George Eastman House)\, 900 East Ave.\, Rochester\, New York\, 14607\, United States
CATEGORIES:JayceLand 2016-May-19
END:VEVENT
BEGIN:VEVENT
DTSTART;TZID=America/New_York:20160524T203000
DTEND;TZID=America/New_York:20160524T220000
DTSTAMP:20260424T025124
CREATED:20160518T163631Z
LAST-MODIFIED:20160518T163631Z
UID:7896-1464121800-1464127200@jayceland.com
SUMMARY:resAUnance musical performance
DESCRIPTION:resAUnance began as the trio of vibraphonist and percussionist John Bacon\, vocalist Esin Gunduz\, and pianist Michael McNeill. The group debuted at Buffalo's Pausa Art House in March of 2013. The following year the group collaborated with master brass improvisers Dave Ballou and Adam Unsworth in concerts at Pausa and Villa Maria College\, and in June 2014 became a quartet with the addition of 'cellist Jonathan Golove for a concert as part of the legendary June in Buffalo New Music festival. The group's first album\, Migration\, is slated for release in May 2016 on FMR. \n [source: Bop Shop website\, 2016-May-16]
URL:https://jayceland.com/blog/event/resaunance-musical-performance/
LOCATION:Bop Shop Records\, 1460 Monroe Ave.\, Rochester\, New York\, 14618\, United States
CATEGORIES:JayceLand 2016-May-19
END:VEVENT
BEGIN:VEVENT
DTSTART;TZID=America/New_York:20160524T210000
DTEND;TZID=America/New_York:20160524T230000
DTSTAMP:20260424T025124
CREATED:20160518T163630Z
LAST-MODIFIED:20160518T163630Z
UID:7893-1464123600-1464130800@jayceland.com
SUMMARY:Fire in the Radio\, Ghost Righter\, Through the Crowd musical performances
DESCRIPTION:[source: Bug Jar calendar\, 2016-May-16]
URL:https://jayceland.com/blog/event/fire-in-the-radio-ghost-righter-through-the-crowd-musical-performances/
LOCATION:Bug Jar\, 219 Monroe Ave\, Rochester\, New York\, 14607\, United States
CATEGORIES:JayceLand 2016-May-19
END:VEVENT
END:VCALENDAR