BEGIN:VCALENDAR
VERSION:2.0
PRODID:-//JayceLand - ECPv6.15.20//NONSGML v1.0//EN
CALSCALE:GREGORIAN
METHOD:PUBLISH
X-WR-CALNAME:JayceLand
X-ORIGINAL-URL:https://jayceland.com/blog
X-WR-CALDESC:Events for JayceLand
REFRESH-INTERVAL;VALUE=DURATION:PT1H
X-Robots-Tag:noindex
X-PUBLISHED-TTL:PT1H
BEGIN:VTIMEZONE
TZID:America/New_York
BEGIN:DAYLIGHT
TZOFFSETFROM:-0500
TZOFFSETTO:-0400
TZNAME:EDT
DTSTART:20150308T070000
END:DAYLIGHT
BEGIN:STANDARD
TZOFFSETFROM:-0400
TZOFFSETTO:-0500
TZNAME:EST
DTSTART:20151101T060000
END:STANDARD
BEGIN:DAYLIGHT
TZOFFSETFROM:-0500
TZOFFSETTO:-0400
TZNAME:EDT
DTSTART:20160313T070000
END:DAYLIGHT
BEGIN:STANDARD
TZOFFSETFROM:-0400
TZOFFSETTO:-0500
TZNAME:EST
DTSTART:20161106T060000
END:STANDARD
BEGIN:DAYLIGHT
TZOFFSETFROM:-0500
TZOFFSETTO:-0400
TZNAME:EDT
DTSTART:20170312T070000
END:DAYLIGHT
BEGIN:STANDARD
TZOFFSETFROM:-0400
TZOFFSETTO:-0500
TZNAME:EST
DTSTART:20171105T060000
END:STANDARD
END:VTIMEZONE
BEGIN:VEVENT
DTSTART;TZID=America/New_York:20160423T073000
DTEND;TZID=America/New_York:20160423T130000
DTSTAMP:20260425T122407
CREATED:20160420T132016Z
LAST-MODIFIED:20160427T183335Z
UID:7647-1461396600-1461416400@jayceland.com
SUMMARY:Flower City Challenge Duathlon/Paddle Triathlon
DESCRIPTION:Participants in the River Challenge Duathlon and Paddle Triathlon will start in scenic Genesee Valley Park. Once runners complete the 5k course they will hop on their bike for a 20 mile road course. After returning to Genesee Valley Park a final 5k run brings competitors to the finish line. The River Challenge Triathlon offers the chance to skipper a boat up the Genesee River. Once participants finish the 20 mile bike ride they hop into either a canoe or kayak to complete the 3 mile ride and the River Challenge Triathlon. \n [source: City of Rochester website\, 2016-Apr-20]
URL:https://jayceland.com/blog/event/flower-city-challenge-duathlonpaddle-triathlon/
LOCATION:Genesee Waterways Center\, 149 Elmwood Ave.\, Rochester\, New York\, 14620\, United States
CATEGORIES:JayceLand 2016-Apr-21
ATTACH;FMTTYPE=:
END:VEVENT
BEGIN:VEVENT
DTSTART;TZID=America/New_York:20160423T090000
DTEND;TZID=America/New_York:20160423T160000
DTSTAMP:20260425T122407
CREATED:20160420T132013Z
LAST-MODIFIED:20160427T183332Z
UID:7596-1461402000-1461427200@jayceland.com
SUMMARY:Rummage Sale (2016-Apr-23 @ 9 a.m.)
DESCRIPTION:[source: Facebook post\, 2016-Apr-18]
URL:https://jayceland.com/blog/event/rummage-sale-2016-apr-23-9-a-m/
LOCATION:Ellwanger Barry Cooperative Nursery School (EBNS)\, 4 E. Henrietta Rd.\, Rochester\, New York\, 14620\, United States
CATEGORIES:JayceLand 2016-Apr-21
ATTACH;FMTTYPE=:
END:VEVENT
BEGIN:VEVENT
DTSTART;TZID=America/New_York:20160423T101500
DTEND;TZID=America/New_York:20160423T110000
DTSTAMP:20260425T122407
CREATED:20160420T132013Z
LAST-MODIFIED:20160427T183332Z
UID:7608-1461406500-1461409200@jayceland.com
SUMMARY:Think Genealogy It's Saturday (T.G.I.S.)
DESCRIPTION:In the Rundel Library Building's Local History and Genealogy Division is Think Genealogy It's Saturday (T.G.I.S.).  \nCradle to Grave Church and cemetery records help fill in gaps when searching for key family events prior to civil registration of vital statistics. Join us as we dig through the details contained in these types of records that often reveal more than just dates and places. \n [source: Monroe County Library website\, 2016-Apr-18]
URL:https://jayceland.com/blog/event/think-genealogy-its-saturday-t-g-i-s/
LOCATION:Rundel Library Building\, 115 South Ave.\, Rochester\, New York\, 14604\, United States
CATEGORIES:JayceLand 2016-Apr-21
ATTACH;FMTTYPE=:
END:VEVENT
BEGIN:VEVENT
DTSTART;TZID=America/New_York:20160423T110000
DTEND;TZID=America/New_York:20160423T130000
DTSTAMP:20260425T122407
CREATED:20160420T132013Z
LAST-MODIFIED:20160427T183332Z
UID:7607-1461409200-1461416400@jayceland.com
SUMMARY:Rochester International Film Festival screening (2016-Apr-23 @ 11 a.m.)
DESCRIPTION:We'll be showing a series of short children's films with gentle social messages as part of the Rochester Children's Film Festival. \n [source: Monroe County Library website\, 2016-Apr-18]
URL:https://jayceland.com/blog/event/rochester-international-film-festival-screening-2016-apr-23-11-a-m/
LOCATION:Gates Public Library\, 902 Elmgrove Rd.\, Gates\, New York\, 14624\, United States
CATEGORIES:JayceLand 2016-Apr-21
ATTACH;FMTTYPE=:
END:VEVENT
BEGIN:VEVENT
DTSTART;TZID=America/New_York:20160423T120000
DTEND;TZID=America/New_York:20160423T150000
DTSTAMP:20260425T122407
CREATED:20160420T132015Z
LAST-MODIFIED:20160427T183334Z
UID:7632-1461412800-1461423600@jayceland.com
SUMMARY:Inspired Queens Drag Brunch
DESCRIPTION:[source: Facebook\, 2016-Apr-18]
URL:https://jayceland.com/blog/event/inspired-queens-drag-brunch/
LOCATION:Memorial Art Gallery\, 500 University Ave.\, Rochester\, New York\, 14607\, United States
CATEGORIES:JayceLand 2016-Apr-21
ATTACH;FMTTYPE=:
END:VEVENT
BEGIN:VEVENT
DTSTART;TZID=America/New_York:20160423T140000
DTEND;TZID=America/New_York:20160423T160000
DTSTAMP:20260425T122407
CREATED:20160420T132013Z
LAST-MODIFIED:20160427T183333Z
UID:7614-1461420000-1461427200@jayceland.com
SUMMARY:The Complete Works of William Shakespeare (Abridged) theatrical performance
DESCRIPTION:The MuCCC will host a performance of The Complete Works of William Shakespeare (Abridged)\, directed by Virginia Monte. [source: MuCCC website\, 2016-Apr-18]
URL:https://jayceland.com/blog/event/the-complete-works-of-william-shakespeare-abridged-theatrical-performance/
LOCATION:MuCCC (Multi-use Community Cultural Center)\, 142 Atlantic Ave.\, Rochester\, New York\, 14607\, United States
CATEGORIES:JayceLand 2016-Apr-21
ATTACH;FMTTYPE=:
END:VEVENT
BEGIN:VEVENT
DTSTART;TZID=America/New_York:20160423T180000
DTEND;TZID=America/New_York:20160423T220000
DTSTAMP:20260425T122407
CREATED:20160420T132015Z
LAST-MODIFIED:20160427T183334Z
UID:7637-1461434400-1461448800@jayceland.com
SUMMARY:Fast Forward Film Festival Screening\, Gala\, and Awards Ceremony
DESCRIPTION:In the George Eastman Museum is the Fast Forward Film Festival's Screening\, Gala\, and Awards Ceremony\, "Showcasing New Environmental Perspectives". The Gala begins at 6 p.m. in the Potter Peristyle at George Eastman Museum and the Screening and Awards Ceremony begins at 8 p.m. in the Dryden Theatre.  \nThe Fast Forward Film Festival encourages films that tap into the local experience and compel audiences to engage with the community and raise environmental awareness.  Embracing the short film format\, Fast Forward challenges filmmakers to utilize the power of visual storytelling to convey the urgency of our environmental problems and inspire environmental awareness. Shorts are a liberating form that allow for greater experimentation and give voice to both aspiring and veteran filmmakers. By focusing creativity into films under five minutes in length\, Fast Forward films become an important communication tool to promote change\, connect people and build an environmentally concerned community. \n [source: Facebook\, 2016-Apr-20]
URL:https://jayceland.com/blog/event/fast-forward-film-festival-screening-gala-and-awards-ceremony/
LOCATION:George Eastman Museum (formerly George Eastman House)\, 900 East Ave.\, Rochester\, New York\, 14607\, United States
CATEGORIES:JayceLand 2016-Apr-21
ATTACH;FMTTYPE=:
END:VEVENT
BEGIN:VEVENT
DTSTART;TZID=America/New_York:20160423T190000
DTEND;TZID=America/New_York:20160423T204100
DTSTAMP:20260425T122407
CREATED:20160420T132015Z
LAST-MODIFIED:20160427T183334Z
UID:7639-1461438000-1461444060@jayceland.com
SUMMARY:Demolition screening (2016-Apr-23 @ 7 p.m.)
DESCRIPTION:The Cinema will screen Demolition (Jean-Marc Vallée\, U.S. 2015\, 101 min.) "As an investment banker struggles after losing his wife in a tragic car crash\, his increasingly confessional series of letters to a vending machine company catch the attention of a customer service rep with whom he forms an unlikely connection." [source: Cinema coming soon page\, 2016-Apr-20]
URL:https://jayceland.com/blog/event/demolition-screening-2016-apr-23-7-p-m/
LOCATION:Cinema Theatre\, 957 S. Clinton Ave.\, Rochester\, New York\, 14620\, United States
CATEGORIES:JayceLand 2016-Apr-21
ATTACH;FMTTYPE=:
END:VEVENT
BEGIN:VEVENT
DTSTART;TZID=America/New_York:20160423T193000
DTEND;TZID=America/New_York:20160423T210000
DTSTAMP:20260425T122407
CREATED:20160427T183333Z
LAST-MODIFIED:20160427T183333Z
UID:7689-1461439800-1461445200@jayceland.com
SUMMARY:The Photographic Historical Society (TPHS) meeting (2016-Apr-23 @ 7:30 p.m.)
DESCRIPTION:Tonight's The Photographic Historical Society (TPHS) meeting at Barnes and Noble features Grant Romer discussing More Light — The Story of the First American Photography Patent.  \nOn May 8\, 1840\, Alexander S. Wolcott was granted the first American patent relating to Photography for a lensless camera employing a concave mirror. With this camera\, together with his collaborator\, John Johnson\, Wolcott opened the first commercial photographic portrait studio in the world on First Street\, in New York City. \n [source: Facebook\, 2016-Apr-18]
URL:https://jayceland.com/blog/event/the-photographic-historical-society-tphs-meeting-2016-apr-23-730-p-m-2/
LOCATION:Barnes and Noble\, 3349 Monroe Ave.\, Pittsford\, New York\, 14618\, United States
CATEGORIES:JayceLand 2016-Apr-21
END:VEVENT
BEGIN:VEVENT
DTSTART;TZID=America/New_York:20160423T193000
DTEND;TZID=America/New_York:20160423T213000
DTSTAMP:20260425T122407
CREATED:20160406T202014Z
LAST-MODIFIED:20160427T183335Z
UID:7525-1461439800-1461447000@jayceland.com
SUMMARY:Kevin Meaney comedy performance (2016-Apr-23 @ 7:30 p.m.)
DESCRIPTION:[source: City Newspaper events calendar\, 2016-Apr-20]
URL:https://jayceland.com/blog/event/alls-well-that-ends-well-theatrical-performance-2016-apr-23-730-p-m/
LOCATION:Comedy Club\, 2235 Empire Blvd.\, Webster\, New York\, 14580\, United States
CATEGORIES:JayceLand 2016-Apr-21
ATTACH;FMTTYPE=:
END:VEVENT
BEGIN:VEVENT
DTSTART;TZID=America/New_York:20160423T203000
DTEND;TZID=America/New_York:20160423T220000
DTSTAMP:20260425T122407
CREATED:20160420T132013Z
LAST-MODIFIED:20160427T183332Z
UID:7603-1461443400-1461448800@jayceland.com
SUMMARY:Hey Mavis musical performance
DESCRIPTION:[source: Bop Shop website\, 2016-Apr-18]
URL:https://jayceland.com/blog/event/hey-mavis-musical-performance/
LOCATION:Bop Shop Records\, 1460 Monroe Ave.\, Rochester\, New York\, 14618\, United States
CATEGORIES:JayceLand 2016-Apr-21
ATTACH;FMTTYPE=:
END:VEVENT
BEGIN:VEVENT
DTSTART;TZID=America/New_York:20160423T204500
DTEND;TZID=America/New_York:20160423T222900
DTSTAMP:20260425T122407
CREATED:20160420T132050Z
LAST-MODIFIED:20160427T183335Z
UID:7656-1461444300-1461450540@jayceland.com
SUMMARY:Lady in the Van screening (2016-Apr-23 @ 8:45 p.m.)
DESCRIPTION:The Cinema will screen Lady in the Van (Nicholas Hytner\, U.K. 2015\, 104 min.) "A man forms an unexpected bond with a transient woman living in her van that's parked in his driveway." [source: Cinema coming soon page\, 2016-Apr-20]
URL:https://jayceland.com/blog/event/lady-in-the-van-screening-2016-apr-23-845-p-m/
LOCATION:Cinema Theatre\, 957 S. Clinton Ave.\, Rochester\, New York\, 14620\, United States
CATEGORIES:JayceLand 2016-Apr-21
ATTACH;FMTTYPE=:
END:VEVENT
BEGIN:VEVENT
DTSTART;TZID=America/New_York:20160423T220000
DTEND;TZID=America/New_York:20160424T000000
DTSTAMP:20260425T122407
CREATED:20160420T132016Z
LAST-MODIFIED:20160420T132016Z
UID:7651-1461448800-1461456000@jayceland.com
SUMMARY:Kevin Meaney comedy performance (2016-Apr-23 @ 10 p.m.)
DESCRIPTION:[source: City Newspaper events calendar\, 2016-Apr-20]
URL:https://jayceland.com/blog/event/kevin-meaney-comedy-performance-2016-apr-23-10-p-m/
LOCATION:New York
CATEGORIES:JayceLand 2016-Apr-21
END:VEVENT
END:VCALENDAR