BEGIN:VCALENDAR
VERSION:2.0
PRODID:-//JayceLand - ECPv6.15.20//NONSGML v1.0//EN
CALSCALE:GREGORIAN
METHOD:PUBLISH
X-WR-CALNAME:JayceLand
X-ORIGINAL-URL:https://jayceland.com/blog
X-WR-CALDESC:Events for JayceLand
REFRESH-INTERVAL;VALUE=DURATION:PT1H
X-Robots-Tag:noindex
X-PUBLISHED-TTL:PT1H
BEGIN:VTIMEZONE
TZID:America/New_York
BEGIN:DAYLIGHT
TZOFFSETFROM:-0500
TZOFFSETTO:-0400
TZNAME:EDT
DTSTART:20150308T070000
END:DAYLIGHT
BEGIN:STANDARD
TZOFFSETFROM:-0400
TZOFFSETTO:-0500
TZNAME:EST
DTSTART:20151101T060000
END:STANDARD
BEGIN:DAYLIGHT
TZOFFSETFROM:-0500
TZOFFSETTO:-0400
TZNAME:EDT
DTSTART:20160313T070000
END:DAYLIGHT
BEGIN:STANDARD
TZOFFSETFROM:-0400
TZOFFSETTO:-0500
TZNAME:EST
DTSTART:20161106T060000
END:STANDARD
BEGIN:DAYLIGHT
TZOFFSETFROM:-0500
TZOFFSETTO:-0400
TZNAME:EDT
DTSTART:20170312T070000
END:DAYLIGHT
BEGIN:STANDARD
TZOFFSETFROM:-0400
TZOFFSETTO:-0500
TZNAME:EST
DTSTART:20171105T060000
END:STANDARD
END:VTIMEZONE
BEGIN:VEVENT
DTSTART;TZID=America/New_York:20160409T103000
DTEND;TZID=America/New_York:20160409T120000
DTSTAMP:20260419T153834
CREATED:20160406T202015Z
LAST-MODIFIED:20160406T202015Z
UID:7542-1460197800-1460203200@jayceland.com
SUMMARY:Asian Brush Painting and Calligraphy demonstration
DESCRIPTION:Dr. Alice W. Chen will show her passion for creating flowers and writing calligraphy. demonstrate Asian brush painting. Samples of her artwork will illustrate these are fascinating stepping stones to any art disciplines. If time allows there will be an opportunity to try it yourself. \n [source: City Newspaper events calendar\, 2016-Apr-4]
URL:https://jayceland.com/blog/event/asian-brush-painting-and-calligraphy-demonstration/
LOCATION:Penfield Public Library\, 1985 Baird Rd.\, Penfield\, New York\, 14526\, United States
CATEGORIES:JayceLand 2016-Apr-7
END:VEVENT
BEGIN:VEVENT
DTSTART;TZID=America/New_York:20160409T110000
DTEND;TZID=America/New_York:20160409T120000
DTSTAMP:20260419T153834
CREATED:20160406T202017Z
LAST-MODIFIED:20160406T202017Z
UID:7563-1460199600-1460203200@jayceland.com
SUMMARY:Rediscovering Frederick Douglas screening (2016-Apr-9 @ 11 a.m.)
DESCRIPTION:The Little will screen Rediscovering Frederick Douglas (William Schwappacher\, U.S. 2016)  \nJoin us for a free screening of "Rediscovering Frederick Douglass\," a new film that documents the discovery of a previously unknown photograph. Discussion to follow screening on indie-film making with Director William Schwappacher and Producer Tiana Stephens. \n [source: City of Rochester\, Rediscovering Frederick Douglass page\, 2016-Apr-6]
URL:https://jayceland.com/blog/event/rediscovering-frederick-douglas-screening-2016-apr-9-11-a-m/
LOCATION:Little Theatre\, 240 East Ave. #100\, Rochester\, New York\, 14604\, United States
CATEGORIES:JayceLand 2016-Apr-7
END:VEVENT
BEGIN:VEVENT
DTSTART;TZID=America/New_York:20160409T120000
DTEND;TZID=America/New_York:20160409T130000
DTSTAMP:20260419T153834
CREATED:20160406T202011Z
LAST-MODIFIED:20160406T202011Z
UID:7491-1460203200-1460206800@jayceland.com
SUMMARY:Hochstein Chamber Music Ensemble performance
DESCRIPTION:[source: Monroe County Library website\, 2016-Apr-4]
URL:https://jayceland.com/blog/event/hochstein-chamber-music-ensemble-performance/
LOCATION:Arnett Branch Library\, 310 Arnett Blvd.\, Rochester\, New York\, 14619\, United States
CATEGORIES:JayceLand 2016-Apr-7
END:VEVENT
BEGIN:VEVENT
DTSTART;TZID=America/New_York:20160409T122500
DTEND;TZID=America/New_York:20160409T141900
DTSTAMP:20260419T153834
CREATED:20160406T221945Z
LAST-MODIFIED:20160406T221945Z
UID:7565-1460204700-1460211540@jayceland.com
SUMMARY:Jag Ã¤r Ingrid (Ingrid Bergman: In Her Own Words) screening (2016-Apr-9 @ 12:25 p.m.)
DESCRIPTION:The Little will screen Jag Ã¤r Ingrid (Ingrid Bergman: In Her Own Words\, Stig BjÃ¶rkman\, Sweden 2015\, 114 min.\, DCP\, English and Swedish w/subtitles).  \nIngrid Bergman in Her Own Words is a captivating look behind the scenes of the remarkable life of a young Swedish girl who became one of the most celebrated actresses of American and World cinema. \n [source: Little Theatre e-mail\, 2016-Apr-6]
URL:https://jayceland.com/blog/event/jag-ar-ingrid-ingrid-bergman-in-her-own-words-screening-2016-apr-9-1225-p-m/
LOCATION:Little Theatre\, 240 East Ave. #100\, Rochester\, New York\, 14604\, United States
CATEGORIES:JayceLand 2016-Apr-7
END:VEVENT
BEGIN:VEVENT
DTSTART;TZID=America/New_York:20160409T153000
DTEND;TZID=America/New_York:20160409T172000
DTSTAMP:20260419T153834
CREATED:20160330T150737Z
LAST-MODIFIED:20160330T150737Z
UID:7406-1460215800-1460222400@jayceland.com
SUMMARY:How to Change the World screening (2016-Apr-9 @ 3:30 p.m.)
DESCRIPTION:The Little will screen How to Change the World (Jerry Rothwell\, Canada / U.K. / Netherlands / U.S. 2015\, 110 min.) as part of the One Take Documentary Series with a post-screening Skype Q&A with director Jerry Rothwell.  \nHow to Change the World chronicles the adventures of an eclectic group of young pioneers — Canadian hippie journalists\, photographers\, musicians\, scientists\, and American draft dodgers — who set out to stop Richard Nixon's atomic bomb tests in Amchitka\, Alaska\, and end up creating the worldwide green movement. \n [source: Little Theatre website\, 2016-Mar-28]
URL:https://jayceland.com/blog/event/how-to-change-the-world-screening-2016-apr-9-330-p-m/
LOCATION:Little Theatre\, 240 East Ave. #100\, Rochester\, New York\, 14604\, United States
CATEGORIES:JayceLand 2016-Apr-7
END:VEVENT
BEGIN:VEVENT
DTSTART;TZID=America/New_York:20160409T183000
DTEND;TZID=America/New_York:20160409T211700
DTSTAMP:20260419T153834
CREATED:20160406T202013Z
LAST-MODIFIED:20160406T202013Z
UID:7513-1460226600-1460236620@jayceland.com
SUMMARY:Straight Outta Compton screening (2016-Apr-9 @ 6:30 p.m.)
DESCRIPTION:The UofR Cinema Group will screen Straight Outta Compton (F. Gary Gray\, U.S. 2015\, 167 min.)  \nThe group NWA emerges from the mean streets of Compton in Los Angeles\, California\, in the mid-1980s and revolutionizes Hip Hop culture with their music and tales about life in the hood. \n [source: University of Rochester Cinema Group website\, 2016-Apr-4]
URL:https://jayceland.com/blog/event/straight-outta-compton-screening-2016-apr-9-630-p-m/
LOCATION:Hoyt Auditorium\, University of Rochester Campus\, Rochester\, New York\, United States
CATEGORIES:JayceLand 2016-Apr-7
END:VEVENT
BEGIN:VEVENT
DTSTART;TZID=America/New_York:20160409T190000
DTEND;TZID=America/New_York:20160409T210000
DTSTAMP:20260419T153834
CREATED:20160406T202012Z
LAST-MODIFIED:20160406T202012Z
UID:7503-1460228400-1460235600@jayceland.com
SUMMARY:Technical Grounds Annual Breakdance Competition
DESCRIPTION:In the SAU Cafeteria at RIT is Technical Grounds Annual Breakdance Competition. "It will be a 3v3 tournament stype battle." [source: RIT College Activities Board website\, 2016-Apr-4]
URL:https://jayceland.com/blog/event/technical-grounds-annual-breakdance-competition/
LOCATION:Rochester Institute of Technology (RIT)\, 1 Lomb Memorial Dr.\, Rochester\, New York\, 14623\, United States
CATEGORIES:JayceLand 2016-Apr-7
END:VEVENT
BEGIN:VEVENT
DTSTART;TZID=America/New_York:20160409T190000
DTEND;TZID=America/New_York:20160409T213600
DTSTAMP:20260419T153834
CREATED:20160406T202016Z
LAST-MODIFIED:20160406T202016Z
UID:7556-1460228400-1460237760@jayceland.com
SUMMARY:The Revenant screening (2016-Apr-9 @ 7 p.m.)
DESCRIPTION:The Cinema will screen The Revenant (Alejandro González Iñárritu\, U.S. / Hong Kong / Taiwan / Canada 2015\, 156 min.)  "A frontiersman on a fur trading expedition in the 1820s fights for survival after being mauled by a bear and left for dead by members of his own hunting team." [source: Cinema coming soon page\, 2016-Apr-6]
URL:https://jayceland.com/blog/event/the-revenant-screening-2016-apr-9-7-p-m/
LOCATION:Cinema Theatre\, 957 S. Clinton Ave.\, Rochester\, New York\, 14620\, United States
CATEGORIES:JayceLand 2016-Apr-7
END:VEVENT
BEGIN:VEVENT
DTSTART;TZID=America/New_York:20160409T190000
DTEND;TZID=America/New_York:20160409T220000
DTSTAMP:20260419T153834
CREATED:20160406T202015Z
LAST-MODIFIED:20160406T202015Z
UID:7546-1460228400-1460239200@jayceland.com
SUMMARY:Attic Abasement\, Friendship\, The Gifted Children\, Roof Doctor musical performances
DESCRIPTION:[source: Facebook\, 2016-Apr-4]
URL:https://jayceland.com/blog/event/attic-abasement-friendship-the-gifted-children-roof-doctor-musical-performances/
LOCATION:South Wedge Mission\, 125 Caroline St.\, Rochester\, New York\, 14620\, United States
CATEGORIES:JayceLand 2016-Apr-7
END:VEVENT
BEGIN:VEVENT
DTSTART;TZID=America/New_York:20160409T193000
DTEND;TZID=America/New_York:20160409T213000
DTSTAMP:20260419T153834
CREATED:20160406T202013Z
LAST-MODIFIED:20160406T202013Z
UID:7519-1460230200-1460237400@jayceland.com
SUMMARY:All's Well that Ends Well theatrical performance (2016-Apr-9 @ 7:30 p.m.)
DESCRIPTION:The MuCCC will host a performance by the Shakespeare Players of All's Well that Ends Well by William Shakespeare.  \nDr. Cece McFarland\, the director\, has chosen a fairy-tale setting for this fantastical comedy in which Helena\, a woman of modest birth\, pursues her true love\, the well-born Bertram. Helena's questionable tactics are marked by the intrigue and comic trickery for which Shakespeare is known\, and\, of course\, give rise to the famous saying about how things turn out. \n [source: MuCCC website\, 2016-Apr-4]
URL:https://jayceland.com/blog/event/alls-well-that-ends-well-theatrical-performance-2016-apr-9-730-p-m/
LOCATION:MuCCC (Multi-use Community Cultural Center)\, 142 Atlantic Ave.\, Rochester\, New York\, 14607\, United States
CATEGORIES:JayceLand 2016-Apr-7
END:VEVENT
BEGIN:VEVENT
DTSTART;TZID=America/New_York:20160409T200000
DTEND;TZID=America/New_York:20160409T215000
DTSTAMP:20260419T153834
CREATED:20160406T202014Z
LAST-MODIFIED:20160406T202014Z
UID:7530-1460232000-1460238600@jayceland.com
SUMMARY:Goldfinger screening (2016-Apr-9 @ 8 p.m.)
DESCRIPTION:The Dryden will screen Goldfinger (Guy Hamilton\, U.K. / U.S. 1964\, 110 min.\, 35mm).  \nGoldfinger represents the moment the Bond series cemented itself as a cultural icon. Featured are all the tropes that would appear consistently throughout the series: a narcissistic super villain\, a henchman with whimsical fighting skills (a deadly hat!)\, a bawdy-named love interest\, a gadget-equipped car\, and a big climactic action set piece. It also has the first traces of a feminist outlook for the series\, with franchise-favorite Bond Girl Pussy Galore holding her own. After going international in the first two films\, the series narrowed its focus for the third\, resulting in a tightly written classic of the action genre. Featuring the iconic Shirley Bassey theme song to which all other Bond themes are compared. \n [source: George Eastman Museum website\, 2016-Apr-4]
URL:https://jayceland.com/blog/event/goldfinger-screening-2016-apr-9-8-p-m/
LOCATION:Dryden Theatre at George Eastman Museum (formerly George Eastman House)\, 900 East Ave.\, Rochester\, New York\, 14607\, United States
CATEGORIES:JayceLand 2016-Apr-7
END:VEVENT
BEGIN:VEVENT
DTSTART;TZID=America/New_York:20160409T200000
DTEND;TZID=America/New_York:20160409T220000
DTSTAMP:20260419T153834
CREATED:20160406T202012Z
LAST-MODIFIED:20160406T202012Z
UID:7504-1460232000-1460239200@jayceland.com
SUMMARY:Ossia New Music concert
DESCRIPTION:[source: Ossia New Music website\, 2016-Apr-4]
URL:https://jayceland.com/blog/event/ossia-new-music-concert/
LOCATION:Kilbourn Hall at Eastman School of Music\, 60 Gibbs St.\, Rochester\, New York\, 14604\, United States
CATEGORIES:JayceLand 2016-Apr-7
END:VEVENT
BEGIN:VEVENT
DTSTART;TZID=America/New_York:20160409T200000
DTEND;TZID=America/New_York:20160409T220000
DTSTAMP:20260419T153834
CREATED:20160406T202013Z
LAST-MODIFIED:20160406T202013Z
UID:7511-1460232000-1460239200@jayceland.com
SUMMARY:The 24 Hour Musical Theatre Festival
DESCRIPTION:Similar to Writers and Books smashing success The 24 Hour Plays (performed at the First Niagara Rochester Fringe Festival the past several years)\, the 24 Hour Musical will involve 20 artists made up of composers\, playwrights\, directors\, actors\, and musical directors working together in teams to create 4 original musicals\, written\, rehearsed\, and preformed\, in exactly 24 hours. \n [source: Writers and Books website\, 2016-Apr-4]
URL:https://jayceland.com/blog/event/the-24-hour-musical-theatre-festival/
LOCATION:Blackfriars Theatre\, 795 E. Main St.\, Rochester\, New York\, 14605\, United States
CATEGORIES:JayceLand 2016-Apr-7
END:VEVENT
BEGIN:VEVENT
DTSTART;TZID=America/New_York:20160409T203000
DTEND;TZID=America/New_York:20160409T223000
DTSTAMP:20260419T153834
CREATED:20160406T202011Z
LAST-MODIFIED:20160406T202011Z
UID:7479-1460233800-1460241000@jayceland.com
SUMMARY:Chris Trapper musical performance
DESCRIPTION:Chris Trapper began his career as the front man for late-90's alternative rock band The Push Stars (Capital Records). With four CD releases and several high profile national tours-including a run with Matchbox Twenty\, The Push Stars served to establish Chris as an authentic talent. As a singer-songwriter\, Chris is most known for his original song "This Time\," the #1 selling song on the Grammy-nominate soundtrack for "August Rush" (Robin Williams\, Jonathan Rhys Meyers/Warner Bros Pictures). His music can best be described as lyrically driven root-pop with a knack for telling everyday stories. The New York Times has called his work "classic pop perfection." \n [source: Abilene website\, 2016-Apr-4]
URL:https://jayceland.com/blog/event/chris-trapper-musical-performance/
LOCATION:Record Archive\, 33 1/3 Rockwood St.\, Rochester\, New York\, 14610\, United States
CATEGORIES:JayceLand 2016-Apr-7
END:VEVENT
BEGIN:VEVENT
DTSTART;TZID=America/New_York:20160409T214500
DTEND;TZID=America/New_York:20160410T003200
DTSTAMP:20260419T153834
CREATED:20160406T202013Z
LAST-MODIFIED:20160406T202013Z
UID:7514-1460238300-1460248320@jayceland.com
SUMMARY:Straight Outta Compton screening (2016-Apr-9 @ 9:45 p.m.)
DESCRIPTION:The UofR Cinema Group will screen Straight Outta Compton (F. Gary Gray\, U.S. 2015\, 167 min.)  \nThe group NWA emerges from the mean streets of Compton in Los Angeles\, California\, in the mid-1980s and revolutionizes Hip Hop culture with their music and tales about life in the hood. \n [source: University of Rochester Cinema Group website\, 2016-Apr-4]
URL:https://jayceland.com/blog/event/straight-outta-compton-screening-2016-apr-9-945-p-m/
LOCATION:Hoyt Auditorium\, University of Rochester Campus\, Rochester\, New York\, United States
CATEGORIES:JayceLand 2016-Apr-7
END:VEVENT
END:VCALENDAR