BEGIN:VCALENDAR
VERSION:2.0
PRODID:-//JayceLand - ECPv6.15.20//NONSGML v1.0//EN
CALSCALE:GREGORIAN
METHOD:PUBLISH
X-ORIGINAL-URL:https://jayceland.com/blog
X-WR-CALDESC:Events for JayceLand
REFRESH-INTERVAL;VALUE=DURATION:PT1H
X-Robots-Tag:noindex
X-PUBLISHED-TTL:PT1H
BEGIN:VTIMEZONE
TZID:America/New_York
BEGIN:DAYLIGHT
TZOFFSETFROM:-0500
TZOFFSETTO:-0400
TZNAME:EDT
DTSTART:20150308T070000
END:DAYLIGHT
BEGIN:STANDARD
TZOFFSETFROM:-0400
TZOFFSETTO:-0500
TZNAME:EST
DTSTART:20151101T060000
END:STANDARD
BEGIN:DAYLIGHT
TZOFFSETFROM:-0500
TZOFFSETTO:-0400
TZNAME:EDT
DTSTART:20160313T070000
END:DAYLIGHT
BEGIN:STANDARD
TZOFFSETFROM:-0400
TZOFFSETTO:-0500
TZNAME:EST
DTSTART:20161106T060000
END:STANDARD
BEGIN:DAYLIGHT
TZOFFSETFROM:-0500
TZOFFSETTO:-0400
TZNAME:EDT
DTSTART:20170312T070000
END:DAYLIGHT
BEGIN:STANDARD
TZOFFSETFROM:-0400
TZOFFSETTO:-0500
TZNAME:EST
DTSTART:20171105T060000
END:STANDARD
END:VTIMEZONE
BEGIN:VEVENT
DTSTART;TZID=America/New_York:20160221T000000
DTEND;TZID=America/New_York:20160221T015900
DTSTAMP:20260423T022501
CREATED:20160217T142838Z
LAST-MODIFIED:20160217T142838Z
UID:7104-1456012800-1456019940@jayceland.com
SUMMARY:The Danish Girl screening (2016-Feb-21 @ 12 a.m.)
DESCRIPTION:The UofR Cinema Group will screen The Danish Girl (Tom Hooper\, U.K. / U.S. / Belgium / Denmark / Germany 2015\, 119 min.) in Hoyt Auditorium on the UofR Campus.  \nThe Danish Girl The Danish Girl A fictitious love story loosely inspired by the lives of Danish artists Lili Elbe and Gerda Wegener. Lili and Gerda's marriage and work evolve as they navigate Lili's groundbreaking journey as a transgender pioneer. \n [source: University of Rochester Cinema Group website\, 2016-Feb-15]
URL:https://jayceland.com/blog/event/the-danish-girl-screening-2016-feb-21-12-a-m/
LOCATION:Hoyt Auditorium\, University of Rochester Campus\, Rochester\, New York\, United States
CATEGORIES:JayceLand 2016-Feb-18
END:VEVENT
BEGIN:VEVENT
DTSTART;TZID=America/New_York:20160221T140000
DTEND;TZID=America/New_York:20160221T160000
DTSTAMP:20260423T022501
CREATED:20160217T142838Z
LAST-MODIFIED:20160217T142838Z
UID:7108-1456063200-1456070400@jayceland.com
SUMMARY:The Designated Mourner by Wallace Shawn theatrical performance (2016-Feb-21 @ 2 p.m.)
DESCRIPTION:The MuCCC will host a performance of The Designated Mourner by Wallace Shawn.  \n"The designated mourner. I am the designated mourner. I have to tell you that a very special little world has died\, and I am the designated mourner"\, Jack says to start this show. Jack and Judy and Howard tell the stories of the lives of Jack and Judy and Howard\, and the unnamed country in which they try to live.  The tales cover decades. Jack and Judy and Howard change (and stay the same)\, and the country changes (and stays the same). It is a country of unstable stability\, of precarious lives\, and the narratives reflect this. You will be drawn into this world and these lives; take what you will from them. \n [source: MuCCC website\, 2016-Feb-15]
URL:https://jayceland.com/blog/event/the-designated-mourner-by-wallace-shawn-theatrical-performance-2016-feb-21-2-p-m/
LOCATION:MuCCC (Multi-use Community Cultural Center)\, 142 Atlantic Ave.\, Rochester\, New York\, 14607\, United States
CATEGORIES:JayceLand 2016-Feb-18
END:VEVENT
BEGIN:VEVENT
DTSTART;TZID=America/New_York:20160221T140000
DTEND;TZID=America/New_York:20160221T160000
DTSTAMP:20260423T022501
CREATED:20160217T142838Z
LAST-MODIFIED:20160217T142838Z
UID:7120-1456063200-1456070400@jayceland.com
SUMMARY:Daguerreotypes screening
DESCRIPTION:The Dryden will screen Daguerreotypes (AgnÃ¨s Varda\, France 1976\, 80 min.\, DCP\, French w/subtitles).  \nDaguerreotypes is a stunningly intimate portrait of the shopkeepers and small shops of the rue Daguerre\, a picturesque Parisian street\, where Varda has lived and worked for more than fifty years. The title\, Daguerreotypes\, references both the name of her street and early photographic portraits\, which she evokes in poetically documenting her neighbors. Through this intimate and local lens\, Varda reveals a larger world in the process of transformation\, creating a portrait of a city and ways of life that no longer exist. \n [source: George Eastman Museum website\, 2016-Feb-15]
URL:https://jayceland.com/blog/event/daguerreotypes-screening/
LOCATION:Dryden Theatre at George Eastman Museum (formerly George Eastman House)\, 900 East Ave.\, Rochester\, New York\, 14607\, United States
CATEGORIES:JayceLand 2016-Feb-18
END:VEVENT
BEGIN:VEVENT
DTSTART;TZID=America/New_York:20160221T210000
DTEND;TZID=America/New_York:20160221T230000
DTSTAMP:20260423T022501
CREATED:20160217T142838Z
LAST-MODIFIED:20160217T142838Z
UID:7085-1456088400-1456095600@jayceland.com
SUMMARY:Eleanor Friedberger\, Icewater musical performances
DESCRIPTION:[source: Bug Jar calendar\, 2016-Feb-15]
URL:https://jayceland.com/blog/event/eleanor-friedberger-icewater-musical-performances/
LOCATION:Bug Jar\, 219 Monroe Ave\, Rochester\, New York\, 14607\, United States
CATEGORIES:JayceLand 2016-Feb-18
END:VEVENT
END:VCALENDAR