BEGIN:VCALENDAR
VERSION:2.0
PRODID:-//JayceLand - ECPv6.15.20//NONSGML v1.0//EN
CALSCALE:GREGORIAN
METHOD:PUBLISH
X-ORIGINAL-URL:https://jayceland.com/blog
X-WR-CALDESC:Events for JayceLand
REFRESH-INTERVAL;VALUE=DURATION:PT1H
X-Robots-Tag:noindex
X-PUBLISHED-TTL:PT1H
BEGIN:VTIMEZONE
TZID:America/New_York
BEGIN:DAYLIGHT
TZOFFSETFROM:-0500
TZOFFSETTO:-0400
TZNAME:EDT
DTSTART:20150308T070000
END:DAYLIGHT
BEGIN:STANDARD
TZOFFSETFROM:-0400
TZOFFSETTO:-0500
TZNAME:EST
DTSTART:20151101T060000
END:STANDARD
BEGIN:DAYLIGHT
TZOFFSETFROM:-0500
TZOFFSETTO:-0400
TZNAME:EDT
DTSTART:20160313T070000
END:DAYLIGHT
BEGIN:STANDARD
TZOFFSETFROM:-0400
TZOFFSETTO:-0500
TZNAME:EST
DTSTART:20161106T060000
END:STANDARD
BEGIN:DAYLIGHT
TZOFFSETFROM:-0500
TZOFFSETTO:-0400
TZNAME:EDT
DTSTART:20170312T070000
END:DAYLIGHT
BEGIN:STANDARD
TZOFFSETFROM:-0400
TZOFFSETTO:-0500
TZNAME:EST
DTSTART:20171105T060000
END:STANDARD
END:VTIMEZONE
BEGIN:VEVENT
DTSTART;TZID=America/New_York:20160108T170000
DTEND;TZID=America/New_York:20160108T190000
DTSTAMP:20260424T022640
CREATED:20160106T180911Z
LAST-MODIFIED:20160106T180911Z
UID:6706-1452272400-1452279600@jayceland.com
SUMMARY:Winter's Warmth Soup Benefit
DESCRIPTION:Cat Clay will host their annual Winter's Warmth Soup Benefit.  \nDonate $20\, and get a hand-made bowl and package of Healthy Sisters' soup mix. Then graze to your heart's delight on delicious apps and desserts. Doors open at 5. But don't delay\, dawdle or dillydally – come early to pick a bowl made by your favorite artist. To spread the soup joy\, visitors are limited to purchasing 2 bowls. 100% of proceeds are donated to Healthy Sisters Soup and Bean Works. \n [source: Facebook\, 2016-Jan-4]
URL:https://jayceland.com/blog/event/winters-warmth-soup-benefit/
LOCATION:Cat Clay\, 1115 E. Main St. Hungerford Building\, Suite #242\, Rochester\, New York\, United States
CATEGORIES:JayceLand 2016-Jan-7
END:VEVENT
BEGIN:VEVENT
DTSTART;TZID=America/New_York:20160108T170000
DTEND;TZID=America/New_York:20160108T200000
DTSTAMP:20260424T022640
CREATED:20160106T180908Z
LAST-MODIFIED:20160106T180908Z
UID:6682-1452272400-1452283200@jayceland.com
SUMMARY:The Magic of Light 2016 Opening Reception (2016-Jan-8 @ 5 p.m.)
DESCRIPTION:The Image City Photography Gallery will host an Opening Reception for The Magic of Light 2016\, on display through January 24.  \nWe are pleased to announce the first show of the year — our always popular juried show\, The Magic of Light 2016. With 98 photographers exhibiting more than 160 photographs juried into the show\, you will find it to be a strong demonstration of the photographic talents and diverse photographic themes that we have come to expect from participating artists. This is the ninth year we have invited photographers to submit their photographs for the annual exhibition. Each year it is better and better. \n [source: Image City Photography Gallery e-mail\, 2016-Jan-4]
URL:https://jayceland.com/blog/event/the-magic-of-light-2016-opening-reception-2016-jan-8-5-p-m/
LOCATION:Image City Photography Gallery\, 722 University Ave.\, Rochester\, New York\, 14607\, United States
CATEGORIES:JayceLand 2016-Jan-7
END:VEVENT
BEGIN:VEVENT
DTSTART;TZID=America/New_York:20160108T190000
DTEND;TZID=America/New_York:20160108T210000
DTSTAMP:20260424T022640
CREATED:20151230T140624Z
LAST-MODIFIED:20151230T140624Z
UID:6642-1452279600-1452286800@jayceland.com
SUMMARY:The Woolgatherer theatrical performance (2016-Jan-8 @ 7 p.m.)
DESCRIPTION:The MuCCC will host a performance of The Woolgatherer by William Mastrosimone.  \nTruck driver\, Cliff\, meets a a clerk\, Rose\, at a southern Philadelphia five-and-dime. Rose invites Cliff back to her apartment while Cliff's truck is being fixed. Who were once two strangers soon come to realize that they have much more in common than they first expected. \n [source: MuCCC website\, 2015-Dec-28]
URL:https://jayceland.com/blog/event/the-woolgatherer-theatrical-performance-2016-jan-8-7-p-m/
LOCATION:MuCCC (Multi-use Community Cultural Center)\, 142 Atlantic Ave.\, Rochester\, New York\, 14607\, United States
CATEGORIES:JayceLand 2016-Jan-7
END:VEVENT
BEGIN:VEVENT
DTSTART;TZID=America/New_York:20160108T190000
DTEND;TZID=America/New_York:20160108T210400
DTSTAMP:20260424T022640
CREATED:20160106T180911Z
LAST-MODIFIED:20160106T180911Z
UID:6709-1452279600-1452287040@jayceland.com
SUMMARY:Trumbo screening (2016-Jan-8 @ 7 p.m.)
DESCRIPTION:The Cinema will screen Trumbo (Jay Roach\, U.S. 2015\, 124 min.) "In 1947\, Dalton Trumbo was Hollywood's top screenwriter\, until he and other artists were jailed and blacklisted for their political beliefs." [source: Cinema coming soon page\, 2016-Jan-6]
URL:https://jayceland.com/blog/event/trumbo-screening-2016-jan-8-7-p-m/
LOCATION:Cinema Theatre\, 957 S. Clinton Ave.\, Rochester\, New York\, 14620\, United States
CATEGORIES:JayceLand 2016-Jan-7
END:VEVENT
BEGIN:VEVENT
DTSTART;TZID=America/New_York:20160108T200000
DTEND;TZID=America/New_York:20160108T212000
DTSTAMP:20260424T022640
CREATED:20160106T180910Z
LAST-MODIFIED:20160106T180910Z
UID:6697-1452283200-1452288000@jayceland.com
SUMMARY:Hitchcock/Truffaut screening
DESCRIPTION:The Dryden will screen Hitchcock/Truffaut (Kent Jones\, U.S. 2015\, 80 min.\, DCP).  \nIn 1962\, FranÃ§ois Truffaut persuaded Alfred Hitchcock to sit with him for a week-long interview in which the great British auteur would share with his young admirer the secrets of his cinema. Based on the original recordings of this meeting—used to produce the seminal book Hitchcock/Truffaut—this film illustrates the greatest cinema lesson of all time and plunges us into the world of the creator of Psycho\, The Birds\, and Vertigo. Hitchcock's singular vision is elucidated and brought vividly to life by today's leading filmmakers: Martin Scorsese\, David Fincher\, Arnaud Desplechin\, Kiyoshi Kurosawa\, Wes Anderson\, James Gray\, Olivier Assayas\, Richard Linklater\, Peter Bogdanovich\, and Paul Schrader. \n [source: George Eastman Museum website\, 2016-Jan-4]
URL:https://jayceland.com/blog/event/hitchcocktruffaut-screening/
LOCATION:Dryden Theatre at George Eastman Museum (formerly George Eastman House)\, 900 East Ave.\, Rochester\, New York\, 14607\, United States
CATEGORIES:JayceLand 2016-Jan-7
END:VEVENT
BEGIN:VEVENT
DTSTART;TZID=America/New_York:20160108T203000
DTEND;TZID=America/New_York:20160108T223000
DTSTAMP:20260424T022640
CREATED:20160106T180909Z
LAST-MODIFIED:20160106T180909Z
UID:6691-1452285000-1452292200@jayceland.com
SUMMARY:The Beaumonts Album Release Show
DESCRIPTION:Excellent ska-driven rock from The Beaumonts will be at the Lovin' Cup for their Album Release Show. The "Beaumonts album 'Letting Go Of the Dial' will be available — free with paid admission." [source: Lovin' Cup website\, 2016-Jan-4]
URL:https://jayceland.com/blog/event/the-beaumonts-album-release-show/
LOCATION:Lovin' Cup\, 300 Park Point Dr.\, Rochester\, New York\, 14623\, United States
CATEGORIES:JayceLand 2016-Jan-7
END:VEVENT
BEGIN:VEVENT
DTSTART;TZID=America/New_York:20160108T210500
DTEND;TZID=America/New_York:20160108T230900
DTSTAMP:20260424T022640
CREATED:20160106T180912Z
LAST-MODIFIED:20160106T180912Z
UID:6716-1452287100-1452294540@jayceland.com
SUMMARY:Youth screening (2016-Jan-8 @ 9:05 p.m.)
DESCRIPTION:The Cinema will screen Youth (Paolo Sorrentino\, Italy / France / Switzerland / U.K. 2015\, 124 min.) "A retired orchestra conductor is on holiday with his daughter and his film director best friend in the Alps when he receives an invitation from Queen Elizabeth II to perform for Prince Philip's birthday." [source: Cinema coming soon page\, 2016-Jan-6]
URL:https://jayceland.com/blog/event/youth-screening-2016-jan-8-905-p-m/
LOCATION:Cinema Theatre\, 957 S. Clinton Ave.\, Rochester\, New York\, 14620\, United States
CATEGORIES:JayceLand 2016-Jan-7
END:VEVENT
BEGIN:VEVENT
DTSTART;TZID=America/New_York:20160108T213000
DTEND;TZID=America/New_York:20160108T233000
DTSTAMP:20260424T022640
CREATED:20160106T180909Z
LAST-MODIFIED:20160106T180909Z
UID:6689-1452288600-1452295800@jayceland.com
SUMMARY:Bowieoke 2: Birthday Boogaloo
DESCRIPTION:Abilene will host Bowieoke 2: Birthday Boogaloo\, "a night of David Bowie music and film to celebrate Mr. Bowie's 69th birthday. The audience is welcome to participate in Bowieoke (David Bowie karaoke!)." [source: Abilene website\, 2016-Jan-4]
URL:https://jayceland.com/blog/event/bowieoke-2-birthday-boogaloo/
LOCATION:Abilene Bar and Lounge\, 153 Liberty Pole Way\, Rochester\, New York\, 14604\, United States
CATEGORIES:JayceLand 2016-Jan-7
END:VEVENT
BEGIN:VEVENT
DTSTART;TZID=America/New_York:20160108T220000
DTEND;TZID=America/New_York:20160109T000000
DTSTAMP:20260424T022640
CREATED:20160106T180908Z
LAST-MODIFIED:20160106T180908Z
UID:6684-1452290400-1452297600@jayceland.com
SUMMARY:Hellboy II: The Golden Army screening
DESCRIPTION:The Little will screen the rather fun Hellboy II: The Golden Army (Guillermo del Toro\, U.S. / Germany 2008\, 120 min.) as part of the Mondo Movie Series.  \nIn this continuation to the adventure of the demon superhero\, an evil elf breaks an ancient pact between humans and creatures\, as he declares war against humanity. He is on a mission to release The Golden Army\, a deadly group of fighting machines that can destroy the human race. As Hell on Earth is ready to erupt\, Hellboy and his crew set out to defeat the evil prince before The Golden Army can destroy humanity's existence. \n [source: Little Theatre website\, 2016-Jan-4]
URL:https://jayceland.com/blog/event/hellboy-ii-the-golden-army-screening/
LOCATION:Little Theatre\, 240 East Ave. #100\, Rochester\, New York\, 14604\, United States
CATEGORIES:JayceLand 2016-Jan-7
END:VEVENT
END:VCALENDAR