BEGIN:VCALENDAR
VERSION:2.0
PRODID:-//JayceLand - ECPv6.15.20//NONSGML v1.0//EN
CALSCALE:GREGORIAN
METHOD:PUBLISH
X-ORIGINAL-URL:https://jayceland.com/blog
X-WR-CALDESC:Events for JayceLand
REFRESH-INTERVAL;VALUE=DURATION:PT1H
X-Robots-Tag:noindex
X-PUBLISHED-TTL:PT1H
BEGIN:VTIMEZONE
TZID:America/New_York
BEGIN:DAYLIGHT
TZOFFSETFROM:-0500
TZOFFSETTO:-0400
TZNAME:EDT
DTSTART:20150308T070000
END:DAYLIGHT
BEGIN:STANDARD
TZOFFSETFROM:-0400
TZOFFSETTO:-0500
TZNAME:EST
DTSTART:20151101T060000
END:STANDARD
BEGIN:DAYLIGHT
TZOFFSETFROM:-0500
TZOFFSETTO:-0400
TZNAME:EDT
DTSTART:20160313T070000
END:DAYLIGHT
BEGIN:STANDARD
TZOFFSETFROM:-0400
TZOFFSETTO:-0500
TZNAME:EST
DTSTART:20161106T060000
END:STANDARD
BEGIN:DAYLIGHT
TZOFFSETFROM:-0500
TZOFFSETTO:-0400
TZNAME:EDT
DTSTART:20170312T070000
END:DAYLIGHT
BEGIN:STANDARD
TZOFFSETFROM:-0400
TZOFFSETTO:-0500
TZNAME:EST
DTSTART:20171105T060000
END:STANDARD
END:VTIMEZONE
BEGIN:VEVENT
DTSTART;TZID=America/New_York:20160101T140000
DTEND;TZID=America/New_York:20160101T152600
DTSTAMP:20260421T021249
CREATED:20151230T140624Z
LAST-MODIFIED:20151230T140624Z
UID:6644-1451656800-1451661960@jayceland.com
SUMMARY:The 7th Voyage of Sinbad screening
DESCRIPTION:The Dryden will screen The 7th Voyage of Sinbad (Nathan Juran\, U.S. 1953\, 86 min.\, 16mm).  \nSet sail with the legendary Sinbad for this daring adventure to the mysterious Island of Colossa. To break the spell cast upon his beloved\, bride-to-be princess\, Sinbad and crew brave encounters with behemoth creatures while thwarting the evil attempts of Sakurah\, the mysterious magician. Legendary special effects wizard Ray Harryhausen is the real magician here\, breathing life into the people-eating Cyclops\, the fire-breathing dragon\, and sword-wielding skeleton. Employing his spectacular Dynamation process to combine stop-motion miniatures with live action and special visual effects\, Harryhausen crafts a truly epic cinematic voyage. Like Max Steiner's triumphant\, all-encompassing score for 1933's spectacular King Kong\, composer Bernard Herrmann's sweeping score is integral to the success of Sinbad's fantastic journey\, breathing life to sail and skeleton. Hail Sinbad! \n [source: George Eastman Museum website\, 2015-Dec-28]
URL:https://jayceland.com/blog/event/the-7th-voyage-of-sinbad-screening/
LOCATION:Dryden Theatre at George Eastman Museum (formerly George Eastman House)\, 900 East Ave.\, Rochester\, New York\, 14607\, United States
CATEGORIES:JayceLand 2015-Dec-31
END:VEVENT
BEGIN:VEVENT
DTSTART;TZID=America/New_York:20160101T190000
DTEND;TZID=America/New_York:20160101T210000
DTSTAMP:20260421T021249
CREATED:20151223T165842Z
LAST-MODIFIED:20151223T165842Z
UID:6599-1451674800-1451682000@jayceland.com
SUMMARY:My Fair Eliza theatrical performance (2016-Jan-1 @ 7 p.m.)
DESCRIPTION:The classic story of Professor Henry Higgins and his attempt to turn "guttersnipe" Eliza Doolittle into a lady who could pass as "a duchess at an ambassador's garden party" was first performed in 1913 (as a German translation) in Vienna\, followed by its New York premiere in March of 1914 (again in German) and finally in English in London in April\, 1914. […] "My Fair Eliza" (taking its name from both the musical and Shaw's working title\, "Fair Eliza") returns to Shaw's original version\, editing the work for time and clarity. It serves as a perfect introduction to one of the great works of the theater for the uninitiated and (at around an hour runtime) a breezy refresher for fans of "Pygmalion" and "My Fair Lady" alike. \n [source: MuCCC website\, 2015-Dec-21]
URL:https://jayceland.com/blog/event/my-fair-eliza-theatrical-performance-2016-jan-1-7-p-m/
LOCATION:MuCCC (Multi-use Community Cultural Center)\, 142 Atlantic Ave.\, Rochester\, New York\, 14607\, United States
CATEGORIES:JayceLand 2015-Dec-31
END:VEVENT
BEGIN:VEVENT
DTSTART;TZID=America/New_York:20160101T190000
DTEND;TZID=America/New_York:20160101T210800
DTSTAMP:20260421T021249
CREATED:20151230T140626Z
LAST-MODIFIED:20151230T140626Z
UID:6660-1451674800-1451682480@jayceland.com
SUMMARY:Spotlight screening (2016-Jan-1 @ 7 p.m.)
DESCRIPTION:The Cinema will screen Spotlight (Tom Mccarthy\, U.S. 2015\, 128 min.) "The true story of how the Boston Globe uncovered the massive scandal of child molestation and cover-up within the local Catholic Archdiocese\, shaking the entire Catholic Church to its core." [source: Cinema coming soon page\, 2015-Dec-23]
URL:https://jayceland.com/blog/event/spotlight-screening-2016-jan-1-7-p-m/
LOCATION:Cinema Theatre\, 957 S. Clinton Ave.\, Rochester\, New York\, 14620\, United States
CATEGORIES:JayceLand 2015-Dec-31
END:VEVENT
BEGIN:VEVENT
DTSTART;TZID=America/New_York:20160101T193000
DTEND;TZID=America/New_York:20160101T213000
DTSTAMP:20260421T021249
CREATED:20151230T140624Z
LAST-MODIFIED:20151230T140624Z
UID:6649-1451676600-1451683800@jayceland.com
SUMMARY:Photo City Players Live comedy performance (2016-Jan-1 @ 7:30 p.m.)
DESCRIPTION:A Photo City Players Live show includes improv comedy\, sketch comedy\, and stand-up\, all in one show. Featuring a special guest headliner. \n [source: City Newspaper events calendar\, 2015-Dec-28]
URL:https://jayceland.com/blog/event/photo-city-players-live-comedy-performance-2016-jan-1-730-p-m/
LOCATION:Photo City Improv and Comedy Club\, 543 Atlantic Ave.\, Rochester\, New York\, 14609\, United States
CATEGORIES:JayceLand 2015-Dec-31
END:VEVENT
BEGIN:VEVENT
DTSTART;TZID=America/New_York:20160101T200000
DTEND;TZID=America/New_York:20160101T220000
DTSTAMP:20260421T021249
CREATED:20151209T180653Z
LAST-MODIFIED:20151209T180653Z
UID:6492-1451678400-1451685600@jayceland.com
SUMMARY:The Game's Afoot or Holmes for the Holidays theatrical performance (2016-Jan-1 @ 8 p.m.)
DESCRIPTION:In Ken Ludwig's (Lend Me A Tenor\, Fox on the Fairway\, Shakespeare in Hollywood) latest comedy\, it's Christmas Eve\, 1936 and Broadway star William Gillette\, admired the world over for his leading role in the play Sherlock Holmes\, has invited his fellow cast-members to his Connecticut castle for a weekend of revelry. But when one of the guests is stabbed to death\, the festivities in this isolated house of tricks and mirrors quickly turn dangerous. Then it's up to Gillette himself\, as he assumes the persona of his beloved Holmes\, to track down the killer before the next victim appears. The danger and hilarity are non-stop in this glittering whodunit set during the Christmas holidays. \n  Curtain Times 7:30pm on Thursday 8:00pm on Friday and Saturday 2:00pm on Sunday  [source: Blackfriars Theatre website\, 2015-Dec-7]
URL:https://jayceland.com/blog/event/the-games-afoot-or-holmes-for-the-holidays-theatrical-performance-2016-jan-1-8-p-m/
LOCATION:Blackfriars Theatre\, 795 E. Main St.\, Rochester\, New York\, 14605\, United States
CATEGORIES:JayceLand 2015-Dec-31
END:VEVENT
BEGIN:VEVENT
DTSTART;TZID=America/New_York:20160101T211000
DTEND;TZID=America/New_York:20160101T230300
DTSTAMP:20260421T021249
CREATED:20151230T140625Z
LAST-MODIFIED:20151230T140625Z
UID:6653-1451682600-1451689380@jayceland.com
SUMMARY:Macbeth screening (2016-Jan-1 @ 9:10 p.m.)
DESCRIPTION:The Cinema will screen Macbeth (Justin Kurzel\, U.K. / U.S. / France 2015\, 113 min.) "Macbeth\, the Thane of Glamis\, receives a prophecy from a trio of witches that one day he will become King of Scotland. Consumed by ambition and spurred to action by his wife\, Macbeth murders his king and takes the throne for himself." [source: Cinema coming soon page\, 2015-Dec-30]
URL:https://jayceland.com/blog/event/macbeth-screening-2016-jan-1-910-p-m/
LOCATION:Cinema Theatre\, 957 S. Clinton Ave.\, Rochester\, New York\, 14620\, United States
CATEGORIES:JayceLand 2015-Dec-31
END:VEVENT
BEGIN:VEVENT
DTSTART;TZID=America/New_York:20160101T220000
DTEND;TZID=America/New_York:20160102T000200
DTSTAMP:20260421T021249
CREATED:20151230T141839Z
LAST-MODIFIED:20151230T141928Z
UID:6669-1451685600-1451692920@jayceland.com
SUMMARY:Hellboy screening
DESCRIPTION:The Little will screen Hellboy (Guillermo del Toro\, U.S. 2004\, 122 min.) as part of the Mondo Movie Series.  \nIn the final days of World War II\, the Nazis attempt to use black magic to aid their dying cause. The Allies raid the camp where the ceremony is taking place\, but not before a demon—Hellboy—has already been conjured. Joining the Allied forces\, Hellboy eventually grows to adulthood\, serving the cause of good rather than evil. \n [source: Little Theatre website\, 2015-Dec-28]
URL:https://jayceland.com/blog/event/hellboy-screening-2/
LOCATION:Little Theatre\, 240 East Ave. #100\, Rochester\, New York\, 14604\, United States
CATEGORIES:JayceLand 2015-Dec-31
END:VEVENT
END:VCALENDAR