BEGIN:VCALENDAR
VERSION:2.0
PRODID:-//JayceLand - ECPv6.15.20//NONSGML v1.0//EN
CALSCALE:GREGORIAN
METHOD:PUBLISH
X-ORIGINAL-URL:https://jayceland.com/blog
X-WR-CALDESC:Events for JayceLand
REFRESH-INTERVAL;VALUE=DURATION:PT1H
X-Robots-Tag:noindex
X-PUBLISHED-TTL:PT1H
BEGIN:VTIMEZONE
TZID:America/New_York
BEGIN:DAYLIGHT
TZOFFSETFROM:-0500
TZOFFSETTO:-0400
TZNAME:EDT
DTSTART:20140309T070000
END:DAYLIGHT
BEGIN:STANDARD
TZOFFSETFROM:-0400
TZOFFSETTO:-0500
TZNAME:EST
DTSTART:20141102T060000
END:STANDARD
BEGIN:DAYLIGHT
TZOFFSETFROM:-0500
TZOFFSETTO:-0400
TZNAME:EDT
DTSTART:20150308T070000
END:DAYLIGHT
BEGIN:STANDARD
TZOFFSETFROM:-0400
TZOFFSETTO:-0500
TZNAME:EST
DTSTART:20151101T060000
END:STANDARD
BEGIN:DAYLIGHT
TZOFFSETFROM:-0500
TZOFFSETTO:-0400
TZNAME:EDT
DTSTART:20160313T070000
END:DAYLIGHT
BEGIN:STANDARD
TZOFFSETFROM:-0400
TZOFFSETTO:-0500
TZNAME:EST
DTSTART:20161106T060000
END:STANDARD
END:VTIMEZONE
BEGIN:VEVENT
DTSTART;TZID=America/New_York:20151230T190000
DTEND;TZID=America/New_York:20151230T212800
DTSTAMP:20260420T075738
CREATED:20151223T165842Z
LAST-MODIFIED:20151223T165842Z
UID:6611-1451502000-1451510880@jayceland.com
SUMMARY:Spectre screening (2015-Dec-30 @ 7 p.m.)
DESCRIPTION:The Cinema will screen Spectre (Sam Mendes\, U.K. / U.S. 2015\, 148 min.) "A cryptic message from Bond's past sends him on a trail to uncover a sinister organization. While M battles political forces to keep the secret service alive\, Bond peels back the layers of deceit to reveal the terrible truth behind Spectre." [source: Cinema coming soon page\, 2015-Dec-23]
URL:https://jayceland.com/blog/event/spectre-screening-2015-dec-30-7-p-m/
LOCATION:Cinema Theatre\, 957 S. Clinton Ave.\, Rochester\, New York\, 14620\, United States
CATEGORIES:JayceLand 2015-Dec-24
END:VEVENT
BEGIN:VEVENT
DTSTART;TZID=America/New_York:20151230T200000
DTEND;TZID=America/New_York:20151230T211900
DTSTAMP:20260420T075738
CREATED:20151223T165842Z
LAST-MODIFIED:20151223T165842Z
UID:6604-1451505600-1451510340@jayceland.com
SUMMARY:The Uprising screening
DESCRIPTION:The Dryden will screen The Uprising (Peter Snowdon\, Belgium/Uk 2013\, 79 min.\, DCP).  \nPeter Snowdon's first feature-length film\, The Uprising\, weaves together mobile-phone footage shot by anonymous participants in the Arab Spring. Through careful editing\, Snowdon sutures disparate places\, events\, and issues to create an image of unity while remaining faithful to the particularities of each cause. The Uprising offers viewers an intimate portrait of political upheaval different from the representation of the Arab Spring among Western media outlets. The film conveys a sense of possibility\, as well as the risk assumed by protestors\, in rethinking collective political action in the digital age. \n [source: George Eastman Museum website\, 2015-Dec-21]
URL:https://jayceland.com/blog/event/the-uprising-screening/
LOCATION:Dryden Theatre at George Eastman Museum (formerly George Eastman House)\, 900 East Ave.\, Rochester\, New York\, 14607\, United States
CATEGORIES:JayceLand 2015-Dec-24
END:VEVENT
BEGIN:VEVENT
DTSTART;TZID=America/New_York:20151230T213000
DTEND;TZID=America/New_York:20151230T233800
DTSTAMP:20260420T075738
CREATED:20151223T165842Z
LAST-MODIFIED:20151223T165842Z
UID:6618-1451511000-1451518680@jayceland.com
SUMMARY:Spotlight screening (2015-Dec-30 @ 9:30 p.m.)
DESCRIPTION:The Cinema will screen Spotlight (Tom Mccarthy\, U.S. 2015\, 128 min.) "The true story of how the Boston Globe uncovered the massive scandal of child molestation and cover-up within the local Catholic Archdiocese\, shaking the entire Catholic Church to its core." [source: Cinema coming soon page\, 2015-Dec-23]
URL:https://jayceland.com/blog/event/spotlight-screening-2015-dec-30-930-p-m/
LOCATION:Cinema Theatre\, 957 S. Clinton Ave.\, Rochester\, New York\, 14620\, United States
CATEGORIES:JayceLand 2015-Dec-24
END:VEVENT
END:VCALENDAR