BEGIN:VCALENDAR
VERSION:2.0
PRODID:-//JayceLand - ECPv6.15.20//NONSGML v1.0//EN
CALSCALE:GREGORIAN
METHOD:PUBLISH
X-ORIGINAL-URL:https://jayceland.com/blog
X-WR-CALDESC:Events for JayceLand
REFRESH-INTERVAL;VALUE=DURATION:PT1H
X-Robots-Tag:noindex
X-PUBLISHED-TTL:PT1H
BEGIN:VTIMEZONE
TZID:America/New_York
BEGIN:DAYLIGHT
TZOFFSETFROM:-0500
TZOFFSETTO:-0400
TZNAME:EDT
DTSTART:20140309T070000
END:DAYLIGHT
BEGIN:STANDARD
TZOFFSETFROM:-0400
TZOFFSETTO:-0500
TZNAME:EST
DTSTART:20141102T060000
END:STANDARD
BEGIN:DAYLIGHT
TZOFFSETFROM:-0500
TZOFFSETTO:-0400
TZNAME:EDT
DTSTART:20150308T070000
END:DAYLIGHT
BEGIN:STANDARD
TZOFFSETFROM:-0400
TZOFFSETTO:-0500
TZNAME:EST
DTSTART:20151101T060000
END:STANDARD
BEGIN:DAYLIGHT
TZOFFSETFROM:-0500
TZOFFSETTO:-0400
TZNAME:EDT
DTSTART:20160313T070000
END:DAYLIGHT
BEGIN:STANDARD
TZOFFSETFROM:-0400
TZOFFSETTO:-0500
TZNAME:EST
DTSTART:20161106T060000
END:STANDARD
END:VTIMEZONE
BEGIN:VEVENT
DTSTART;TZID=America/New_York:20151227T140000
DTEND;TZID=America/New_York:20151227T150400
DTSTAMP:20260420T203046
CREATED:20151223T165840Z
LAST-MODIFIED:20151223T165840Z
UID:6602-1451224800-1451228640@jayceland.com
SUMMARY:Bugs Bunny at 75 screening of shorts
DESCRIPTION:The Dryden will screen Bugs Bunny at 75 featuring A Wild Hare (Tex Avery\, U.S. 1940\, 8 min.\, 16mm)\, Hare Do (Friz Freleng\, U.S. 1948\, 7 min.\, 16mm)\, Bugs Bunny Gets the Boid (Robert Clampett\, U.S. 1942\, 7 min.\, 16mm)\, Hare Trigger (Friz Freleng\, U.S. 1945\, 8 min.\, 16mm)\, Knighty Knight Bugs (Friz Freleng\, U.S. 1958\, 6 min.\, 16mm)\, Rabbit Fire (Chuck Jones\, U.S. 1951\, 7 min. 16mm)\, Hyde and Hare (Friz Freleng\, U.S. 1955\, 7 min.\, 16mm)\, What's Opera\, Doc? (Chuck Jones\, U.S. 1957\, 7 min.\, 35mm)\, and Duck Amuck (Chuck Jones\, U.S. 1953\, 7 min.\, 35mm).  \nThis year marks the 75th anniversary of Bugs Bunny\, who first sauntered onto the screen in Tex Avery's 1940 A Wild Hare and\, in that unforgettable New York accent\, asked\, "What's up\, doc?" Quickly becoming an icon of sophisticated slapstick animation\, Bugs Bunny repeatedly demonstrated brain over brawn\, and he's now best remembered for outwitting characters often bigger and better armed. While the violence in these cartoons can be extreme\, it's also often the object of mockery. In contrast with some of his gun-toting enemies\, Bugs is rooted in intellect—an aficionado of high culture. \n [source: George Eastman Museum website\, 2015-Dec-21]
URL:https://jayceland.com/blog/event/bugs-bunny-at-75-screening-of-shorts/
LOCATION:Dryden Theatre at George Eastman Museum (formerly George Eastman House)\, 900 East Ave.\, Rochester\, New York\, 14607\, United States
CATEGORIES:JayceLand 2015-Dec-24
END:VEVENT
BEGIN:VEVENT
DTSTART;TZID=America/New_York:20151227T140000
DTEND;TZID=America/New_York:20151227T160000
DTSTAMP:20260420T203046
CREATED:20151209T180653Z
LAST-MODIFIED:20151209T180653Z
UID:6496-1451224800-1451232000@jayceland.com
SUMMARY:The Game's Afoot or Holmes for the Holidays theatrical performance (2015-Dec-27 @ 2 p.m.)
DESCRIPTION:In Ken Ludwig's (Lend Me A Tenor\, Fox on the Fairway\, Shakespeare in Hollywood) latest comedy\, it's Christmas Eve\, 1936 and Broadway star William Gillette\, admired the world over for his leading role in the play Sherlock Holmes\, has invited his fellow cast-members to his Connecticut castle for a weekend of revelry. But when one of the guests is stabbed to death\, the festivities in this isolated house of tricks and mirrors quickly turn dangerous. Then it's up to Gillette himself\, as he assumes the persona of his beloved Holmes\, to track down the killer before the next victim appears. The danger and hilarity are non-stop in this glittering whodunit set during the Christmas holidays. \n  Curtain Times 7:30pm on Thursday 8:00pm on Friday and Saturday 2:00pm on Sunday  [source: Blackfriars Theatre website\, 2015-Dec-7]
URL:https://jayceland.com/blog/event/the-games-afoot-or-holmes-for-the-holidays-theatrical-performance-2015-dec-27-2-p-m/
LOCATION:Blackfriars Theatre\, 795 E. Main St.\, Rochester\, New York\, 14605\, United States
CATEGORIES:JayceLand 2015-Dec-24
END:VEVENT
BEGIN:VEVENT
DTSTART;TZID=America/New_York:20151227T140000
DTEND;TZID=America/New_York:20151227T160000
DTSTAMP:20260420T203046
CREATED:20151223T165841Z
LAST-MODIFIED:20151223T165841Z
UID:6596-1451224800-1451232000@jayceland.com
SUMMARY:My Fair Eliza theatrical performance (2015-Dec-27 @ 2 p.m.)
DESCRIPTION:The classic story of Professor Henry Higgins and his attempt to turn "guttersnipe" Eliza Doolittle into a lady who could pass as "a duchess at an ambassador's garden party" was first performed in 1913 (as a German translation) in Vienna\, followed by its New York premiere in March of 1914 (again in German) and finally in English in London in April\, 1914. […] "My Fair Eliza" (taking its name from both the musical and Shaw's working title\, "Fair Eliza") returns to Shaw's original version\, editing the work for time and clarity. It serves as a perfect introduction to one of the great works of the theater for the uninitiated and (at around an hour runtime) a breezy refresher for fans of "Pygmalion" and "My Fair Lady" alike. \n [source: MuCCC website\, 2015-Dec-21]
URL:https://jayceland.com/blog/event/my-fair-eliza-theatrical-performance-2015-dec-27-2-p-m/
LOCATION:MuCCC (Multi-use Community Cultural Center)\, 142 Atlantic Ave.\, Rochester\, New York\, 14607\, United States
CATEGORIES:JayceLand 2015-Dec-24
END:VEVENT
BEGIN:VEVENT
DTSTART;TZID=America/New_York:20151227T151500
DTEND;TZID=America/New_York:20151227T172300
DTSTAMP:20260420T203046
CREATED:20151223T165841Z
LAST-MODIFIED:20151223T165841Z
UID:6621-1451229300-1451236980@jayceland.com
SUMMARY:Spotlight screening (2015-Dec-27 @ 3:15 p.m.)
DESCRIPTION:The Cinema will screen Spotlight (Tom Mccarthy\, U.S. 2015\, 128 min.) "The true story of how the Boston Globe uncovered the massive scandal of child molestation and cover-up within the local Catholic Archdiocese\, shaking the entire Catholic Church to its core." [source: Cinema coming soon page\, 2015-Dec-23]
URL:https://jayceland.com/blog/event/spotlight-screening-2015-dec-27-315-p-m/
LOCATION:Cinema Theatre\, 957 S. Clinton Ave.\, Rochester\, New York\, 14620\, United States
CATEGORIES:JayceLand 2015-Dec-24
END:VEVENT
BEGIN:VEVENT
DTSTART;TZID=America/New_York:20151227T190000
DTEND;TZID=America/New_York:20151227T212800
DTSTAMP:20260420T203046
CREATED:20151223T165841Z
LAST-MODIFIED:20151223T165841Z
UID:6608-1451242800-1451251680@jayceland.com
SUMMARY:Spectre screening (2015-Dec-27 @ 7 p.m.)
DESCRIPTION:The Cinema will screen Spectre (Sam Mendes\, U.K. / U.S. 2015\, 148 min.) "A cryptic message from Bond's past sends him on a trail to uncover a sinister organization. While M battles political forces to keep the secret service alive\, Bond peels back the layers of deceit to reveal the terrible truth behind Spectre." [source: Cinema coming soon page\, 2015-Dec-23]
URL:https://jayceland.com/blog/event/spectre-screening-2015-dec-27-7-p-m/
LOCATION:Cinema Theatre\, 957 S. Clinton Ave.\, Rochester\, New York\, 14620\, United States
CATEGORIES:JayceLand 2015-Dec-24
END:VEVENT
BEGIN:VEVENT
DTSTART;TZID=America/New_York:20151227T200000
DTEND;TZID=America/New_York:20151227T220000
DTSTAMP:20260420T203046
CREATED:20151223T165841Z
LAST-MODIFIED:20151223T165841Z
UID:6590-1451246400-1451253600@jayceland.com
SUMMARY:Open Mic Comedy
DESCRIPTION:[source: Boulder Coffee calendar\, 2015-Dec-21]
URL:https://jayceland.com/blog/event/open-mic-comedy/
LOCATION:Boulder Coffee\, South Wedge\, 100 Alexander St.\, Rochester\, New York\, 14620\, United States
CATEGORIES:JayceLand 2015-Dec-24
END:VEVENT
BEGIN:VEVENT
DTSTART;TZID=America/New_York:20151227T213000
DTEND;TZID=America/New_York:20151227T233800
DTSTAMP:20260420T203046
CREATED:20151223T165841Z
LAST-MODIFIED:20151223T165841Z
UID:6615-1451251800-1451259480@jayceland.com
SUMMARY:Spotlight screening (2015-Dec-27 @ 9:30 p.m.)
DESCRIPTION:The Cinema will screen Spotlight (Tom Mccarthy\, U.S. 2015\, 128 min.) "The true story of how the Boston Globe uncovered the massive scandal of child molestation and cover-up within the local Catholic Archdiocese\, shaking the entire Catholic Church to its core." [source: Cinema coming soon page\, 2015-Dec-23]
URL:https://jayceland.com/blog/event/spotlight-screening-2015-dec-27-930-p-m/
LOCATION:Cinema Theatre\, 957 S. Clinton Ave.\, Rochester\, New York\, 14620\, United States
CATEGORIES:JayceLand 2015-Dec-24
END:VEVENT
END:VCALENDAR