BEGIN:VCALENDAR
VERSION:2.0
PRODID:-//JayceLand - ECPv6.15.20//NONSGML v1.0//EN
CALSCALE:GREGORIAN
METHOD:PUBLISH
X-WR-CALNAME:JayceLand
X-ORIGINAL-URL:https://jayceland.com/blog
X-WR-CALDESC:Events for JayceLand
REFRESH-INTERVAL;VALUE=DURATION:PT1H
X-Robots-Tag:noindex
X-PUBLISHED-TTL:PT1H
BEGIN:VTIMEZONE
TZID:America/New_York
BEGIN:DAYLIGHT
TZOFFSETFROM:-0500
TZOFFSETTO:-0400
TZNAME:EDT
DTSTART:20140309T070000
END:DAYLIGHT
BEGIN:STANDARD
TZOFFSETFROM:-0400
TZOFFSETTO:-0500
TZNAME:EST
DTSTART:20141102T060000
END:STANDARD
BEGIN:DAYLIGHT
TZOFFSETFROM:-0500
TZOFFSETTO:-0400
TZNAME:EDT
DTSTART:20150308T070000
END:DAYLIGHT
BEGIN:STANDARD
TZOFFSETFROM:-0400
TZOFFSETTO:-0500
TZNAME:EST
DTSTART:20151101T060000
END:STANDARD
BEGIN:DAYLIGHT
TZOFFSETFROM:-0500
TZOFFSETTO:-0400
TZNAME:EDT
DTSTART:20160313T070000
END:DAYLIGHT
BEGIN:STANDARD
TZOFFSETFROM:-0400
TZOFFSETTO:-0500
TZNAME:EST
DTSTART:20161106T060000
END:STANDARD
END:VTIMEZONE
BEGIN:VEVENT
DTSTART;TZID=America/New_York:20151224T140000
DTEND;TZID=America/New_York:20151224T160000
DTSTAMP:20260422T123814
CREATED:20151224T165532Z
LAST-MODIFIED:20151223T170355Z
UID:6594-1450965600-1450972800@jayceland.com
SUMMARY:Charles Dickens' "A Christmas Carol" theatrical performance
DESCRIPTION:Charles Dickens wrote "A Christmas Carol" in 1843 as an attempt to stir the British public to an awareness of the poverty and hardships around them. Its tale of a miserly old man who learns the importance of generosity and "Christmas spirit" was an immediate success and has been in continual print to this day. It was first adapted to the stage within months of publication and is one of the most-filmed stories in cinematic history. Dickens himself took to reading the tale to audiences and "Carol" was the work he chose for his farewell performance\, mere months before his death. \n[source: MuCCC website\, 2015-Dec-21]
URL:https://jayceland.com/blog/event/charles-dickens-christmas-carol-theatrical-performance/
LOCATION:MuCCC (Multi-use Community Cultural Center)\, 142 Atlantic Ave.\, Rochester\, New York\, 14607\, United States
CATEGORIES:JayceLand 2015-Dec-24
END:VEVENT
END:VCALENDAR