BEGIN:VCALENDAR
VERSION:2.0
PRODID:-//JayceLand - ECPv6.15.20//NONSGML v1.0//EN
CALSCALE:GREGORIAN
METHOD:PUBLISH
X-ORIGINAL-URL:https://jayceland.com/blog
X-WR-CALDESC:Events for JayceLand
REFRESH-INTERVAL;VALUE=DURATION:PT1H
X-Robots-Tag:noindex
X-PUBLISHED-TTL:PT1H
BEGIN:VTIMEZONE
TZID:America/New_York
BEGIN:DAYLIGHT
TZOFFSETFROM:-0500
TZOFFSETTO:-0400
TZNAME:EDT
DTSTART:20140309T070000
END:DAYLIGHT
BEGIN:STANDARD
TZOFFSETFROM:-0400
TZOFFSETTO:-0500
TZNAME:EST
DTSTART:20141102T060000
END:STANDARD
BEGIN:DAYLIGHT
TZOFFSETFROM:-0500
TZOFFSETTO:-0400
TZNAME:EDT
DTSTART:20150308T070000
END:DAYLIGHT
BEGIN:STANDARD
TZOFFSETFROM:-0400
TZOFFSETTO:-0500
TZNAME:EST
DTSTART:20151101T060000
END:STANDARD
BEGIN:DAYLIGHT
TZOFFSETFROM:-0500
TZOFFSETTO:-0400
TZNAME:EDT
DTSTART:20160313T070000
END:DAYLIGHT
BEGIN:STANDARD
TZOFFSETFROM:-0400
TZOFFSETTO:-0500
TZNAME:EST
DTSTART:20161106T060000
END:STANDARD
END:VTIMEZONE
BEGIN:VEVENT
DTSTART;TZID=America/New_York:20151223T200000
DTEND;TZID=America/New_York:20151223T213000
DTSTAMP:20260424T012405
CREATED:20151216T162029Z
LAST-MODIFIED:20151216T162029Z
UID:6568-1450900800-1450906200@jayceland.com
SUMMARY:L'impossible—pages arrachées (The Impossible - Pieces of Fury) screening
DESCRIPTION:The Dryden will screen L'impossible—pages arrachées (The Impossible – Pieces of Fury\, Sylvain George\, France 2009\, 90 min.\, Blu-ray\, French w/subtitles). "The first half hour of the film will be accompanied by a live performance by Rochester-based electronic musician Martin Freeman."  \nTold in five chapters\, with titles borrowed from the likes of Fyodor Dostoevsky\, Arthur Rimbaud\, and Walter Benjamin\, Sylvain George's The Impossible is a tour de force of political filmmaking. The film begins in the port town of Calais\, where scores of African and Middle Eastern refugees make nightly bids to cross the English Channel into Britain. Through George's grainy\, often bleached-out or red-tinged Super 8 images\, Calais appears almost as an alien planet. In this desolate\, uninviting "non-place\," we see the harsh living conditions of the asylum seekers\, for whom hope is not an idea but a place (an "elsewhere"). George's work has gained a reputation in Europe as formally stunning and fiercely intellectual\, but is still seldom seen by audiences across the Atlantic. \n [source: George Eastman Museum website\, 2015-Dec-14]
URL:https://jayceland.com/blog/event/limpossible-pages-arrachees-the-impossible-pieces-of-fury-screening/
LOCATION:Dryden Theatre at George Eastman Museum (formerly George Eastman House)\, 900 East Ave.\, Rochester\, New York\, 14607\, United States
CATEGORIES:JayceLand 2015-Dec-17
END:VEVENT
BEGIN:VEVENT
DTSTART;TZID=America/New_York:20151223T203000
DTEND;TZID=America/New_York:20151223T223000
DTSTAMP:20260424T012405
CREATED:20151216T162029Z
LAST-MODIFIED:20151216T162029Z
UID:6551-1450902600-1450909800@jayceland.com
SUMMARY:Steve Lyons musical performance
DESCRIPTION:"Celebrate the Holidays with Steve Lyons\, [a] great mix of folk\, Americana\, blues and roots music." [source: Abilene website\, 2015-Dec-14]
URL:https://jayceland.com/blog/event/steve-lyons-musical-performance/
LOCATION:Abilene Bar and Lounge\, 153 Liberty Pole Way\, Rochester\, New York\, 14604\, United States
CATEGORIES:JayceLand 2015-Dec-17
END:VEVENT
BEGIN:VEVENT
DTSTART;TZID=America/New_York:20151223T220000
DTEND;TZID=America/New_York:20151224T000000
DTSTAMP:20260424T012405
CREATED:20151216T162029Z
LAST-MODIFIED:20151216T162029Z
UID:6555-1450908000-1450915200@jayceland.com
SUMMARY:Anonymous Willpower Trio
DESCRIPTION:[source: Dinosaur Bar-B-Que website\, 2015-Dec-14]
URL:https://jayceland.com/blog/event/anonymous-willpower-trio/
LOCATION:Dinosaur Bar-B-Que\, 99 Court St.\, Rochester\, New York\, 14604\, United States
CATEGORIES:JayceLand 2015-Dec-17
END:VEVENT
END:VCALENDAR