BEGIN:VCALENDAR
VERSION:2.0
PRODID:-//JayceLand - ECPv6.15.20//NONSGML v1.0//EN
CALSCALE:GREGORIAN
METHOD:PUBLISH
X-WR-CALNAME:JayceLand
X-ORIGINAL-URL:https://jayceland.com/blog
X-WR-CALDESC:Events for JayceLand
REFRESH-INTERVAL;VALUE=DURATION:PT1H
X-Robots-Tag:noindex
X-PUBLISHED-TTL:PT1H
BEGIN:VTIMEZONE
TZID:America/New_York
BEGIN:DAYLIGHT
TZOFFSETFROM:-0500
TZOFFSETTO:-0400
TZNAME:EDT
DTSTART:20140309T070000
END:DAYLIGHT
BEGIN:STANDARD
TZOFFSETFROM:-0400
TZOFFSETTO:-0500
TZNAME:EST
DTSTART:20141102T060000
END:STANDARD
BEGIN:DAYLIGHT
TZOFFSETFROM:-0500
TZOFFSETTO:-0400
TZNAME:EDT
DTSTART:20150308T070000
END:DAYLIGHT
BEGIN:STANDARD
TZOFFSETFROM:-0400
TZOFFSETTO:-0500
TZNAME:EST
DTSTART:20151101T060000
END:STANDARD
BEGIN:DAYLIGHT
TZOFFSETFROM:-0500
TZOFFSETTO:-0400
TZNAME:EDT
DTSTART:20160313T070000
END:DAYLIGHT
BEGIN:STANDARD
TZOFFSETFROM:-0400
TZOFFSETTO:-0500
TZNAME:EST
DTSTART:20161106T060000
END:STANDARD
END:VTIMEZONE
BEGIN:VEVENT
DTSTART;TZID=America/New_York:20151217T183000
DTEND;TZID=America/New_York:20151217T203000
DTSTAMP:20260422T003025
CREATED:20151216T162026Z
LAST-MODIFIED:20151216T162026Z
UID:6580-1450377000-1450384200@jayceland.com
SUMMARY:Science of Edge: Physics of Photovoltaics: From The Beginning to Next Generation Nanotechnologies\, Dr. Stephen Polly
DESCRIPTION:[source: City Newspaper events calendar\, 2015-Dec-16]
URL:https://jayceland.com/blog/event/science-of-edge-physics-of-photovoltaics-from-the-beginning-to-next-generation-nanotechnologies-dr-stephen-polly/
LOCATION:Rochester Museum and Science Center (RMSC)\, 657 East Ave.\, Rochester\, New York\, 14607\, United States
CATEGORIES:JayceLand 2015-Dec-17
END:VEVENT
BEGIN:VEVENT
DTSTART;TZID=America/New_York:20151217T190000
DTEND;TZID=America/New_York:20151217T203000
DTSTAMP:20260422T003025
CREATED:20151216T162026Z
LAST-MODIFIED:20151216T162026Z
UID:6559-1450378800-1450384200@jayceland.com
SUMMARY:The Damned: Don't You Wish That We Were Dead screening
DESCRIPTION:The MAG will screen The Damned: Don't You Wish That We Were Dead (Wes Orshoski\, 2015) as part of the Alternative Music Film Series.  \nFrom "Lemmy" filmmaker Wes Orshoski comes the story of the long-ignored pioneers of punk—The Damned\, the first U.K. punks on wax and the first to cross the Atlantic. Shot around the globe over three years\, the film captures the band as it celebrated its 35th anniversary with a world tour and finds some estranged former members striking out on their own while others battle cancer. Included are appearances from Chrissie Hynde\, Mick Jones (The Clash)\, Lemmy and members of Pink Floyd\, Black Flag\, Guns 'n' Roses\, the Sex Pistols\, Blondie and Buzzcocks. \n [source: MAG website\, 2015-Dec-14]
URL:https://jayceland.com/blog/event/the-damned-dont-you-wish-that-we-were-dead-screening/
LOCATION:Memorial Art Gallery\, 500 University Ave.\, Rochester\, New York\, 14607\, United States
CATEGORIES:JayceLand 2015-Dec-17
END:VEVENT
BEGIN:VEVENT
DTSTART;TZID=America/New_York:20151217T190000
DTEND;TZID=America/New_York:20151217T204600
DTSTAMP:20260422T003025
CREATED:20151209T180652Z
LAST-MODIFIED:20151209T180652Z
UID:6528-1450378800-1450385160@jayceland.com
SUMMARY:Suffragette screening (2015-Dec-17 @ 7 p.m.)
DESCRIPTION:The Cinema will screen Suffragette (Sarah Gavron\, U.K. 2015\, 106 min.) "The foot soldiers of the early feminist movement\, women who were forced underground to pursue a dangerous game of cat and mouse with an increasingly brutal State." [source: Cinema coming soon page\, 2015-Dec-9]
URL:https://jayceland.com/blog/event/suffragette-screening-2015-dec-17-7-p-m/
LOCATION:Cinema Theatre\, 957 S. Clinton Ave.\, Rochester\, New York\, 14620\, United States
CATEGORIES:JayceLand 2015-Dec-17
END:VEVENT
BEGIN:VEVENT
DTSTART;TZID=America/New_York:20151217T190000
DTEND;TZID=America/New_York:20151217T220000
DTSTAMP:20260422T003025
CREATED:20151216T162026Z
LAST-MODIFIED:20151216T162026Z
UID:6571-1450378800-1450389600@jayceland.com
SUMMARY:Pure Kona Open Mic Poetry Series
DESCRIPTION:[source: City Newspaper events calendar\, 2015-Dec-14]
URL:https://jayceland.com/blog/event/pure-kona-open-mic-poetry-series/
LOCATION:Greenhouse Cafe\, 2271 E. Main St.\, Rochester\, New York\, 14609\, United States
CATEGORIES:JayceLand 2015-Dec-17
END:VEVENT
BEGIN:VEVENT
DTSTART;TZID=America/New_York:20151217T193000
DTEND;TZID=America/New_York:20151217T213000
DTSTAMP:20260422T003025
CREATED:20151209T180652Z
LAST-MODIFIED:20151209T180652Z
UID:6486-1450380600-1450387800@jayceland.com
SUMMARY:The Game's Afoot or Holmes for the Holidays theatrical performance (2015-Dec-17 @ 7:30 p.m.)
DESCRIPTION:In Ken Ludwig's (Lend Me A Tenor\, Fox on the Fairway\, Shakespeare in Hollywood) latest comedy\, it's Christmas Eve\, 1936 and Broadway star William Gillette\, admired the world over for his leading role in the play Sherlock Holmes\, has invited his fellow cast-members to his Connecticut castle for a weekend of revelry. But when one of the guests is stabbed to death\, the festivities in this isolated house of tricks and mirrors quickly turn dangerous. Then it's up to Gillette himself\, as he assumes the persona of his beloved Holmes\, to track down the killer before the next victim appears. The danger and hilarity are non-stop in this glittering whodunit set during the Christmas holidays. \n  Curtain Times 7:30pm on Thursday 8:00pm on Friday and Saturday 2:00pm on Sunday  [source: Blackfriars Theatre website\, 2015-Dec-7]
URL:https://jayceland.com/blog/event/the-games-afoot-or-holmes-for-the-holidays-theatrical-performance-2015-dec-17-730-p-m/
LOCATION:Blackfriars Theatre\, 795 E. Main St.\, Rochester\, New York\, 14605\, United States
CATEGORIES:JayceLand 2015-Dec-17
END:VEVENT
BEGIN:VEVENT
DTSTART;TZID=America/New_York:20151217T193000
DTEND;TZID=America/New_York:20151217T213000
DTSTAMP:20260422T003025
CREATED:20151216T162026Z
LAST-MODIFIED:20151216T162026Z
UID:6560-1450380600-1450387800@jayceland.com
SUMMARY:An Evening of "Christmas" Music
DESCRIPTION:Sick and tired of Christmas music? Well\, so are we\, so come join us as we pay homage to these terrible tunes in ways you've never heard before with some of Rochester's finest local musicians! \n [source: MuCCC website\, 2015-Dec-14]
URL:https://jayceland.com/blog/event/an-evening-of-christmas-music/
LOCATION:MuCCC (Multi-use Community Cultural Center)\, 142 Atlantic Ave.\, Rochester\, New York\, 14607\, United States
CATEGORIES:JayceLand 2015-Dec-17
END:VEVENT
BEGIN:VEVENT
DTSTART;TZID=America/New_York:20151217T200000
DTEND;TZID=America/New_York:20151217T212600
DTSTAMP:20260422T003025
CREATED:20151216T162027Z
LAST-MODIFIED:20151216T162027Z
UID:6563-1450382400-1450387560@jayceland.com
SUMMARY:The First Legion screening
DESCRIPTION:The Dryden will screen The First Legion (Douglas Sirk\, U.S. 1951\, 86 min.\, 35mm).  \n"All is not well in the hushed spaces of Jesuit Saint Gregory's Seminary. Dominated by conservative older men\, the institution is sometimes suffocating to younger initiates such as Father John Fulton (Wesley Addy)\, whose spirituality is stimulated more by music concerts outside of the walls\, than by prayer and study within. . . . Trafficking in the parochial concerns of a complex subculture\, director Douglas Sirk evokes powerful\, universal emotions with this fascinating independent production\, completed before his celebrated\, decade-long run as a director of melodramas at Universal Pictures." — Shannon Kelley\, UCLA \n [source: George Eastman Museum website\, 2015-Dec-14]
URL:https://jayceland.com/blog/event/the-first-legion-screening/
LOCATION:Dryden Theatre at George Eastman Museum (formerly George Eastman House)\, 900 East Ave.\, Rochester\, New York\, 14607\, United States
CATEGORIES:JayceLand 2015-Dec-17
END:VEVENT
BEGIN:VEVENT
DTSTART;TZID=America/New_York:20151217T205000
DTEND;TZID=America/New_York:20151217T225500
DTSTAMP:20260422T003025
CREATED:20151209T180652Z
LAST-MODIFIED:20151209T180652Z
UID:6535-1450385400-1450392900@jayceland.com
SUMMARY:Truth screening (2015-Dec-17 @ 8:50 p.m.)
DESCRIPTION:The Cinema will screen Truth (James Vanderbilt\, Australia / U.S. 2015\, 125 min.) "Newsroom drama detailing the 2004 CBS 60 Minutes report investigating then-President George W. Bush's military service\, and the subsequent firestorm of criticism that cost anchor Dan Rather and producer Mary Mapes their careers." [source: Cinema coming soon page\, 2015-Dec-9]
URL:https://jayceland.com/blog/event/truth-screening-2015-dec-17-850-p-m/
LOCATION:Cinema Theatre\, 957 S. Clinton Ave.\, Rochester\, New York\, 14620\, United States
CATEGORIES:JayceLand 2015-Dec-17
END:VEVENT
END:VCALENDAR