BEGIN:VCALENDAR
VERSION:2.0
PRODID:-//JayceLand - ECPv6.15.20//NONSGML v1.0//EN
CALSCALE:GREGORIAN
METHOD:PUBLISH
X-ORIGINAL-URL:https://jayceland.com/blog
X-WR-CALDESC:Events for JayceLand
REFRESH-INTERVAL;VALUE=DURATION:PT1H
X-Robots-Tag:noindex
X-PUBLISHED-TTL:PT1H
BEGIN:VTIMEZONE
TZID:America/New_York
BEGIN:DAYLIGHT
TZOFFSETFROM:-0500
TZOFFSETTO:-0400
TZNAME:EDT
DTSTART:20140309T070000
END:DAYLIGHT
BEGIN:STANDARD
TZOFFSETFROM:-0400
TZOFFSETTO:-0500
TZNAME:EST
DTSTART:20141102T060000
END:STANDARD
BEGIN:DAYLIGHT
TZOFFSETFROM:-0500
TZOFFSETTO:-0400
TZNAME:EDT
DTSTART:20150308T070000
END:DAYLIGHT
BEGIN:STANDARD
TZOFFSETFROM:-0400
TZOFFSETTO:-0500
TZNAME:EST
DTSTART:20151101T060000
END:STANDARD
BEGIN:DAYLIGHT
TZOFFSETFROM:-0500
TZOFFSETTO:-0400
TZNAME:EDT
DTSTART:20160313T070000
END:DAYLIGHT
BEGIN:STANDARD
TZOFFSETFROM:-0400
TZOFFSETTO:-0500
TZNAME:EST
DTSTART:20161106T060000
END:STANDARD
END:VTIMEZONE
BEGIN:VEVENT
DTSTART;TZID=America/New_York:20151216T180000
DTEND;TZID=America/New_York:20151216T200000
DTSTAMP:20260420T131944
CREATED:20151209T180651Z
LAST-MODIFIED:20151209T180651Z
UID:6504-1450288800-1450296000@jayceland.com
SUMMARY:Dale Klein Post-Industrial Landscapes Lithographs and Etchings artist reception
DESCRIPTION:The MuCCC will be hosting an Artist Reception for Dale Klein's Post-Industrial Landscapes Lithographs and Etchings.  \nDale is a painter and printmaker whose primary interest is in the post-industrial landscape of the Northeast United States as a microcosm of what is happening to our country and most of the developed world.  Interested in the concept of entropy and how it affects contemporary life\, she works on the boundaries of abstraction and realism. Dale transforms her world in order to delve into it deeper emotionally; letting the viewer bring his or her preconceptions to it. \n [source: MuCCC website\, 2015-Dec-7]
URL:https://jayceland.com/blog/event/dale-klein-post-industrial-landscapes-lithographs-and-etchings-artist-reception/
LOCATION:MuCCC (Multi-use Community Cultural Center)\, 142 Atlantic Ave.\, Rochester\, New York\, 14607\, United States
CATEGORIES:JayceLand 2015-Dec-10
END:VEVENT
BEGIN:VEVENT
DTSTART;TZID=America/New_York:20151216T190000
DTEND;TZID=America/New_York:20151216T204600
DTSTAMP:20260420T131944
CREATED:20151209T180651Z
LAST-MODIFIED:20151209T180651Z
UID:6527-1450292400-1450298760@jayceland.com
SUMMARY:Suffragette screening (2015-Dec-16 @ 7 p.m.)
DESCRIPTION:The Cinema will screen Suffragette (Sarah Gavron\, U.K. 2015\, 106 min.) "The foot soldiers of the early feminist movement\, women who were forced underground to pursue a dangerous game of cat and mouse with an increasingly brutal State." [source: Cinema coming soon page\, 2015-Dec-9]
URL:https://jayceland.com/blog/event/suffragette-screening-2015-dec-16-7-p-m/
LOCATION:Cinema Theatre\, 957 S. Clinton Ave.\, Rochester\, New York\, 14620\, United States
CATEGORIES:JayceLand 2015-Dec-10
END:VEVENT
BEGIN:VEVENT
DTSTART;TZID=America/New_York:20151216T193000
DTEND;TZID=America/New_York:20151216T230000
DTSTAMP:20260420T131944
CREATED:20151209T180652Z
LAST-MODIFIED:20151209T180652Z
UID:6521-1450294200-1450306800@jayceland.com
SUMMARY:It's Another Swap
DESCRIPTION:Did you make a couple extra christmas presents? Want a little more variety in your gift giving of handmade items? You're in luck! This time around we are swapping finished art/craft pieces. Give a piece\, take a piece. (you are of course\, encouraged to bring multiple items to swap!) Hang out\, grab some snacks\, swap art\, make art\, and drink (a lot) of coffee! \n [source: Facebook\, 2015-Dec-7]
URL:https://jayceland.com/blog/event/its-another-swap/
LOCATION:Vineyard Community Space\, 836 S. Clinton Ave.\, Rochester\, New York\, United States
CATEGORIES:JayceLand 2015-Dec-10
END:VEVENT
BEGIN:VEVENT
DTSTART;TZID=America/New_York:20151216T200000
DTEND;TZID=America/New_York:20151216T211800
DTSTAMP:20260420T131944
CREATED:20151209T180652Z
LAST-MODIFIED:20151209T180652Z
UID:6513-1450296000-1450300680@jayceland.com
SUMMARY:Het Witt Kasteel (White Castle) screening
DESCRIPTION:The Dryden will screen Het Witt Kasteel (White Castle\, Johan van der Keuken\, Netherlands 1973\, 78 min.\, 16mm\, Dutch w/ subtitles).  \nIn the second installment of Johan van der Keuken's North-South trilogy\, the rhythmic interplay of documentary sequences produces a sordid image of the First World. Segments depicting migrant laborers at work in the Netherlands\, tourists off the coast of Spain\, and disenfranchised youth outside Columbus\, Ohio\, intertwine to reveal both the effects of and the complex relationships within global capitalism. In contrast to many documentaries of its time\, The White Castle is more poetic than political. Aesthetic elements associated with the Dziga Vertov Group or the earlier\, Vertov-inspired style of cinema vérité are rejected for a formalism more akin to jazz than classical music. \n [source: George Eastman Museum website\, 2015-Dec-7]
URL:https://jayceland.com/blog/event/het-witt-kasteel-white-castle-screening/
LOCATION:Dryden Theatre at George Eastman Museum (formerly George Eastman House)\, 900 East Ave.\, Rochester\, New York\, 14607\, United States
CATEGORIES:JayceLand 2015-Dec-10
END:VEVENT
BEGIN:VEVENT
DTSTART;TZID=America/New_York:20151216T203000
DTEND;TZID=America/New_York:20151216T220000
DTSTAMP:20260420T131944
CREATED:20151209T180652Z
LAST-MODIFIED:20151209T180652Z
UID:6468-1450297800-1450303200@jayceland.com
SUMMARY:S. Blazier Quartet musical performance
DESCRIPTION:Swiss trombonist S. Blazier first played the Bop Shop in 2008 as a member of the improvising trio Animal Forum. Talking with him\, he mentioned he was just coming out with the first release under his own name\, Seventh Heaven on Between the Lines. We heard it\, liked it and made tentative plans to book him in the future. Although we made several attempts to connect\, we were unable to link up due to schedules. That is\, until now\, 7 years later. But in that time\, Blazier has gone from strength to strength releasing a number of strong recordings with his quartet\, trio\, a series of duo recordings (including one with Swiss proto free jazz drummer Pierre Favre) and two recordings with his group Consort In Motion\, a group that interprets pre-Bach music with a modernist's twist and included the great drummer Paul Motian as a member. \n [source: Bop Shop website\, 2015-Dec-7]
URL:https://jayceland.com/blog/event/s-blazier-quartet-musical-performance/
LOCATION:Bop Shop Records\, 1460 Monroe Ave.\, Rochester\, New York\, 14618\, United States
CATEGORIES:JayceLand 2015-Dec-10
END:VEVENT
BEGIN:VEVENT
DTSTART;TZID=America/New_York:20151216T205000
DTEND;TZID=America/New_York:20151216T225500
DTSTAMP:20260420T131944
CREATED:20151209T180652Z
LAST-MODIFIED:20151209T180652Z
UID:6534-1450299000-1450306500@jayceland.com
SUMMARY:Truth screening (2015-Dec-16 @ 8:50 p.m.)
DESCRIPTION:The Cinema will screen Truth (James Vanderbilt\, Australia / U.S. 2015\, 125 min.) "Newsroom drama detailing the 2004 CBS 60 Minutes report investigating then-President George W. Bush's military service\, and the subsequent firestorm of criticism that cost anchor Dan Rather and producer Mary Mapes their careers." [source: Cinema coming soon page\, 2015-Dec-9]
URL:https://jayceland.com/blog/event/truth-screening-2015-dec-16-850-p-m/
LOCATION:Cinema Theatre\, 957 S. Clinton Ave.\, Rochester\, New York\, 14620\, United States
CATEGORIES:JayceLand 2015-Dec-10
END:VEVENT
BEGIN:VEVENT
DTSTART;TZID=America/New_York:20151216T210000
DTEND;TZID=America/New_York:20151216T230000
DTSTAMP:20260420T131944
CREATED:20151209T180652Z
LAST-MODIFIED:20151209T180652Z
UID:6461-1450299600-1450306800@jayceland.com
SUMMARY:Pale Green Stars\, Wolf Jaw\, The Dwyane Johnsons\, Maia Dobbs musical performances
DESCRIPTION:[source: Bug Jar calendar\, 2015-Dec-7]
URL:https://jayceland.com/blog/event/pale-green-stars-wolf-jaw-the-dwyane-johnsons-maia-dobbs-musical-performances/
LOCATION:Bug Jar\, 219 Monroe Ave\, Rochester\, New York\, 14607\, United States
CATEGORIES:JayceLand 2015-Dec-10
END:VEVENT
BEGIN:VEVENT
DTSTART;TZID=America/New_York:20151216T220000
DTEND;TZID=America/New_York:20151217T000000
DTSTAMP:20260420T131944
CREATED:20151209T180652Z
LAST-MODIFIED:20151209T180652Z
UID:6469-1450303200-1450310400@jayceland.com
SUMMARY:John Akers\, Erik Welsh musical performances
DESCRIPTION:[source: Dinosaur Bar-B-Que website\, 2015-Dec-7]
URL:https://jayceland.com/blog/event/john-akers-erik-welsh-musical-performances/
LOCATION:Dinosaur Bar-B-Que\, 99 Court St.\, Rochester\, New York\, 14604\, United States
CATEGORIES:JayceLand 2015-Dec-10
END:VEVENT
END:VCALENDAR