BEGIN:VCALENDAR
VERSION:2.0
PRODID:-//JayceLand - ECPv6.15.20//NONSGML v1.0//EN
CALSCALE:GREGORIAN
METHOD:PUBLISH
X-WR-CALNAME:JayceLand
X-ORIGINAL-URL:https://jayceland.com/blog
X-WR-CALDESC:Events for JayceLand
REFRESH-INTERVAL;VALUE=DURATION:PT1H
X-Robots-Tag:noindex
X-PUBLISHED-TTL:PT1H
BEGIN:VTIMEZONE
TZID:America/New_York
BEGIN:DAYLIGHT
TZOFFSETFROM:-0500
TZOFFSETTO:-0400
TZNAME:EDT
DTSTART:20140309T070000
END:DAYLIGHT
BEGIN:STANDARD
TZOFFSETFROM:-0400
TZOFFSETTO:-0500
TZNAME:EST
DTSTART:20141102T060000
END:STANDARD
BEGIN:DAYLIGHT
TZOFFSETFROM:-0500
TZOFFSETTO:-0400
TZNAME:EDT
DTSTART:20150308T070000
END:DAYLIGHT
BEGIN:STANDARD
TZOFFSETFROM:-0400
TZOFFSETTO:-0500
TZNAME:EST
DTSTART:20151101T060000
END:STANDARD
BEGIN:DAYLIGHT
TZOFFSETFROM:-0500
TZOFFSETTO:-0400
TZNAME:EDT
DTSTART:20160313T070000
END:DAYLIGHT
BEGIN:STANDARD
TZOFFSETFROM:-0400
TZOFFSETTO:-0500
TZNAME:EST
DTSTART:20161106T060000
END:STANDARD
END:VTIMEZONE
BEGIN:VEVENT
DTSTART;TZID=America/New_York:20151215T180000
DTEND;TZID=America/New_York:20151215T200000
DTSTAMP:20260424T201245
CREATED:20151209T180651Z
LAST-MODIFIED:20151209T180651Z
UID:6503-1450202400-1450209600@jayceland.com
SUMMARY:Rented Christmas—The Musical theatrical performance
DESCRIPTION:John Dale\, a middle-aged bachelor and prominent businessman\, has a challenging job for Anne Weston\, proprietor of the local rent shop. He wants to rent a Christmas\, not just with a tree and Christmas carols\, but complete with a wife\, a family\, and all of the happiness for which he has been secretly longing. Anne hires local theater actors to play the part\, but when everyone comes down with the flu\, her last hope is to turn to the local orphanage. Unable to find someone to play the Mother\, Anne steps in at the last minute to play the role herself. A 'rented' Christmas soon turns into a new life for all concerned\, which makes this a very warm and special holiday musical. \n [source: MuCCC website\, 2015-Dec-7]
URL:https://jayceland.com/blog/event/rented-christmas-the-musical-theatrical-performance/
LOCATION:MuCCC (Multi-use Community Cultural Center)\, 142 Atlantic Ave.\, Rochester\, New York\, 14607\, United States
CATEGORIES:JayceLand 2015-Dec-10
END:VEVENT
BEGIN:VEVENT
DTSTART;TZID=America/New_York:20151215T190000
DTEND;TZID=America/New_York:20151215T204600
DTSTAMP:20260424T201245
CREATED:20151209T180651Z
LAST-MODIFIED:20151209T180651Z
UID:6526-1450206000-1450212360@jayceland.com
SUMMARY:Suffragette screening (2015-Dec-15 @ 7 p.m.)
DESCRIPTION:The Cinema will screen Suffragette (Sarah Gavron\, U.K. 2015\, 106 min.) "The foot soldiers of the early feminist movement\, women who were forced underground to pursue a dangerous game of cat and mouse with an increasingly brutal State." [source: Cinema coming soon page\, 2015-Dec-9]
URL:https://jayceland.com/blog/event/suffragette-screening-2015-dec-15-7-p-m/
LOCATION:Cinema Theatre\, 957 S. Clinton Ave.\, Rochester\, New York\, 14620\, United States
CATEGORIES:JayceLand 2015-Dec-10
END:VEVENT
BEGIN:VEVENT
DTSTART;TZID=America/New_York:20151215T200000
DTEND;TZID=America/New_York:20151215T211300
DTSTAMP:20260424T201245
CREATED:20151209T180651Z
LAST-MODIFIED:20151209T180651Z
UID:6512-1450209600-1450213980@jayceland.com
SUMMARY:Snow White screening
DESCRIPTION:The Dryden will screen Snow White (J. Searle Dawley\, U.S. 1916\, 73 min.\, 35mm) with live piano accompaniment by Philip C. Carli.  \nParamount Pictures' first special Christmas release was this legendary and long-thought-lost version of Snow White starring Marguerite Clark\, who had played the part on Broadway. Clark's popularity in the 1910s rivaled Mary Pickford's\, but almost all of Clark's films (unlike Pickford's) are lost today. This enchanting film was the direct inspiration for Walt Disney's 1937 version\, and such was Disney's enthusiasm and respect for the earlier telling that he brought Clark to the Hollywood premiere of his film. In this 1916 version\, the interior sets were brought from the Broadway production to the New York studio and made even more fanciful. With delightful special effects and Clark's uniquely cool charm\, this film is an elegant and winsome experience. \n [source: George Eastman Museum website\, 2015-Dec-7]
URL:https://jayceland.com/blog/event/snow-white-screening/
LOCATION:Dryden Theatre at George Eastman Museum (formerly George Eastman House)\, 900 East Ave.\, Rochester\, New York\, 14607\, United States
CATEGORIES:JayceLand 2015-Dec-10
END:VEVENT
BEGIN:VEVENT
DTSTART;TZID=America/New_York:20151215T200000
DTEND;TZID=America/New_York:20151215T230000
DTSTAMP:20260424T201245
CREATED:20151209T180651Z
LAST-MODIFIED:20151209T180651Z
UID:6467-1450209600-1450220400@jayceland.com
SUMMARY:Martin Barre Band musical performance
DESCRIPTION:Martin Barre has been the guitarist of Jethro Tull for 43 years\, his sound and playing having been a major factor in their success. Album sales have exceeded 60 million units and they continue to be played worldwide\, representing an important part of classic rock history. \n [source: Bop Shop website\, 2015-Dec-7]
URL:https://jayceland.com/blog/event/martin-barre-band-musical-performance/
LOCATION:Lovin' Cup\, 300 Park Point Dr.\, Rochester\, New York\, 14623\, United States
CATEGORIES:JayceLand 2015-Dec-10
END:VEVENT
BEGIN:VEVENT
DTSTART;TZID=America/New_York:20151215T205000
DTEND;TZID=America/New_York:20151215T225500
DTSTAMP:20260424T201245
CREATED:20151209T180651Z
LAST-MODIFIED:20151209T180651Z
UID:6533-1450212600-1450220100@jayceland.com
SUMMARY:Truth screening (2015-Dec-15 @ 8:50 p.m.)
DESCRIPTION:The Cinema will screen Truth (James Vanderbilt\, Australia / U.S. 2015\, 125 min.) "Newsroom drama detailing the 2004 CBS 60 Minutes report investigating then-President George W. Bush's military service\, and the subsequent firestorm of criticism that cost anchor Dan Rather and producer Mary Mapes their careers." [source: Cinema coming soon page\, 2015-Dec-9]
URL:https://jayceland.com/blog/event/truth-screening-2015-dec-15-850-p-m/
LOCATION:Cinema Theatre\, 957 S. Clinton Ave.\, Rochester\, New York\, 14620\, United States
CATEGORIES:JayceLand 2015-Dec-10
END:VEVENT
BEGIN:VEVENT
DTSTART;TZID=America/New_York:20151215T210000
DTEND;TZID=America/New_York:20151215T230000
DTSTAMP:20260424T201245
CREATED:20151209T180651Z
LAST-MODIFIED:20151209T180651Z
UID:6460-1450213200-1450220400@jayceland.com
SUMMARY:Wilxy and Crump\, Ryan Sutherland musical performances
DESCRIPTION:[source: Bug Jar calendar\, 2015-Dec-7]
URL:https://jayceland.com/blog/event/wilxy-and-crump-ryan-sutherland-musical-performances/
LOCATION:Bug Jar\, 219 Monroe Ave\, Rochester\, New York\, 14607\, United States
CATEGORIES:JayceLand 2015-Dec-10
END:VEVENT
END:VCALENDAR