BEGIN:VCALENDAR
VERSION:2.0
PRODID:-//JayceLand - ECPv6.15.20//NONSGML v1.0//EN
CALSCALE:GREGORIAN
METHOD:PUBLISH
X-ORIGINAL-URL:https://jayceland.com/blog
X-WR-CALDESC:Events for JayceLand
REFRESH-INTERVAL;VALUE=DURATION:PT1H
X-Robots-Tag:noindex
X-PUBLISHED-TTL:PT1H
BEGIN:VTIMEZONE
TZID:America/New_York
BEGIN:DAYLIGHT
TZOFFSETFROM:-0500
TZOFFSETTO:-0400
TZNAME:EDT
DTSTART:20140309T070000
END:DAYLIGHT
BEGIN:STANDARD
TZOFFSETFROM:-0400
TZOFFSETTO:-0500
TZNAME:EST
DTSTART:20141102T060000
END:STANDARD
BEGIN:DAYLIGHT
TZOFFSETFROM:-0500
TZOFFSETTO:-0400
TZNAME:EDT
DTSTART:20150308T070000
END:DAYLIGHT
BEGIN:STANDARD
TZOFFSETFROM:-0400
TZOFFSETTO:-0500
TZNAME:EST
DTSTART:20151101T060000
END:STANDARD
BEGIN:DAYLIGHT
TZOFFSETFROM:-0500
TZOFFSETTO:-0400
TZNAME:EDT
DTSTART:20160313T070000
END:DAYLIGHT
BEGIN:STANDARD
TZOFFSETFROM:-0400
TZOFFSETTO:-0500
TZNAME:EST
DTSTART:20161106T060000
END:STANDARD
END:VTIMEZONE
BEGIN:VEVENT
DTSTART;TZID=America/New_York:20151102T160000
DTEND;TZID=America/New_York:20151102T170000
DTSTAMP:20260425T075755
CREATED:20151021T193424Z
LAST-MODIFIED:20151021T193424Z
UID:6050-1446480000-1446483600@jayceland.com
SUMMARY:Land Bank Trump Bid Meeting
DESCRIPTION:In Kate Gleason Auditorium of the Bausch and Lomb Library Building\, the City of Rochester is holding a Land Bank Trump Bid Meeting—"a public informational meeting explaining the Land Bank trump bid process." [source: City of Rochester website\, 2015-Oct-21]
URL:https://jayceland.com/blog/event/land-bank-trump-bid-meeting-2/
LOCATION:Bausch and Lomb Library Building\, 110 South Ave.\, Rochester\, New York\, 14604\, United States
CATEGORIES:JayceLand 2015-Oct-29
END:VEVENT
BEGIN:VEVENT
DTSTART;TZID=America/New_York:20151102T173000
DTEND;TZID=America/New_York:20151102T183000
DTSTAMP:20260425T075755
CREATED:20151028T180535Z
LAST-MODIFIED:20151028T180535Z
UID:6094-1446485400-1446489000@jayceland.com
SUMMARY:Growing Fairness screening
DESCRIPTION:The Gandhi Institute will screen Growing Fairness.  \nAs described on the film's website\, "Growing Fairness is a short documentary film about "growing" restorative justice in city schools. Often\, passionate educators lead these cultural shifts in schools. Growing Fairness examines the historical and political context for their resistance against the norm. It also shares the voices of youth who have seized the opportunity to lead\, transforming their schools and themselves in the process." \n [source: Gandhi Inistitute website\, 2015-Oct-26]
URL:https://jayceland.com/blog/event/growing-fairness-screening/
LOCATION:Gandhi Institute (M.K. Gandhi Institute for Nonviolence)\, 929 S. Plymouth Ave.\, Rochester\, New York\, 14608\, United States
CATEGORIES:JayceLand 2015-Oct-29
END:VEVENT
BEGIN:VEVENT
DTSTART;TZID=America/New_York:20151102T180000
DTEND;TZID=America/New_York:20151102T190000
DTSTAMP:20260425T075755
CREATED:20151028T180535Z
LAST-MODIFIED:20151028T180535Z
UID:6089-1446487200-1446490800@jayceland.com
SUMMARY:Save Energy\, Save Dollars Workshop
DESCRIPTION:Learn how to reduce your energy bills via low-cost\, no-cost methods. Identify the biggest energy users in your home. Find out about financial assistance. Each participation will receive three free energy-saving light bulbs. Presented by the Cornell Cooperative Extension and NYSERDA. \n [source: Monroe County Library website\, 2015-Oct-26]
URL:https://jayceland.com/blog/event/save-energy-save-dollars-workshop/
LOCATION:Lyell Branch Library\, 956 Lyell Ave.\, Rochester\, New York\, 14606\, United States
CATEGORIES:JayceLand 2015-Oct-29
END:VEVENT
BEGIN:VEVENT
DTSTART;TZID=America/New_York:20151102T190000
DTEND;TZID=America/New_York:20151102T203000
DTSTAMP:20260425T075755
CREATED:20151028T180535Z
LAST-MODIFIED:20151028T180535Z
UID:6121-1446490800-1446496200@jayceland.com
SUMMARY:Moving Beyond Racism Book Discussion
DESCRIPTION:This evening's Moving Beyond Racism Book Discussion will focus on The Invention of Wings by Sue Monk Kidd. "Everyone is welcome whether or not you have read the book. Join us for a safe\, stimulating discussion." [source: City Newspaper events calendar\, 2015-Oct-26]
URL:https://jayceland.com/blog/event/moving-beyond-racism-book-discussion/
LOCATION:Barnes and Noble\, 3349 Monroe Ave.\, Pittsford\, New York\, 14618\, United States
CATEGORIES:JayceLand 2015-Oct-29
END:VEVENT
BEGIN:VEVENT
DTSTART;TZID=America/New_York:20151102T190000
DTEND;TZID=America/New_York:20151102T210100
DTSTAMP:20260425T075755
CREATED:20151028T180535Z
LAST-MODIFIED:20151028T180535Z
UID:6130-1446490800-1446498060@jayceland.com
SUMMARY:Everest screening (2015-Nov-2 @ 7 p.m.)
DESCRIPTION:The Cinema will screen Everest (Baltasar Kormákur\, U.S. / U.K. / Iceland 2015\, 121 min.) "A climbing expedition on Mt. Everest is devastated by a severe snow storm." [source: Cinema coming soon page\, 2015-Oct-28]
URL:https://jayceland.com/blog/event/everest-screening-2015-nov-2-7-p-m/
LOCATION:Cinema Theatre\, 957 S. Clinton Ave.\, Rochester\, New York\, 14620\, United States
CATEGORIES:JayceLand 2015-Oct-29
END:VEVENT
BEGIN:VEVENT
DTSTART;TZID=America/New_York:20151102T210500
DTEND;TZID=America/New_York:20151102T230800
DTSTAMP:20260425T075755
CREATED:20151028T180535Z
LAST-MODIFIED:20151028T180535Z
UID:6137-1446498300-1446505680@jayceland.com
SUMMARY:The Walk screening (2015-Nov-2 @ 9:05 p.m.)
DESCRIPTION:The Cinema will screen The Walk (Robert Zemeckis\, U.S. 2015\, 123 min.) "In 1974\, high-wire artist Philippe Petit recruits a team of people to help him realize his dream: to walk the immense void between the World Trade Center towers." [source: Cinema coming soon page\, 2015-Oct-28]
URL:https://jayceland.com/blog/event/the-walk-screening-2015-nov-2-905-p-m/
LOCATION:Cinema Theatre\, 957 S. Clinton Ave.\, Rochester\, New York\, 14620\, United States
CATEGORIES:JayceLand 2015-Oct-29
END:VEVENT
END:VCALENDAR