BEGIN:VCALENDAR
VERSION:2.0
PRODID:-//JayceLand - ECPv6.15.20//NONSGML v1.0//EN
CALSCALE:GREGORIAN
METHOD:PUBLISH
X-WR-CALNAME:JayceLand
X-ORIGINAL-URL:https://jayceland.com/blog
X-WR-CALDESC:Events for JayceLand
REFRESH-INTERVAL;VALUE=DURATION:PT1H
X-Robots-Tag:noindex
X-PUBLISHED-TTL:PT1H
BEGIN:VTIMEZONE
TZID:America/New_York
BEGIN:DAYLIGHT
TZOFFSETFROM:-0500
TZOFFSETTO:-0400
TZNAME:EDT
DTSTART:20140309T070000
END:DAYLIGHT
BEGIN:STANDARD
TZOFFSETFROM:-0400
TZOFFSETTO:-0500
TZNAME:EST
DTSTART:20141102T060000
END:STANDARD
BEGIN:DAYLIGHT
TZOFFSETFROM:-0500
TZOFFSETTO:-0400
TZNAME:EDT
DTSTART:20150308T070000
END:DAYLIGHT
BEGIN:STANDARD
TZOFFSETFROM:-0400
TZOFFSETTO:-0500
TZNAME:EST
DTSTART:20151101T060000
END:STANDARD
BEGIN:DAYLIGHT
TZOFFSETFROM:-0500
TZOFFSETTO:-0400
TZNAME:EDT
DTSTART:20160313T070000
END:DAYLIGHT
BEGIN:STANDARD
TZOFFSETFROM:-0400
TZOFFSETTO:-0500
TZNAME:EST
DTSTART:20161106T060000
END:STANDARD
END:VTIMEZONE
BEGIN:VEVENT
DTSTART;TZID=America/New_York:20151018T100000
DTEND;TZID=America/New_York:20151018T170000
DTSTAMP:20260422T220952
CREATED:20151014T183852Z
LAST-MODIFIED:20151014T183852Z
UID:5939-1445162400-1445187600@jayceland.com
SUMMARY:Pumpkin Patch Train Rides (2015-Oct-18 @ 10 a.m.)
DESCRIPTION:Enjoy a colorful ride through our museum grounds in the heart of the rural Genesee Valley! Every child will get to choose a small baby pumpkin to take home to decorate. \n [source: Facebook\, 2015-Oct-12]
URL:https://jayceland.com/blog/event/pumpkin-patch-train-rides-2015-oct-18-10-a-m/
LOCATION:Rochester and Genesee Valley Railroad Museum\, 282 Rush Scottsville Rd.\, Rush\, New York\, 14534\, United States
CATEGORIES:JayceLand 2015-Oct-15
END:VEVENT
BEGIN:VEVENT
DTSTART;TZID=America/New_York:20151018T140000
DTEND;TZID=America/New_York:20151018T153800
DTSTAMP:20260422T220952
CREATED:20151014T183853Z
LAST-MODIFIED:20151014T183853Z
UID:5928-1445176800-1445182680@jayceland.com
SUMMARY:A Walk in the Spring Rain screening (2015-Oct-18 @ 2 p.m.)
DESCRIPTION:The Dryden will screen A Walk in the Spring Rain (Guy Green\, U.S. 1970\, 98 min.)  \nThis fine romantic drama features Ingrid Bergman as Libby Meredith\, a wealthy New York socialite who moves with her husband Roger (Fritz Weaver) to a cabin in rural Tennessee. They meet Will Cade (Anthony Quinn)\, a salt-of-the-earth local who charms the metropolitan Libby with his rustic sensibilities\, and the two eventually enter into a romantic affair. A Walk in the Spring Rain is a melancholic film\, and this is perhaps due to facts beyond the tragic character of its plot. This was the last of several films Bergman shot in America after an extended period living in Europe and working mainly on television and theatrical productions. Bergman and her husband Lars Schmidt had apparently been drifting apart for some time\, and he remained in Europe while she was away. Shortly after returning from the shoot for A Walk in the Spring Rain\, Bergman learned that Schmidt had fallen in love with another woman. Their marriage dissolved several years later. As it so often does in the tiny world of show business\, life reverberates in art to blur the boundaries between the image on screen and the person in the world. \n [source: George Eastman Museum calendar\, 2015-Oct-12]
URL:https://jayceland.com/blog/event/a-walk-in-the-spring-rain-screening-2015-oct-18-2-p-m/
LOCATION:Dryden Theatre at George Eastman House\, 900 East Ave.\, Rochester\, New York\, 14607\, United States
CATEGORIES:JayceLand 2015-Oct-15
END:VEVENT
BEGIN:VEVENT
DTSTART;TZID=America/New_York:20151018T150000
DTEND;TZID=America/New_York:20151018T163000
DTSTAMP:20260422T220952
CREATED:20151014T183853Z
LAST-MODIFIED:20151014T183853Z
UID:5915-1445180400-1445185800@jayceland.com
SUMMARY:Enough to Live On: The Arts of the WPA screening
DESCRIPTION:The MAG will screen Enough to Live On: The Arts of the WPA (Michael Maglaras\, U.S. 2015\, 90 min.) [source: MAG website\, 2015-Oct-12]
URL:https://jayceland.com/blog/event/enough-to-live-on-the-arts-of-the-wpa-screening/
LOCATION:Memorial Art Gallery\, 500 University Ave.\, Rochester\, New York\, 14607\, United States
CATEGORIES:JayceLand 2015-Oct-15
END:VEVENT
BEGIN:VEVENT
DTSTART;TZID=America/New_York:20151018T170000
DTEND;TZID=America/New_York:20151018T190000
DTSTAMP:20260422T220952
CREATED:20151014T183853Z
LAST-MODIFIED:20151014T183853Z
UID:5926-1445187600-1445194800@jayceland.com
SUMMARY:The Duchess Of Malfi theatrical performance (2015-Oct-18 @ 5 p.m.)
DESCRIPTION:Wallbyrd Theatre Company is thrilled to present John Webster's macabre revenge tragedy The Duchess Of Malfi October 15th-24th at the MuCCC Theater in Rochester. This visually stunning production will cast Webster's classic tragedy in a new light as the show comes to life against the backdrop of the sweeping\, war torn landscape of the American Civil War.  Defying the wishes of her two brothers\, the newly widowed Duchess of Malfi is quick to secretly marry her true love and steward\, Antonio. When their illicit union is finally brought to light\, it will unleash a reign of terror\, cruelty\, madness\, and murder that will tear country and kin to the ground. First performed by Shakespeare's own company\, the King's Men in 1614\, this Jacobean classic has been heralded among the most grotesque\, whirlwind thrillers of the English theater\, composed with a poetic elegance and nuance to rival the bard himself.  In keeping with the company's mission to explore "living classics\," this production has been re-imagined\, combining Webster's expressive and eloquent verse with the raw\, war ravaged setting of the 1860's antebellum south. In doing so\, this production will explore how race\, class\, gender\, and culture defined and defied a tumultuous period in American history. Due to the complexity and sheer scale of this work\, this is a rare chance to see one of Webster's most acclaimed masterpieces embodied on the American stage. \n [source: MuCCC website\, 2015-Oct-12]
URL:https://jayceland.com/blog/event/the-duchess-of-malfi-theatrical-performance-2015-oct-18-5-p-m/
LOCATION:MuCCC (Multi-use Community Cultural Center)\, 142 Atlantic Ave.\, Rochester\, New York\, 14607\, United States
CATEGORIES:JayceLand 2015-Oct-15
END:VEVENT
BEGIN:VEVENT
DTSTART;TZID=America/New_York:20151018T173000
DTEND;TZID=America/New_York:20151018T193000
DTSTAMP:20260422T220952
CREATED:20151014T183853Z
LAST-MODIFIED:20151014T183853Z
UID:5933-1445189400-1445196600@jayceland.com
SUMMARY:Fishy Reasoning and the Ethics of Eating vegan potluck dinner
DESCRIPTION:October meeting of the Rochester Area Vegan Society to hear Mylan Engel\, Ph.D. speak. Dinner is a vegan potluck. Vegan means no animal products (no meat\, poultry\, fish\, eggs\, dairy products or honey). Please bring a dish with enough to serve a crowd\, and a serving utensil; also bring a place setting for your own dinner. \n [source: City Newspaper events calendar\, 2015-Oct-12]
URL:https://jayceland.com/blog/event/fishy-reasoning-and-the-ethics-of-eating-vegan-potluck-dinner/
LOCATION:Brighton Town Park\, 777 Westfall Rd.\, Rochester\, New York\, 14620\, United States
CATEGORIES:JayceLand 2015-Oct-15
END:VEVENT
BEGIN:VEVENT
DTSTART;TZID=America/New_York:20151018T210000
DTEND;TZID=America/New_York:20151018T230000
DTSTAMP:20260422T220952
CREATED:20151014T183853Z
LAST-MODIFIED:20151014T183853Z
UID:5898-1445202000-1445209200@jayceland.com
SUMMARY:Megalodonis\, SuP\, The Juiceboxes musical performances
DESCRIPTION:[source: Bug Jar calendar\, 2015-Oct-12]
URL:https://jayceland.com/blog/event/megalodonis-sup-the-juiceboxes-musical-performances/
LOCATION:Bug Jar\, 219 Monroe Ave\, Rochester\, New York\, 14607\, United States
CATEGORIES:JayceLand 2015-Oct-15
END:VEVENT
END:VCALENDAR