BEGIN:VCALENDAR
VERSION:2.0
PRODID:-//JayceLand - ECPv6.15.20//NONSGML v1.0//EN
CALSCALE:GREGORIAN
METHOD:PUBLISH
X-ORIGINAL-URL:https://jayceland.com/blog
X-WR-CALDESC:Events for JayceLand
REFRESH-INTERVAL;VALUE=DURATION:PT1H
X-Robots-Tag:noindex
X-PUBLISHED-TTL:PT1H
BEGIN:VTIMEZONE
TZID:America/New_York
BEGIN:DAYLIGHT
TZOFFSETFROM:-0500
TZOFFSETTO:-0400
TZNAME:EDT
DTSTART:20140309T070000
END:DAYLIGHT
BEGIN:STANDARD
TZOFFSETFROM:-0400
TZOFFSETTO:-0500
TZNAME:EST
DTSTART:20141102T060000
END:STANDARD
BEGIN:DAYLIGHT
TZOFFSETFROM:-0500
TZOFFSETTO:-0400
TZNAME:EDT
DTSTART:20150308T070000
END:DAYLIGHT
BEGIN:STANDARD
TZOFFSETFROM:-0400
TZOFFSETTO:-0500
TZNAME:EST
DTSTART:20151101T060000
END:STANDARD
BEGIN:DAYLIGHT
TZOFFSETFROM:-0500
TZOFFSETTO:-0400
TZNAME:EDT
DTSTART:20160313T070000
END:DAYLIGHT
BEGIN:STANDARD
TZOFFSETFROM:-0400
TZOFFSETTO:-0500
TZNAME:EST
DTSTART:20161106T060000
END:STANDARD
END:VTIMEZONE
BEGIN:VEVENT
DTSTART;TZID=America/New_York:20151005T184500
DTEND;TZID=America/New_York:20151005T201800
DTSTAMP:20260424T160117
CREATED:20150930T145906Z
LAST-MODIFIED:20150930T145906Z
UID:5759-1444070700-1444076280@jayceland.com
SUMMARY:Al Helm: Martin Luther King in Palestine screening
DESCRIPTION:The Little will screen Al Helm: Martin Luther King in Palestine (Connie Field\, U.S. / Occupied Palestinian Territory 2014\, 93 min.) as part  of the 2015 Witness Palestine Film Series. The screening will be followed by a panel discussion.  \nWhile capturing the growing non-violent movement of young people in Palestine\, this film brings a fresh perspective for understanding the realities of Palestinian life under occupation.  Come travel with an African-American gospel choir and with MLK Scholar Clayborne Carson\, the author of a play about Dr. Martin Luther King\, Jr. In collaboration with members of the Palestinian National Theatre\, Carson and the choir adapt and then perform the play for Palestinian audiences in the West Bank.  Choir members\, drawn from devoutly Christian churches\, are traveling to the Middle East for the first time and witnessing the realities of life under occupation. Hoping to be a voice for change\, the author and the singers are themselves profoundly changed by the experience. \n [source: Little Theatre website\, 2015-Sep-28]
URL:https://jayceland.com/blog/event/al-helm-martin-luther-king-in-palestine-screening/
LOCATION:Little Theatre\, 240 East Ave. #100\, Rochester\, New York\, 14604\, United States
CATEGORIES:JayceLand 2015-Oct-1
END:VEVENT
BEGIN:VEVENT
DTSTART;TZID=America/New_York:20151005T190000
DTEND;TZID=America/New_York:20151005T211100
DTSTAMP:20260424T160117
CREATED:20150930T145906Z
LAST-MODIFIED:20150930T145906Z
UID:5811-1444071600-1444079460@jayceland.com
SUMMARY:Mission Imposible: Rogue Nation screening (2015-Oct-5 @ 7 p.m.)
DESCRIPTION:The Cinema will screen Mission Imposible: Rogue Nation (Christopher McQuarrie\, U.S. / Hong Kong / China 2015\, 131 min.) "Ethan and team take on their most impossible mission yet\, eradicating the Syndicate – an International rogue organization as highly skilled as they are\, committed to destroying the IMF." [source: Cinema coming soon page\, 2015-Sep-30]
URL:https://jayceland.com/blog/event/mission-imposible-rogue-nation-screening-2015-oct-5-7-p-m/
LOCATION:Cinema Theatre\, 957 S. Clinton Ave.\, Rochester\, New York\, 14620\, United States
CATEGORIES:JayceLand 2015-Oct-1
END:VEVENT
BEGIN:VEVENT
DTSTART;TZID=America/New_York:20151005T200000
DTEND;TZID=America/New_York:20151005T220000
DTSTAMP:20260424T160117
CREATED:20150930T145906Z
LAST-MODIFIED:20150930T145906Z
UID:5806-1444075200-1444082400@jayceland.com
SUMMARY:ChameleonsVox\, Veluxe
DESCRIPTION:ChameleonsVox\, and tight modern rock band Veluxe will perform at Montage Music Hall. [source: Facebook\, 2015-Sep-28]
URL:https://jayceland.com/blog/event/chameleonsvox-veluxe/
LOCATION:Montage Music Hall\, 50 Chestnut St.\, Rochester\, New York\, 14604\, United States
CATEGORIES:JayceLand 2015-Oct-1
END:VEVENT
BEGIN:VEVENT
DTSTART;TZID=America/New_York:20151005T211500
DTEND;TZID=America/New_York:20151005T232000
DTSTAMP:20260424T160117
CREATED:20150930T145906Z
LAST-MODIFIED:20150930T145906Z
UID:5817-1444079700-1444087200@jayceland.com
SUMMARY:Trainwreck screening (2015-Oct-5 @ 9:15 p.m.)
DESCRIPTION:The Cinema will screen Trainwreck (Judd Apatow\, U.S. 2015\, 125 min.) "Having thought that monogamy was never possible\, a commitment-phobic career woman may have to face her fears when she meets a good guy." [source: Cinema coming soon page\, 2015-Sep-30]
URL:https://jayceland.com/blog/event/trainwreck-screening-2015-oct-5-915-p-m/
LOCATION:Cinema Theatre\, 957 S. Clinton Ave.\, Rochester\, New York\, 14620\, United States
CATEGORIES:JayceLand 2015-Oct-1
END:VEVENT
END:VCALENDAR