BEGIN:VCALENDAR
VERSION:2.0
PRODID:-//JayceLand - ECPv6.15.20//NONSGML v1.0//EN
CALSCALE:GREGORIAN
METHOD:PUBLISH
X-WR-CALNAME:JayceLand
X-ORIGINAL-URL:https://jayceland.com/blog
X-WR-CALDESC:Events for JayceLand
REFRESH-INTERVAL;VALUE=DURATION:PT1H
X-Robots-Tag:noindex
X-PUBLISHED-TTL:PT1H
BEGIN:VTIMEZONE
TZID:America/New_York
BEGIN:DAYLIGHT
TZOFFSETFROM:-0500
TZOFFSETTO:-0400
TZNAME:EDT
DTSTART:20140309T070000
END:DAYLIGHT
BEGIN:STANDARD
TZOFFSETFROM:-0400
TZOFFSETTO:-0500
TZNAME:EST
DTSTART:20141102T060000
END:STANDARD
BEGIN:DAYLIGHT
TZOFFSETFROM:-0500
TZOFFSETTO:-0400
TZNAME:EDT
DTSTART:20150308T070000
END:DAYLIGHT
BEGIN:STANDARD
TZOFFSETFROM:-0400
TZOFFSETTO:-0500
TZNAME:EST
DTSTART:20151101T060000
END:STANDARD
BEGIN:DAYLIGHT
TZOFFSETFROM:-0500
TZOFFSETTO:-0400
TZNAME:EDT
DTSTART:20160313T070000
END:DAYLIGHT
BEGIN:STANDARD
TZOFFSETFROM:-0400
TZOFFSETTO:-0500
TZNAME:EST
DTSTART:20161106T060000
END:STANDARD
END:VTIMEZONE
BEGIN:VEVENT
DTSTART;TZID=America/New_York:20150904T180000
DTEND;TZID=America/New_York:20150904T210000
DTSTAMP:20260422T110636
CREATED:20150902T112439Z
LAST-MODIFIED:20150902T112439Z
UID:5453-1441389600-1441400400@jayceland.com
SUMMARY:Opening Reception for The Curious Reality of Images: Rick McKee Hock\, and Aesthetic Technologies: Works by Philip Mallory Jones
DESCRIPTION:In the Gallery and MFA Gallery at the Visual Studies Workshop is the Opening Reception for The Curious Reality of Images: Rick McKee Hock\, Aesthetic Technologies: Works by Philip Mallory Jones in the Hallway\, and Keith Johnson's What's a Photograph Supposed to Look Like Anyway? in the Project Space\, on display through December 19.  \nFour Rochester\, NY cultural institutions will be exhibiting the work of Rick McKee Hock (1947-2015) in the fall and winter of 2015 and 2016. These exhibits are a tribute to Hock's commitment to art and culture in the area as well as his lasting art. Hock\, who passed away earlier this year\, made extraordinarily complex images filled with references to the history of art\, folklore\, philosophy\, psychology\, and poetry in his uniquely dark yet playful manner of association.  VSW will exhibit Hock's early photographs made within the region as well as selections from several major bodies of work\, the Codices\, Lost Horizons\, and recent drawings and paintings including an incomplete bestiary with poems by photography historian and curator Alison NordstrÃ¶m. Rochester Contemporary Art Center will exhibit a series of recent humorous drawings we are calling Artist vs. Artist\, depicting Hock's contemporary art historical heroes pummeling other artists with perhaps more fame and dominance in the art marketplace. The rotation in the History of Photography Gallery at George Eastman House will include an early work of Hock's and The University of Rochester's Memorial Art Gallery will be exhibiting two of his renowned Codices works in their galleries this fall and winter. \n [source: Visual Studies Workshop website\, 2015-Aug-31]
URL:https://jayceland.com/blog/event/opening-reception-for-the-curious-reality-of-images-rick-mckee-hock-and-aesthetic-technologies-works-by-philip-mallory-jones/
LOCATION:Visual Studies Workshop\, 31 Prince St.\, Rochester\, New York\, 14607\, United States
CATEGORIES:JayceLand 2015-Sep-3
END:VEVENT
BEGIN:VEVENT
DTSTART;TZID=America/New_York:20150904T180000
DTEND;TZID=America/New_York:20150904T220000
DTSTAMP:20260422T110636
CREATED:20150902T112440Z
LAST-MODIFIED:20150902T112440Z
UID:5456-1441389600-1441404000@jayceland.com
SUMMARY:Brooklyn Bridge opening reception
DESCRIPTION:At RoCo is the Opening Reception for Brooklyn Bridge\, on display through Novmeber 15. "Brooklyn Bridge features five New York-based emerging artists\, exhibiting together for the first time." [source: RoCo website\, 2015-Aug-31]
URL:https://jayceland.com/blog/event/brooklyn-bridge-opening-reception/
LOCATION:Rochester Contemporary Art Center (RoCo)\, 137 East Ave.\, Rochester\, New York\, 14604\, United States
CATEGORIES:JayceLand 2015-Sep-3
END:VEVENT
BEGIN:VEVENT
DTSTART;TZID=America/New_York:20150904T190000
DTEND;TZID=America/New_York:20150904T203500
DTSTAMP:20260422T110636
CREATED:20150902T112445Z
LAST-MODIFIED:20150902T112445Z
UID:5474-1441393200-1441398900@jayceland.com
SUMMARY:Irrational Man screening (2015-Sep-4 @ 7 p.m.)
DESCRIPTION:The Cinema will screen Irrational Man (Woody Allen\, U.S. 2015\, 95 min.) "A tormented philosophy professor finds a will to live when he commits an existential act." [source: Cinema coming soon page\, 2015-Sep-2]
URL:https://jayceland.com/blog/event/irrational-man-screening-2015-sep-4-7-p-m/
LOCATION:Cinema Theatre\, 957 S. Clinton Ave.\, Rochester\, New York\, 14620\, United States
CATEGORIES:JayceLand 2015-Sep-3
END:VEVENT
BEGIN:VEVENT
DTSTART;TZID=America/New_York:20150904T190000
DTEND;TZID=America/New_York:20150904T210000
DTSTAMP:20260422T110636
CREATED:20150902T112438Z
LAST-MODIFIED:20150902T112438Z
UID:5451-1441393200-1441400400@jayceland.com
SUMMARY:An Evening with Jimmie Highsmith Jr.
DESCRIPTION:Eastman Music Company presents An Evening with Jimmie Highsmith Jr. at Bernunzio's.  \nBernunzio Uptown Music is now a dealer for Andreas Eastman Saxophones! We welcome our friend Jimmie Highsmith Jr. for an evening of great music as he offers a demonstration of the Andreas Eastman Saxophones line. Horn players are welcome to bring their mouthpieces to try out the horns! \n [source: Bernunzio Uptown Music website\, 2015-Aug-31]
URL:https://jayceland.com/blog/event/an-evening-with-jimmie-highsmith-jr/
LOCATION:Bernunzio Uptown Music\, 122 East Ave.\, Rochester\, New York\, 14604\, United States
CATEGORIES:JayceLand 2015-Sep-3
END:VEVENT
BEGIN:VEVENT
DTSTART;TZID=America/New_York:20150904T190000
DTEND;TZID=America/New_York:20150904T210000
DTSTAMP:20260422T110636
CREATED:20150902T112440Z
LAST-MODIFIED:20150902T112440Z
UID:5455-1441393200-1441400400@jayceland.com
SUMMARY:Wide Open Mic with Norm Davis
DESCRIPTION:[source: Writers and Books website\, 2015-Aug-31]
URL:https://jayceland.com/blog/event/wide-open-mic-with-norm-davis/
LOCATION:Writers & Books\, 740 University Ave.\, Rochester\, New York\, 14607\, United States
CATEGORIES:JayceLand 2015-Sep-3
END:VEVENT
BEGIN:VEVENT
DTSTART;TZID=America/New_York:20150904T200000
DTEND;TZID=America/New_York:20150904T212800
DTSTAMP:20260422T110636
CREATED:20150902T112443Z
LAST-MODIFIED:20150902T112443Z
UID:5466-1441396800-1441402080@jayceland.com
SUMMARY:The Hand That Feeds screening
DESCRIPTION:The Dryden will screen The Hand That Feeds (Rachel Lears and Robin Blotnick\, U.S. 2014\, 88 min.\, DCP) as part of the Labor Film Series.  \nAt a popular bakery-café\, residents of New York's Upper East Side get bagels and coffee served with a smile 24 hours a day. But behind the scenes\, undocumented immigrant workers face sub-legal wages\, dangerous machinery\, and abusive managers who will fire them for calling in sick. Mild-mannered sandwich maker Mahoma López has never been interested in politics\, but in January 2012\, he convinces a small group of his co-workers to fight back. Risking deportation and the loss of their livelihood\, the workers team up with a diverse crew of innovative young organizers and take the unusual step of forming their own independent union\, launching themselves on a journey that will test the limits of their resolve. In one rollercoaster year\, they must overcome a shocking betrayal and a two-month lockout. Lawyers will battle in back rooms\, Occupy Wall Street protesters will take over the restaurant\, and a picket line will divide the neighborhood. If they can win a contract\, it will set a historic precedent for low-wage workers across the country. But whatever happens\, Mahoma and his coworkers will never be exploited again. \n [source: Dryden website\, 2015-Aug-31]
URL:https://jayceland.com/blog/event/the-hand-that-feeds-screening/
LOCATION:Dryden Theatre at George Eastman House\, 900 East Ave.\, Rochester\, New York\, 14607\, United States
CATEGORIES:JayceLand 2015-Sep-3
END:VEVENT
BEGIN:VEVENT
DTSTART;TZID=America/New_York:20150904T204000
DTEND;TZID=America/New_York:20150904T221000
DTSTAMP:20260422T110636
CREATED:20150902T112447Z
LAST-MODIFIED:20150902T112447Z
UID:5481-1441399200-1441404600@jayceland.com
SUMMARY:Infinitely Polar Bear screening (2015-Sep-4 @ 8:40 p.m.)
DESCRIPTION:The Cinema will screen Infinitely Polar Bear (Maya Forbes\, U.S. 2014\, 90 min.) "A manic-depressive mess of a father tries to win back his wife by attempting to take full responsibility of their two young\, spirited daughters\, who don't make the overwhelming task any easier." [source: Cinema coming soon page\, 2015-Sep-2]
URL:https://jayceland.com/blog/event/infinitely-polar-bear-screening-2015-sep-4-840-p-m/
LOCATION:Cinema Theatre\, 957 S. Clinton Ave.\, Rochester\, New York\, 14620\, United States
CATEGORIES:JayceLand 2015-Sep-3
END:VEVENT
BEGIN:VEVENT
DTSTART;TZID=America/New_York:20150904T220000
DTEND;TZID=America/New_York:20150904T235700
DTSTAMP:20260422T110636
CREATED:20150902T112441Z
LAST-MODIFIED:20150902T112441Z
UID:5457-1441404000-1441411020@jayceland.com
SUMMARY:The Big Lebowski screening
DESCRIPTION:In Wilson Commons at UofR is a screening of The Big Lebowski (Joel Coen\, Ethan Coen\, U.S. / U.K. 1998\, 117 min.) "'The Dude' Lebowski\, mistaken for a millionaire Lebowski\, seeks restitution for his ruined rug and enlists his bowling buddies to help get it." [source: University of Rochester Cinema Group website\, 2015-Aug-31]
URL:https://jayceland.com/blog/event/the-big-lebowski-screening/
LOCATION:University of Rochester River Campus\, Intercampus Dr. & Library Rd.\, Rochester\, New York\, 14611\, United States
CATEGORIES:JayceLand 2015-Sep-3
END:VEVENT
BEGIN:VEVENT
DTSTART;TZID=America/New_York:20150904T220000
DTEND;TZID=America/New_York:20150905T000400
DTSTAMP:20260422T110636
CREATED:20150902T112437Z
LAST-MODIFIED:20150902T112437Z
UID:5448-1441404000-1441411440@jayceland.com
SUMMARY:The Elephant Man screening
DESCRIPTION:The Little will screen The Elephant Man (David Lynch\, U.S. / U.K. 1980\, 124 min.)  \nJohn Merrick (whose real name was Joseph\, as this is based on a true story) is an intelligent and friendly man\, but he is hated by his Victorian-era English society because he is severely deformed. Once he is discovered by a doctor\, however\, he is saved from his life in a freak show and he is treated like the human being that he really is. \n [source: Little Theatre website\, 2015-Aug-31]
URL:https://jayceland.com/blog/event/the-elephant-man-screening/
LOCATION:Little Theatre\, 240 East Ave. #100\, Rochester\, New York\, 14604\, United States
CATEGORIES:JayceLand 2015-Sep-3
END:VEVENT
END:VCALENDAR