BEGIN:VCALENDAR
VERSION:2.0
PRODID:-//JayceLand - ECPv6.15.20//NONSGML v1.0//EN
CALSCALE:GREGORIAN
METHOD:PUBLISH
X-WR-CALNAME:JayceLand
X-ORIGINAL-URL:https://jayceland.com/blog
X-WR-CALDESC:Events for JayceLand
REFRESH-INTERVAL;VALUE=DURATION:PT1H
X-Robots-Tag:noindex
X-PUBLISHED-TTL:PT1H
BEGIN:VTIMEZONE
TZID:America/New_York
BEGIN:DAYLIGHT
TZOFFSETFROM:-0500
TZOFFSETTO:-0400
TZNAME:EDT
DTSTART:20140309T070000
END:DAYLIGHT
BEGIN:STANDARD
TZOFFSETFROM:-0400
TZOFFSETTO:-0500
TZNAME:EST
DTSTART:20141102T060000
END:STANDARD
BEGIN:DAYLIGHT
TZOFFSETFROM:-0500
TZOFFSETTO:-0400
TZNAME:EDT
DTSTART:20150308T070000
END:DAYLIGHT
BEGIN:STANDARD
TZOFFSETFROM:-0400
TZOFFSETTO:-0500
TZNAME:EST
DTSTART:20151101T060000
END:STANDARD
BEGIN:DAYLIGHT
TZOFFSETFROM:-0500
TZOFFSETTO:-0400
TZNAME:EDT
DTSTART:20160313T070000
END:DAYLIGHT
BEGIN:STANDARD
TZOFFSETFROM:-0400
TZOFFSETTO:-0500
TZNAME:EST
DTSTART:20161106T060000
END:STANDARD
END:VTIMEZONE
BEGIN:VEVENT
DTSTART;TZID=America/New_York:20150901T190000
DTEND;TZID=America/New_York:20150901T210400
DTSTAMP:20260422T172551
CREATED:20150826T160425Z
LAST-MODIFIED:20150826T160425Z
UID:5399-1441134000-1441141440@jayceland.com
SUMMARY:Southpaw screening (2015-Sep-1 @ 7 p.m.)
DESCRIPTION:The cinema will screen southpaw (Antoine Fuqua\, U.S. 2015\, 124 min.) "Boxer Billy Hope turns to trainer Tick Willis to help him get his life back on track after losing his wife in a tragic accident and his daughter to child protection services." [source: Cinema coming soon page\, 2015-Aug-26]
URL:https://jayceland.com/blog/event/southpaw-screening-2015-sep-1-7-p-m/
LOCATION:Cinema Theatre\, 957 S. Clinton Ave.\, Rochester\, New York\, 14620\, United States
CATEGORIES:JayceLand 2015-Aug-27
END:VEVENT
BEGIN:VEVENT
DTSTART;TZID=America/New_York:20150901T200000
DTEND;TZID=America/New_York:20150901T215900
DTSTAMP:20260422T172551
CREATED:20150826T160423Z
LAST-MODIFIED:20150826T160423Z
UID:5390-1441137600-1441144740@jayceland.com
SUMMARY:Old Ironsides screening
DESCRIPTION:The Dryden will screen Old Ironsides (James Cruze\, U.S. 1926\, 119 min.\, 35mm) with live piano by Philip C. Carli.  \nWe start our fall Silent Tuesdays with one of the great sea epics of film history\, about the United States' first conflict with a foreign power and the crucial role taken by the iconic sailing warship USS Constitution\, nicknamed "Old Ironsides" because cannonballs seemed to just bounce off her wooden hull. A tale of cunning pirates\, brave navy sailors\, and romance fitted into the whole framework\, director James Cruze creates tremendous visual sweep—in its original screenings\, an early widescreen process was used at key moments—and storytelling panache while dashing Charles Farrell\, stunning Esther Ralston\, and crusty seamen Wallace Beery and George Bancroft give their all as they are besieged by foes from "the shores of Tripoli." \n [source: Dryden website\, 2015-Aug-24]
URL:https://jayceland.com/blog/event/old-ironsides-screening/
LOCATION:Dryden Theatre at George Eastman House\, 900 East Ave.\, Rochester\, New York\, 14607\, United States
CATEGORIES:JayceLand 2015-Aug-27
END:VEVENT
BEGIN:VEVENT
DTSTART;TZID=America/New_York:20150901T210000
DTEND;TZID=America/New_York:20150901T230000
DTSTAMP:20260422T172551
CREATED:20150826T160419Z
LAST-MODIFIED:20150826T160419Z
UID:5372-1441141200-1441148400@jayceland.com
SUMMARY:Malarchuk\, King Buffalo\, Colonel Parmisan musical performances
DESCRIPTION:[source: Bug Jar calendar\, 2015-Aug-24]
URL:https://jayceland.com/blog/event/malarchuk-king-buffalo-colonel-parmisan-musical-performances/
LOCATION:Bug Jar\, 219 Monroe Ave\, Rochester\, New York\, 14607\, United States
CATEGORIES:JayceLand 2015-Aug-27
END:VEVENT
BEGIN:VEVENT
DTSTART;TZID=America/New_York:20150901T211000
DTEND;TZID=America/New_York:20150901T223500
DTSTAMP:20260422T172551
CREATED:20150826T160427Z
LAST-MODIFIED:20150826T160427Z
UID:5406-1441141800-1441146900@jayceland.com
SUMMARY:People Places Things screening (2015-Sep-1 @ 9:10 p.m.)
DESCRIPTION:The Cinema will screen People Places Things (James C. Strouse\, U.S. 2015\, 85 min.) "Will Henry is a newly single graphic novelist balancing parenting his young twin daughters and a classroom full of students while exploring and navigating the rich complexities of new love and letting go of the woman who left him." [source: Cinema coming soon page\, 2015-Aug-26]
URL:https://jayceland.com/blog/event/people-places-things-screening-2015-sep-1-910-p-m/
LOCATION:Cinema Theatre\, 957 S. Clinton Ave.\, Rochester\, New York\, 14620\, United States
CATEGORIES:JayceLand 2015-Aug-27
END:VEVENT
END:VCALENDAR