BEGIN:VCALENDAR
VERSION:2.0
PRODID:-//JayceLand - ECPv6.15.20//NONSGML v1.0//EN
CALSCALE:GREGORIAN
METHOD:PUBLISH
X-ORIGINAL-URL:https://jayceland.com/blog
X-WR-CALDESC:Events for JayceLand
REFRESH-INTERVAL;VALUE=DURATION:PT1H
X-Robots-Tag:noindex
X-PUBLISHED-TTL:PT1H
BEGIN:VTIMEZONE
TZID:America/New_York
BEGIN:DAYLIGHT
TZOFFSETFROM:-0500
TZOFFSETTO:-0400
TZNAME:EDT
DTSTART:20140309T070000
END:DAYLIGHT
BEGIN:STANDARD
TZOFFSETFROM:-0400
TZOFFSETTO:-0500
TZNAME:EST
DTSTART:20141102T060000
END:STANDARD
BEGIN:DAYLIGHT
TZOFFSETFROM:-0500
TZOFFSETTO:-0400
TZNAME:EDT
DTSTART:20150308T070000
END:DAYLIGHT
BEGIN:STANDARD
TZOFFSETFROM:-0400
TZOFFSETTO:-0500
TZNAME:EST
DTSTART:20151101T060000
END:STANDARD
BEGIN:DAYLIGHT
TZOFFSETFROM:-0500
TZOFFSETTO:-0400
TZNAME:EDT
DTSTART:20160313T070000
END:DAYLIGHT
BEGIN:STANDARD
TZOFFSETFROM:-0400
TZOFFSETTO:-0500
TZNAME:EST
DTSTART:20161106T060000
END:STANDARD
END:VTIMEZONE
BEGIN:VEVENT
DTSTART;TZID=America/New_York:20150826T190000
DTEND;TZID=America/New_York:20150826T204900
DTSTAMP:20260424T025024
CREATED:20150819T171235Z
LAST-MODIFIED:20150819T171235Z
UID:5352-1440615600-1440622140@jayceland.com
SUMMARY:Paper Towns screening (2015-Aug-26 @ 7 p.m.)
DESCRIPTION:The Cinema will screen Paper Towns (Jake Schreier\, U.S. 2015\, 109 min.) "A young man and his friends embark upon the road trip of their lives to find the missing girl next door." [source: Cinema coming soon page\, 2015-Aug-19]
URL:https://jayceland.com/blog/event/paper-towns-screening-2015-aug-26-7-p-m/
LOCATION:Cinema Theatre\, 957 S. Clinton Ave.\, Rochester\, New York\, 14620\, United States
CATEGORIES:JayceLand 2015-Aug-20
END:VEVENT
BEGIN:VEVENT
DTSTART;TZID=America/New_York:20150826T200000
DTEND;TZID=America/New_York:20150826T212100
DTSTAMP:20260424T025024
CREATED:20150819T171233Z
LAST-MODIFIED:20150819T171233Z
UID:5342-1440619200-1440624060@jayceland.com
SUMMARY:Umbrellas screening
DESCRIPTION:The Dryden will screen Umbrellas (Albert Maysles\, Henry Corra\, and Grahame Weinbren\, U.S. 1994\, 81 min.\, 16mm).  \nThis film takes a poignant\, in-depth look at the concept and realization of Christo and Jeanne-Claude's project The Umbrellas\, presenting the artists at their most triumphant and most vulnerable moments—from the exaltation of the project's opening day through unexpected tragedies at the end. The artists chose sites with contrasting cultures\, among people who were unsophisticated about art: a rice-farming valley in the Japanese province of lbaraki\, 72 miles north of Tokyo\, and a cluster of cattle ranches in the rolling hills of Southern California\, 60 miles north of Los Angeles. In October 1991\, as planned\, the 1\,340 blue umbrellas unfurled in the dense green foliage and rain-dripped autumn light of the Japanese valley. On the opposite side of the Pacific Ocean\, the 1\,760 yellow umbrellas burst open on dry\, golden-colored grass\, glimmering in brilliant California sunlight. \n [source: Dryden website\, 2015-Aug-17]
URL:https://jayceland.com/blog/event/umbrellas-screening/
LOCATION:Dryden Theatre at George Eastman House\, 900 East Ave.\, Rochester\, New York\, 14607\, United States
CATEGORIES:JayceLand 2015-Aug-20
END:VEVENT
BEGIN:VEVENT
DTSTART;TZID=America/New_York:20150826T205500
DTEND;TZID=America/New_York:20150826T224000
DTSTAMP:20260424T025024
CREATED:20150819T171236Z
LAST-MODIFIED:20150819T171236Z
UID:5359-1440622500-1440628800@jayceland.com
SUMMARY:Me & Earl & the Dying Girl screening (2015-Aug-26 @ 8:55 p.m.)
DESCRIPTION:The Cinema will screen the engaging coming-of-age film Me & Earl & the Dying Girl (Alfonso Gomez-Rejon\, U.S. 2015\, 105 min.) "High schooler Greg\, who spends most of his time making parodies of classic movies with his co-worker Earl\, finds his outlook forever altered after befriending a classmate who has just been diagnosed with cancer." [source: Cinema coming soon page\, 2015-Aug-19]
URL:https://jayceland.com/blog/event/me-earl-the-dying-girl-screening-2015-aug-26-855-p-m/
LOCATION:Cinema Theatre\, 957 S. Clinton Ave.\, Rochester\, New York\, 14620\, United States
CATEGORIES:JayceLand 2015-Aug-20
END:VEVENT
BEGIN:VEVENT
DTSTART;TZID=America/New_York:20150826T210000
DTEND;TZID=America/New_York:20150826T230000
DTSTAMP:20260424T025024
CREATED:20150819T171231Z
LAST-MODIFIED:20150819T171231Z
UID:5329-1440622800-1440630000@jayceland.com
SUMMARY:The Plums\, House Majority musical performances
DESCRIPTION:[source: Bug Jar calendar\, 2015-Aug-17]
URL:https://jayceland.com/blog/event/the-plums-house-majority-musical-performances/
LOCATION:Bug Jar\, 219 Monroe Ave\, Rochester\, New York\, 14607\, United States
CATEGORIES:JayceLand 2015-Aug-20
END:VEVENT
BEGIN:VEVENT
DTSTART;TZID=America/New_York:20150826T210000
DTEND;TZID=America/New_York:20150826T230000
DTSTAMP:20260424T025024
CREATED:20150819T171231Z
LAST-MODIFIED:20150819T171231Z
UID:5332-1440622800-1440630000@jayceland.com
SUMMARY:Barrence Whitfield and The Savages\, Todd Bradley\, Brian Williams musical performances
DESCRIPTION:When asked about the methods and the madness behind capturing the scorched earth soul of Under the Savage Sky\, guitarist Peter Greenberg explained that the band was eager for something "harder and garagier" than their previous record\, while still connecting with the energy and originality of the classics. Given that the previous release\, Dig Thy Savage Soul (their 2013 Bloodshot debut and first U.S. release in a couple decades)\, was a 12-round sonic knockout\, the R&B wallop ofunder the Savage Sky may very well stand for 'roundhouse and Beatdown.' \n [source: Bop Shop website\, 2015-Aug-17]
URL:https://jayceland.com/blog/event/barrence-whitfield-and-the-savages-todd-bradley-brian-williams-musical-performances/
LOCATION:Abilene Bar and Lounge\, 153 Liberty Pole Way\, Rochester\, New York\, 14604\, United States
CATEGORIES:JayceLand 2015-Aug-20
END:VEVENT
END:VCALENDAR