BEGIN:VCALENDAR
VERSION:2.0
PRODID:-//JayceLand - ECPv6.15.20//NONSGML v1.0//EN
CALSCALE:GREGORIAN
METHOD:PUBLISH
X-ORIGINAL-URL:https://jayceland.com/blog
X-WR-CALDESC:Events for JayceLand
REFRESH-INTERVAL;VALUE=DURATION:PT1H
X-Robots-Tag:noindex
X-PUBLISHED-TTL:PT1H
BEGIN:VTIMEZONE
TZID:America/New_York
BEGIN:DAYLIGHT
TZOFFSETFROM:-0500
TZOFFSETTO:-0400
TZNAME:EDT
DTSTART:20140309T070000
END:DAYLIGHT
BEGIN:STANDARD
TZOFFSETFROM:-0400
TZOFFSETTO:-0500
TZNAME:EST
DTSTART:20141102T060000
END:STANDARD
BEGIN:DAYLIGHT
TZOFFSETFROM:-0500
TZOFFSETTO:-0400
TZNAME:EDT
DTSTART:20150308T070000
END:DAYLIGHT
BEGIN:STANDARD
TZOFFSETFROM:-0400
TZOFFSETTO:-0500
TZNAME:EST
DTSTART:20151101T060000
END:STANDARD
BEGIN:DAYLIGHT
TZOFFSETFROM:-0500
TZOFFSETTO:-0400
TZNAME:EDT
DTSTART:20160313T070000
END:DAYLIGHT
BEGIN:STANDARD
TZOFFSETFROM:-0400
TZOFFSETTO:-0500
TZNAME:EST
DTSTART:20161106T060000
END:STANDARD
END:VTIMEZONE
BEGIN:VEVENT
DTSTART;TZID=America/New_York:20150817T133000
DTEND;TZID=America/New_York:20150817T144000
DTSTAMP:20260425T092720
CREATED:20150812T120251Z
LAST-MODIFIED:20150812T120251Z
UID:5296-1439818200-1439822400@jayceland.com
SUMMARY:The Son of Kong screening (2015-Aug-17 @ 1:30 p.m.)
DESCRIPTION:The Dryden will screen The Son of Kong (Ernest B. Schoedsack\, U.S. 1933\, 70 min.\, 35mm).  \nBogged down with lawsuits and money troubles following King Kong's charge through Manhattan\, conscience-heavy producer Carl Denham boards the Venture\, a ship captained by the enterprising Captain Englehorn. In Dakang they meet Nils Helstrom\, who spins a yarn about treasure on Skull Island to fool them into getting him out of Dakang. When they reach Skull Island they realize Kong wasn't the only member of his family . . . Quickly following on the success of King Kong\, The Son of Kong is a charming\, small-scale sequel\, featuring much of the crew of the first film\, including animator Willis O'Brien. \n [source: Dryden website\, 2015-Aug-3]
URL:https://jayceland.com/blog/event/the-son-of-kong-screening-2015-aug-17-130-p-m/
LOCATION:Dryden Theatre at George Eastman House\, 900 East Ave.\, Rochester\, New York\, 14607\, United States
CATEGORIES:JayceLand 2015-Aug-13
END:VEVENT
BEGIN:VEVENT
DTSTART;TZID=America/New_York:20150817T190000
DTEND;TZID=America/New_York:20150817T203000
DTSTAMP:20260425T092720
CREATED:20150805T110330Z
LAST-MODIFIED:20150805T110330Z
UID:5234-1439838000-1439843400@jayceland.com
SUMMARY:Finding Your Female Ancestors lecture
DESCRIPTION:Marian Henry will discuss Finding Your Female Ancestors in the Gates Town Hall Annex.  \nDifficulty in finding female ancestors has many causes. They are mentioned in fewer sources and the sources treat them differently. Census\, naturalization\, military records\, land records—give different information about women. Marian will share how to locate harder-to-find sources produced by women and suggestions for what is often the most difficult puzzle—finding a wife's maiden name. \n [source: City Newspaper events calendar\, 2015-Aug-3]
URL:https://jayceland.com/blog/event/finding-your-female-ancestors-lecture/
LOCATION:Gates Town Hall Annex\, 1605 Buffalo Rd.\, Gates\, New York\, 14624\, United States
CATEGORIES:JayceLand 2015-Aug-13
END:VEVENT
BEGIN:VEVENT
DTSTART;TZID=America/New_York:20150817T190000
DTEND;TZID=America/New_York:20150817T210800
DTSTAMP:20260425T092720
CREATED:20150812T120259Z
LAST-MODIFIED:20150812T120259Z
UID:5310-1439838000-1439845680@jayceland.com
SUMMARY:Amy screening (2015-Aug-17 @ 7 p.m.)
DESCRIPTION:The Cinema will screen the fascinating (if only to this uninformed viewer's eyes) documentary Amy (Asif Kapadia\, U.S. 2015\, 128 min.) "The story of Amy Winehouse in her own words\, featuring unseen archival footage and unheard tracks." [source: Cinema coming soon page\, 2015-Aug-12]
URL:https://jayceland.com/blog/event/amy-screening-2015-aug-17-7-p-m/
LOCATION:Cinema Theatre\, 957 S. Clinton Ave.\, Rochester\, New York\, 14620\, United States
CATEGORIES:JayceLand 2015-Aug-13
END:VEVENT
BEGIN:VEVENT
DTSTART;TZID=America/New_York:20150817T211500
DTEND;TZID=America/New_York:20150817T224500
DTSTAMP:20260425T092720
CREATED:20150812T120300Z
LAST-MODIFIED:20150827T143244Z
UID:5316-1439846100-1439851500@jayceland.com
SUMMARY:The Wolfpack screening (2015-Aug-17 @ 9:15 p.m.)
DESCRIPTION:The Cinema will screen the too-impossible-to-be-real documentary The Wolfpack (Crystal Moselle\, U.S. 2015\, 90 min.)  \nLocked away from society in an apartment on the Lower East Side of Manhattan\, the Angulo brothers learn about the outside world through the films that they watch. Nicknamed\, 'the Wolfpack\,' the brothers spend their childhood reenacting their favorite films using elaborate homemade props and costumes. Their world is shaken up when one of the brothers escapes and everything changes. \n [source: Cinema coming soon page\, 2015-Aug-12]
URL:https://jayceland.com/blog/event/the-wolfpack-screening-2015-aug-17-915-p-m/
LOCATION:Cinema Theatre\, 957 S. Clinton Ave.\, Rochester\, New York\, 14620\, United States
CATEGORIES:JayceLand 2015-Aug-13
END:VEVENT
END:VCALENDAR