BEGIN:VCALENDAR
VERSION:2.0
PRODID:-//JayceLand - ECPv6.15.20//NONSGML v1.0//EN
CALSCALE:GREGORIAN
METHOD:PUBLISH
X-ORIGINAL-URL:https://jayceland.com/blog
X-WR-CALDESC:Events for JayceLand
REFRESH-INTERVAL;VALUE=DURATION:PT1H
X-Robots-Tag:noindex
X-PUBLISHED-TTL:PT1H
BEGIN:VTIMEZONE
TZID:America/New_York
BEGIN:DAYLIGHT
TZOFFSETFROM:-0500
TZOFFSETTO:-0400
TZNAME:EDT
DTSTART:20140309T070000
END:DAYLIGHT
BEGIN:STANDARD
TZOFFSETFROM:-0400
TZOFFSETTO:-0500
TZNAME:EST
DTSTART:20141102T060000
END:STANDARD
BEGIN:DAYLIGHT
TZOFFSETFROM:-0500
TZOFFSETTO:-0400
TZNAME:EDT
DTSTART:20150308T070000
END:DAYLIGHT
BEGIN:STANDARD
TZOFFSETFROM:-0400
TZOFFSETTO:-0500
TZNAME:EST
DTSTART:20151101T060000
END:STANDARD
BEGIN:DAYLIGHT
TZOFFSETFROM:-0500
TZOFFSETTO:-0400
TZNAME:EDT
DTSTART:20160313T070000
END:DAYLIGHT
BEGIN:STANDARD
TZOFFSETFROM:-0400
TZOFFSETTO:-0500
TZNAME:EST
DTSTART:20161106T060000
END:STANDARD
END:VTIMEZONE
BEGIN:VEVENT
DTSTART;TZID=America/New_York:20150815T220000
DTEND;TZID=America/New_York:20150816T040000
DTSTAMP:20260423T050133
CREATED:20150812T120256Z
LAST-MODIFIED:20150812T120256Z
UID:5304-1439676000-1439697600@jayceland.com
SUMMARY:Signal > Noise v1.2 dance party
DESCRIPTION:Signal > Noise v1.2: the third update in Rochester's sequence of intimate gatherings featuring DJs and artists at the forefront of house and techno. \n [source: Facebook\, 2015-Aug-11]
URL:https://jayceland.com/blog/event/signal-noise-v1-2-dance-party/
LOCATION:45 Euclid\, 45 Euclid St.\, Rochester\, New York\, 14604\, United States
CATEGORIES:JayceLand 2015-Aug-13
END:VEVENT
BEGIN:VEVENT
DTSTART;TZID=America/New_York:20150816T090000
DTEND;TZID=America/New_York:20150816T170000
DTSTAMP:20260423T050133
CREATED:20150812T120253Z
LAST-MODIFIED:20150812T120253Z
UID:5302-1439715600-1439744400@jayceland.com
SUMMARY:Rochester Free Radio Garage Sale Part Deux (2015-Aug-16 @ 9 a.m.)
DESCRIPTION:In June we had an awesome Garage Sale. We ended up raising just over $500. But we ended up with a lot of stuff left over and more people wanted to donate items\, so we said\, "Hey\, let's get the band back together!" \n [source: Facebook\, 2015-Aug-11]
URL:https://jayceland.com/blog/event/rochester-free-radio-garage-sale-part-deux-2015-aug-16-9-a-m/
LOCATION:Kansas St.\, Rochester\, New York\, 14609\, United States
CATEGORIES:JayceLand 2015-Aug-13
END:VEVENT
BEGIN:VEVENT
DTSTART;TZID=America/New_York:20150816T120000
DTEND;TZID=America/New_York:20150816T170000
DTSTAMP:20260423T050133
CREATED:20150812T120251Z
LAST-MODIFIED:20150812T120251Z
UID:5299-1439726400-1439744400@jayceland.com
SUMMARY:Susan B. Anthony Festival
DESCRIPTION:[source: City Newspaper events calendar\, 2015-Aug-11]
URL:https://jayceland.com/blog/event/susan-b-anthony-festival/
LOCATION:Susan B. Anthony Museum and House\, 17 Madison St.\, Rochester\, New York\, 14608\, United States
CATEGORIES:JayceLand 2015-Aug-13
END:VEVENT
BEGIN:VEVENT
DTSTART;TZID=America/New_York:20150816T130000
DTEND;TZID=America/New_York:20150816T150000
DTSTAMP:20260423T050133
CREATED:20150812T120302Z
LAST-MODIFIED:20150812T120302Z
UID:5323-1439730000-1439737200@jayceland.com
SUMMARY:Open House (2015-Aug-16 @ 1 p.m.)
DESCRIPTION:A large collection of historical artifacts from the Lehigh Valley Railroad is on display at the museum. The gift shop will be open. \n [source: City Newspaper events calendar\, 2015-Aug-12]
URL:https://jayceland.com/blog/event/open-house-2015-aug-16-1-p-m/
LOCATION:Lehigh Valley Railroad Historical Society Station Museum\, 8 E. High St.\, Shortsville\, New York\, 14548\, United States
CATEGORIES:JayceLand 2015-Aug-13
END:VEVENT
BEGIN:VEVENT
DTSTART;TZID=America/New_York:20150816T140000
DTEND;TZID=America/New_York:20150816T160000
DTSTAMP:20260423T050133
CREATED:20150812T120249Z
LAST-MODIFIED:20150812T120249Z
UID:5288-1439733600-1439740800@jayceland.com
SUMMARY:Candida theatrical performance (2015-Aug-16 @ 2 p.m.)
DESCRIPTION:In "Candida"\, Shaw presents a minister's wife compelled to choose between her staid husband\, the Rev. James Morell\, and a mysterious young suitor\, Eugene Marchbanks. A scoundrel of a father-in-law\, a fawning intern and a conflicted secretary add to the comedy and Shaw takes ample opportunity for social commentary\, as always\, challenging Victorian standards\, especially those involving marriage. \n [source: MuCCC website\, 2015-Aug-11]
URL:https://jayceland.com/blog/event/candida-theatrical-performance-2015-aug-16-2-p-m/
LOCATION:MuCCC (Multi-use Community Cultural Center)\, 142 Atlantic Ave.\, Rochester\, New York\, 14607\, United States
CATEGORIES:JayceLand 2015-Aug-13
END:VEVENT
BEGIN:VEVENT
DTSTART;TZID=America/New_York:20150816T140000
DTEND;TZID=America/New_York:20150816T160000
DTSTAMP:20260423T050133
CREATED:20150812T120250Z
LAST-MODIFIED:20150812T120250Z
UID:5295-1439733600-1439740800@jayceland.com
SUMMARY:L'heure d'été (Summer Hours) screening
DESCRIPTION:The Dryden will screen L'heure d'été (Summer Hours\, Olivier Assayas\, France 2008\, 103 min.\, 35mm\, French w/ subtitles).  \nThe divergent paths of three fortysomething siblings collide when their mother\, heiress to her uncle's exceptional 19th-century art collection\, dies suddenly. Left to come to terms with themselves and their differences\, Adrienne (Juliette Binoche)\, a successful New York designer; Frédéric\, an economist and university professor in Paris; and Jérémie\, a dynamic businessman in China\, confront the end of childhood\, and their shared memories\, background\, and unique vision of the future. Incisively written\, Olivier Assayas's film moves effortlessly through its narrative with all the grace of Renoir at the height of his powers. \n [source: Dryden website\, 2015-Aug-11]
URL:https://jayceland.com/blog/event/lheure-dete-summer-hours-screening/
LOCATION:Dryden Theatre at George Eastman House\, 900 East Ave.\, Rochester\, New York\, 14607\, United States
CATEGORIES:JayceLand 2015-Aug-13
END:VEVENT
BEGIN:VEVENT
DTSTART;TZID=America/New_York:20150816T150000
DTEND;TZID=America/New_York:20150816T162700
DTSTAMP:20260423T050133
CREATED:20150812T120257Z
LAST-MODIFIED:20150812T120257Z
UID:5305-1439737200-1439742420@jayceland.com
SUMMARY:PAY 2 PLAY: Democracy's High Stakes screening
DESCRIPTION:The Little will screen PAY 2 PLAY: Democracy's High Stakes (John Ennis\, U.S. 2014\, 87 min.)  \nPay 2 Play follows filmmaker John Ennis' quest to find a way out from under the Pay 2 Play System\, where Politicians reward their donors with even larger sums from the public treasury — through contracts\, tax cuts\, and deregulation. Along the way\, he journeys through high drama on the Ohio campaign trail\, uncovers the secret history of the game Monopoly\, and explores the underworld of L.A. street art on a humorous odyssey that reveals how much of a difference one person can make. Pay 2 Play: Democracy's High Stakes is the layman's guidebook to taking back our democracy. \n [source: Metro Justice film series\, 2015-Aug-11]
URL:https://jayceland.com/blog/event/pay-2-play-democracys-high-stakes-screening/
LOCATION:Little Theatre\, 240 East Ave. #100\, Rochester\, New York\, 14604\, United States
CATEGORIES:JayceLand 2015-Aug-13
END:VEVENT
BEGIN:VEVENT
DTSTART;TZID=America/New_York:20150816T160000
DTEND;TZID=America/New_York:20150816T180000
DTSTAMP:20260423T050133
CREATED:20150812T120248Z
LAST-MODIFIED:20150812T120248Z
UID:5284-1439740800-1439748000@jayceland.com
SUMMARY:Gateways 2015—Final Orchestra Concert
DESCRIPTION:[source: Eastman School of Music calendar\, 2015-Aug-11]
URL:https://jayceland.com/blog/event/gateways-2015-final-orchestra-concert/
LOCATION:Kodak Hall at Eastman Theatre\, 60 Gibbs St.\, Rochester\, New York\, 14604\, United States
CATEGORIES:JayceLand 2015-Aug-13
END:VEVENT
BEGIN:VEVENT
DTSTART;TZID=America/New_York:20150816T190000
DTEND;TZID=America/New_York:20150816T210800
DTSTAMP:20260423T050133
CREATED:20150812T120258Z
LAST-MODIFIED:20150812T120258Z
UID:5309-1439751600-1439759280@jayceland.com
SUMMARY:Amy screening (2015-Aug-16 @ 7 p.m.)
DESCRIPTION:The Cinema will screen the fascinating (if only to this uninformed viewer's eyes) documentary Amy (Asif Kapadia\, U.S. 2015\, 128 min.) "The story of Amy Winehouse in her own words\, featuring unseen archival footage and unheard tracks." [source: Cinema coming soon page\, 2015-Aug-12]
URL:https://jayceland.com/blog/event/amy-screening-2015-aug-16-7-p-m/
LOCATION:Cinema Theatre\, 957 S. Clinton Ave.\, Rochester\, New York\, 14620\, United States
CATEGORIES:JayceLand 2015-Aug-13
END:VEVENT
BEGIN:VEVENT
DTSTART;TZID=America/New_York:20150816T211500
DTEND;TZID=America/New_York:20150816T224500
DTSTAMP:20260423T050133
CREATED:20150812T120300Z
LAST-MODIFIED:20150827T143244Z
UID:5315-1439759700-1439765100@jayceland.com
SUMMARY:The Wolfpack screening (2015-Aug-16 @ 9:15 p.m.)
DESCRIPTION:The Cinema will screen the too-impossible-to-be-real documentary The Wolfpack (Crystal Moselle\, U.S. 2015\, 90 min.)  \nLocked away from society in an apartment on the Lower East Side of Manhattan\, the Angulo brothers learn about the outside world through the films that they watch. Nicknamed\, 'the Wolfpack\,' the brothers spend their childhood reenacting their favorite films using elaborate homemade props and costumes. Their world is shaken up when one of the brothers escapes and everything changes. \n [source: Cinema coming soon page\, 2015-Aug-12]
URL:https://jayceland.com/blog/event/the-wolfpack-screening-2015-aug-16-915-p-m/
LOCATION:Cinema Theatre\, 957 S. Clinton Ave.\, Rochester\, New York\, 14620\, United States
CATEGORIES:JayceLand 2015-Aug-13
END:VEVENT
END:VCALENDAR