BEGIN:VCALENDAR
VERSION:2.0
PRODID:-//JayceLand - ECPv6.15.20//NONSGML v1.0//EN
CALSCALE:GREGORIAN
METHOD:PUBLISH
X-ORIGINAL-URL:https://jayceland.com/blog
X-WR-CALDESC:Events for JayceLand
REFRESH-INTERVAL;VALUE=DURATION:PT1H
X-Robots-Tag:noindex
X-PUBLISHED-TTL:PT1H
BEGIN:VTIMEZONE
TZID:America/New_York
BEGIN:DAYLIGHT
TZOFFSETFROM:-0500
TZOFFSETTO:-0400
TZNAME:EDT
DTSTART:20140309T070000
END:DAYLIGHT
BEGIN:STANDARD
TZOFFSETFROM:-0400
TZOFFSETTO:-0500
TZNAME:EST
DTSTART:20141102T060000
END:STANDARD
BEGIN:DAYLIGHT
TZOFFSETFROM:-0500
TZOFFSETTO:-0400
TZNAME:EDT
DTSTART:20150308T070000
END:DAYLIGHT
BEGIN:STANDARD
TZOFFSETFROM:-0400
TZOFFSETTO:-0500
TZNAME:EST
DTSTART:20151101T060000
END:STANDARD
BEGIN:DAYLIGHT
TZOFFSETFROM:-0500
TZOFFSETTO:-0400
TZNAME:EDT
DTSTART:20160313T070000
END:DAYLIGHT
BEGIN:STANDARD
TZOFFSETFROM:-0400
TZOFFSETTO:-0500
TZNAME:EST
DTSTART:20161106T060000
END:STANDARD
END:VTIMEZONE
BEGIN:VEVENT
DTSTART;TZID=America/New_York:20150810T133000
DTEND;TZID=America/New_York:20150810T144700
DTSTAMP:20260424T034547
CREATED:20150805T110330Z
LAST-MODIFIED:20150805T110330Z
UID:5230-1439213400-1439218020@jayceland.com
SUMMARY:Mystery of the Wax Museum screening (2015-Aug-10 @ 1:30 p.m.)
DESCRIPTION:The Dryden will screen Mystery of the Wax Museum (Michael Curtiz\, U.S. 1933\, 77 min.\, 35mm).  \nAn unorthodox mix of coffins\, comedy\, and makeup that may just be the last word in gruesomeness\, this gorgeous early two-strip Technicolor treatise in hyper-weirdness concerns an insane wax modeler bent on murder and mayhem. The creepy cast features Lionel Atwill\, Fay Wray\, and Glenda Farrell as the wisecracking sob sister. \n [source: Dryden website\, 2015-Jul-27]
URL:https://jayceland.com/blog/event/mystery-of-the-wax-museum-screening-2015-aug-10-130-p-m/
LOCATION:Dryden Theatre at George Eastman House\, 900 East Ave.\, Rochester\, New York\, 14607\, United States
CATEGORIES:JayceLand 2015-Aug-6
END:VEVENT
BEGIN:VEVENT
DTSTART;TZID=America/New_York:20150810T183000
DTEND;TZID=America/New_York:20150810T200000
DTSTAMP:20260424T034547
CREATED:20150805T110326Z
LAST-MODIFIED:20150805T110326Z
UID:5216-1439231400-1439236800@jayceland.com
SUMMARY:God's Slave screening
DESCRIPTION:The Pittsford Community Library will screen God's Slave (Joel Novoa\, Venezuela 2013\, 90 min.) as part of the Film Movement Series: Independent and Foreign Films.  \nThe film features an Islamic suicide bomber and the Israeli special agent determined to stop him. Based on the actual events of the 1994 bombing in Buenos Aires. \n [source: Monroe County Library website\, 2015-Aug-3]
URL:https://jayceland.com/blog/event/gods-slave-screening/
LOCATION:Pittsford Community Library\, 24 State St.\, Pittsford\, New York\, 14534\, United States
CATEGORIES:JayceLand 2015-Aug-6
END:VEVENT
BEGIN:VEVENT
DTSTART;TZID=America/New_York:20150810T190000
DTEND;TZID=America/New_York:20150810T210000
DTSTAMP:20260424T034547
CREATED:20150805T121452Z
LAST-MODIFIED:20150805T121452Z
UID:5251-1439233200-1439240400@jayceland.com
SUMMARY:Spy screening (2015-Aug-10 @ 7 p.m.)
DESCRIPTION:The Cinema will screen Spy (Paul Feig\, U.S. 2015\, 120 min.) "A desk-bound CIA analyst volunteers to go undercover to infiltrate the world of a deadly arms dealer\, and prevent diabolical global disaster." [source: Cinema coming soon page\, 2015-Aug-5]
URL:https://jayceland.com/blog/event/spy-screening-2015-aug-10-7-p-m/
LOCATION:Cinema Theatre\, 957 S. Clinton Ave.\, Rochester\, New York\, 14620\, United States
CATEGORIES:JayceLand 2015-Aug-6
END:VEVENT
BEGIN:VEVENT
DTSTART;TZID=America/New_York:20150810T210500
DTEND;TZID=America/New_York:20150810T231100
DTSTAMP:20260424T034547
CREATED:20150805T121453Z
LAST-MODIFIED:20150805T121453Z
UID:5258-1439240700-1439248260@jayceland.com
SUMMARY:Terminator Genisys screening (2015-Aug-10 @ 9:05 p.m.)
DESCRIPTION:The Cinema will screen Terminator Genisys (Alan Taylor\, U.S. 2015\, 126 min.) "John Connor sends Kyle Reese back in time to protect Sarah Connor\, but when he arrives in 1984\, nothing is as he expected it to be." [source: Cinema coming soon page\, 2015-Aug-5]
URL:https://jayceland.com/blog/event/terminator-genisys-screening-2015-aug-10-905-p-m/
LOCATION:Cinema Theatre\, 957 S. Clinton Ave.\, Rochester\, New York\, 14620\, United States
CATEGORIES:JayceLand 2015-Aug-6
END:VEVENT
BEGIN:VEVENT
DTSTART;TZID=America/New_York:20150810T211500
DTEND;TZID=America/New_York:20150810T231500
DTSTAMP:20260424T034547
CREATED:20150805T110324Z
LAST-MODIFIED:20150805T110324Z
UID:5202-1439241300-1439248500@jayceland.com
SUMMARY:Survay Says!\, Firestarter\, Sexy Teenagers\, Second Chances musical performances
DESCRIPTION:[source: Bug Jar calendar\, 2015-Aug-3]
URL:https://jayceland.com/blog/event/survay-says-firestarter-sexy-teenagers-second-chances-musical-performances/
LOCATION:Bug Jar\, 219 Monroe Ave\, Rochester\, New York\, 14607\, United States
CATEGORIES:JayceLand 2015-Aug-6
END:VEVENT
END:VCALENDAR