BEGIN:VCALENDAR
VERSION:2.0
PRODID:-//JayceLand - ECPv6.15.20//NONSGML v1.0//EN
CALSCALE:GREGORIAN
METHOD:PUBLISH
X-ORIGINAL-URL:https://jayceland.com/blog
X-WR-CALDESC:Events for JayceLand
REFRESH-INTERVAL;VALUE=DURATION:PT1H
X-Robots-Tag:noindex
X-PUBLISHED-TTL:PT1H
BEGIN:VTIMEZONE
TZID:America/New_York
BEGIN:DAYLIGHT
TZOFFSETFROM:-0500
TZOFFSETTO:-0400
TZNAME:EDT
DTSTART:20140309T070000
END:DAYLIGHT
BEGIN:STANDARD
TZOFFSETFROM:-0400
TZOFFSETTO:-0500
TZNAME:EST
DTSTART:20141102T060000
END:STANDARD
BEGIN:DAYLIGHT
TZOFFSETFROM:-0500
TZOFFSETTO:-0400
TZNAME:EDT
DTSTART:20150308T070000
END:DAYLIGHT
BEGIN:STANDARD
TZOFFSETFROM:-0400
TZOFFSETTO:-0500
TZNAME:EST
DTSTART:20151101T060000
END:STANDARD
BEGIN:DAYLIGHT
TZOFFSETFROM:-0500
TZOFFSETTO:-0400
TZNAME:EDT
DTSTART:20160313T070000
END:DAYLIGHT
BEGIN:STANDARD
TZOFFSETFROM:-0400
TZOFFSETTO:-0500
TZNAME:EST
DTSTART:20161106T060000
END:STANDARD
END:VTIMEZONE
BEGIN:VEVENT
DTSTART;TZID=America/New_York:20150805T173000
DTEND;TZID=America/New_York:20150805T193000
DTSTAMP:20260424T034607
CREATED:20150729T210933Z
LAST-MODIFIED:20150729T210933Z
UID:5181-1438795800-1438803000@jayceland.com
SUMMARY:Rochester Teen Film Festival screening
DESCRIPTION:The film fest gives young people an authentic opportunity to participate in a real film festival. Submissions were accepted through the end of June and were judged by a jury of professionals in the film industry. Finalists have been selected to have their films shown at the festival.  \n [source: Little Theatre e-mail\, 2015-Jul-29]
URL:https://jayceland.com/blog/event/rochester-teen-film-festival-screening/
LOCATION:Little Theatre\, 240 East Ave. #100\, Rochester\, New York\, 14604\, United States
CATEGORIES:JayceLand 2015-Jul-30
END:VEVENT
BEGIN:VEVENT
DTSTART;TZID=America/New_York:20150805T180000
DTEND;TZID=America/New_York:20150805T210000
DTSTAMP:20260424T034607
CREATED:20150805T121454Z
LAST-MODIFIED:20150805T121454Z
UID:5262-1438797600-1438808400@jayceland.com
SUMMARY:Elmwood/Collegetown Cycle Track public meeting
DESCRIPTION:The meeting will be an "Open House" forum with presentation boards\, visual displays and pamphlets explaining the various elements of the design and construction phases. The design team will be on hand to help explain the proposed project\, answer your questions and record your thoughts.  The Project includes the following: \n\nInstallation of a dedicated bicycle facility between Wilson Blvd. and Mt. Hope Ave\n0.75 miles of improved pedestrian and bicyclists accommodations\nTwo decorative retaining walls and various landscape improvements\nNew signage and pavement markings\, including crosswalks\nRelocation of multiple utility poles\nInnovative bike-friendly features\, new to the Rochester area\n\n\n [source: City of Rochester website\, 2015-Aug-5]
URL:https://jayceland.com/blog/event/elmwoodcollegetown-cycle-track-public-meeting/
LOCATION:Genesee Waterways Center\, 149 Elmwood Ave.\, Rochester\, New York\, 14620\, United States
CATEGORIES:JayceLand 2015-Jul-30
END:VEVENT
BEGIN:VEVENT
DTSTART;TZID=America/New_York:20150805T190000
DTEND;TZID=America/New_York:20150805T220000
DTSTAMP:20260424T034607
CREATED:20150729T210924Z
LAST-MODIFIED:20150729T210924Z
UID:5159-1438801200-1438812000@jayceland.com
SUMMARY:Where The #&@% a.m. I?â„¢ Kickoff Party
DESCRIPTION:At Cure is the Where The #&@% a.m. I?â„¢ Kickoff Party.  \nWhere The #&@% a.m. I?â„¢ is a network of historic bars\, pubs\, and local watering holes. The buildings that they inhabit have lived many lives and have many untold stories to tell. Where The #&@% a.m. I?â„¢ connects you\, the patron\, to these places and to a sampling of their stories. It's not a history lesson; it's a random amalgamation of titillating tidbits; a series of snippets; a window onto the power of change. \n [source: Landmark Society website\, 2015-Jul-27]
URL:https://jayceland.com/blog/event/where-the-a-m-i-kickoff-party/
LOCATION:Cure\, 50 Public Market\, Rochester\, New York\, 14609\, United States
CATEGORIES:JayceLand 2015-Jul-30
END:VEVENT
BEGIN:VEVENT
DTSTART;TZID=America/New_York:20150805T200000
DTEND;TZID=America/New_York:20150805T200000
DTSTAMP:20260424T034607
CREATED:20150729T210924Z
LAST-MODIFIED:20150803T105201Z
UID:5158-1438804800-1438804800@jayceland.com
SUMMARY:Mikaela Davis\, Auld Lang Syne musical performances
DESCRIPTION:Mikaela Davis\, and fantastic\, heavy\, electric\, lounge-folk from Auld Lang Syne perform at Bernunzio's. (Bernunzio's website had originally listed Joanna Warren\, but the Facebook disagrees … hmm …) [source: Facebook\, 2015-Aug-3]
URL:https://jayceland.com/blog/event/mikaela-davis-joanna-warren-musical-performances/
LOCATION:Bernunzio Uptown Music\, 122 East Ave.\, Rochester\, New York\, 14604\, United States
CATEGORIES:JayceLand 2015-Jul-30
END:VEVENT
BEGIN:VEVENT
DTSTART;TZID=America/New_York:20150805T200000
DTEND;TZID=America/New_York:20150805T212600
DTSTAMP:20260424T034607
CREATED:20150729T210926Z
LAST-MODIFIED:20150729T210926Z
UID:5170-1438804800-1438809960@jayceland.com
SUMMARY:Christo's Valley Curtain screening\, Running Fence screening
DESCRIPTION:The Dryden will screen Christo's Valley Curtain (Albert Maysles\, David Maysles\, and Ellen Giffard\, U.S. 1974\, 28 min.\, 35mm)\, and Running Fence (Albert Maysles\, David Maysles\, and Charlotte Zwerin\, U.S. 1977\, 58 min.\, 16mm).  \nNominated for an Academy Award for Best Documentary—short Subject\, Valley Curtain celebrates Christo's dramatic hanging of a huge orange curtain between two Colorado mountains. Since the late 1950s\, the Bulgarian-born artist's large-scale temporary works of art have helped change our perception of art and society.  Running Fence depicts the long struggle by artists Christo and Jeanne-Claude to build a 24-mile fence of white fabric over the hills of California disappearing into the Pacific. Cost: $3 million. The idea at first must seem the limit of absurdity\, for the fence was taken down as planned at the end of two weeks and now exists solely on film. \n [source: Dryden website\, 2015-Jul-27]
URL:https://jayceland.com/blog/event/christos-valley-curtain-screening-running-fence-screening/
LOCATION:Dryden Theatre at George Eastman House\, 900 East Ave.\, Rochester\, New York\, 14607\, United States
CATEGORIES:JayceLand 2015-Jul-30
END:VEVENT
BEGIN:VEVENT
DTSTART;TZID=America/New_York:20150805T210000
DTEND;TZID=America/New_York:20150805T230000
DTSTAMP:20260424T034607
CREATED:20150729T210923Z
LAST-MODIFIED:20150729T210923Z
UID:5153-1438808400-1438815600@jayceland.com
SUMMARY:Subtle Words musical performance
DESCRIPTION:[source: Bug Jar calendar\, 2015-Jul-27]
URL:https://jayceland.com/blog/event/subtle-words-musical-performance/
LOCATION:Bug Jar\, 219 Monroe Ave\, Rochester\, New York\, 14607\, United States
CATEGORIES:JayceLand 2015-Jul-30
END:VEVENT
END:VCALENDAR