BEGIN:VCALENDAR
VERSION:2.0
PRODID:-//JayceLand - ECPv6.15.20//NONSGML v1.0//EN
CALSCALE:GREGORIAN
METHOD:PUBLISH
X-WR-CALNAME:JayceLand
X-ORIGINAL-URL:https://jayceland.com/blog
X-WR-CALDESC:Events for JayceLand
REFRESH-INTERVAL;VALUE=DURATION:PT1H
X-Robots-Tag:noindex
X-PUBLISHED-TTL:PT1H
BEGIN:VTIMEZONE
TZID:America/New_York
BEGIN:DAYLIGHT
TZOFFSETFROM:-0500
TZOFFSETTO:-0400
TZNAME:EDT
DTSTART:20140309T070000
END:DAYLIGHT
BEGIN:STANDARD
TZOFFSETFROM:-0400
TZOFFSETTO:-0500
TZNAME:EST
DTSTART:20141102T060000
END:STANDARD
BEGIN:DAYLIGHT
TZOFFSETFROM:-0500
TZOFFSETTO:-0400
TZNAME:EDT
DTSTART:20150308T070000
END:DAYLIGHT
BEGIN:STANDARD
TZOFFSETFROM:-0400
TZOFFSETTO:-0500
TZNAME:EST
DTSTART:20151101T060000
END:STANDARD
BEGIN:DAYLIGHT
TZOFFSETFROM:-0500
TZOFFSETTO:-0400
TZNAME:EDT
DTSTART:20160313T070000
END:DAYLIGHT
BEGIN:STANDARD
TZOFFSETFROM:-0400
TZOFFSETTO:-0500
TZNAME:EST
DTSTART:20161106T060000
END:STANDARD
END:VTIMEZONE
BEGIN:VEVENT
DTSTART;TZID=America/New_York:20150804T190000
DTEND;TZID=America/New_York:20150804T210000
DTSTAMP:20260422T215102
CREATED:20150729T210923Z
LAST-MODIFIED:20150902T112437Z
UID:5154-1438714800-1438722000@jayceland.com
SUMMARY:"Fire the Cops" Reading Group Introductory Meeting
DESCRIPTION:The Flying Squirrel is hosting the Introductory Meeting for a Reading Group on Fire the cops! : essays\, lectures\, and journalism by Kristian Williams.  \nKristian Williams' analysis and history of police and policing in Amerikkka in his two books\, Our Enemies in Blue\, and Fire the Cops\, ought to be required reading for anyone seriously examining the role of police in society\, holding police accountable\, or creating civilian-driven community strategies to combat the rampant police abuse\, misconduct\, and murder\, that fly across Facebook feeds every day. \n [source: Rochester Indymedia website\, 2015-Jul-27]
URL:https://jayceland.com/blog/event/fire-the-cops-reading-group-introductory-meeting/
LOCATION:Flying Squirrel Community Space\, 285 Clarissa St.\, Rochester\, New York\, 14608\, United States
CATEGORIES:JayceLand 2015-Jul-30
END:VEVENT
BEGIN:VEVENT
DTSTART;TZID=America/New_York:20150804T200000
DTEND;TZID=America/New_York:20150804T211700
DTSTAMP:20260422T215102
CREATED:20150729T210926Z
LAST-MODIFIED:20150729T210926Z
UID:5169-1438718400-1438723020@jayceland.com
SUMMARY:Mystery of the Wax Museum screening
DESCRIPTION:The Dryden will screen Mystery of the Wax Museum (Michael Curtiz\, U.S. 1933\, 77 min.\, 35mm).  \nAn unorthodox mix of coffins\, comedy\, and makeup that may just be the last word in gruesomeness\, this gorgeous early two-strip Technicolor treatise in hyper-weirdness concerns an insane wax modeler bent on murder and mayhem. The creepy cast features Lionel Atwill\, Fay Wray\, and Glenda Farrell as the wisecracking sob sister. \n [source: Dryden website\, 2015-Jul-27]
URL:https://jayceland.com/blog/event/mystery-of-the-wax-museum-screening/
LOCATION:Dryden Theatre at George Eastman House\, 900 East Ave.\, Rochester\, New York\, 14607\, United States
CATEGORIES:JayceLand 2015-Jul-30
END:VEVENT
END:VCALENDAR