BEGIN:VCALENDAR
VERSION:2.0
PRODID:-//JayceLand - ECPv6.15.20//NONSGML v1.0//EN
CALSCALE:GREGORIAN
METHOD:PUBLISH
X-ORIGINAL-URL:https://jayceland.com/blog
X-WR-CALDESC:Events for JayceLand
REFRESH-INTERVAL;VALUE=DURATION:PT1H
X-Robots-Tag:noindex
X-PUBLISHED-TTL:PT1H
BEGIN:VTIMEZONE
TZID:America/New_York
BEGIN:DAYLIGHT
TZOFFSETFROM:-0500
TZOFFSETTO:-0400
TZNAME:EDT
DTSTART:20140309T070000
END:DAYLIGHT
BEGIN:STANDARD
TZOFFSETFROM:-0400
TZOFFSETTO:-0500
TZNAME:EST
DTSTART:20141102T060000
END:STANDARD
BEGIN:DAYLIGHT
TZOFFSETFROM:-0500
TZOFFSETTO:-0400
TZNAME:EDT
DTSTART:20150308T070000
END:DAYLIGHT
BEGIN:STANDARD
TZOFFSETFROM:-0400
TZOFFSETTO:-0500
TZNAME:EST
DTSTART:20151101T060000
END:STANDARD
BEGIN:DAYLIGHT
TZOFFSETFROM:-0500
TZOFFSETTO:-0400
TZNAME:EDT
DTSTART:20160313T070000
END:DAYLIGHT
BEGIN:STANDARD
TZOFFSETFROM:-0400
TZOFFSETTO:-0500
TZNAME:EST
DTSTART:20161106T060000
END:STANDARD
END:VTIMEZONE
BEGIN:VEVENT
DTSTART;TZID=America/New_York:20150731T193000
DTEND;TZID=America/New_York:20150731T213000
DTSTAMP:20260423T062447
CREATED:20150729T210925Z
LAST-MODIFIED:20150729T210925Z
UID:5163-1438371000-1438378200@jayceland.com
SUMMARY:The Last Five Years theatrical performance (2015-Jul-31 @ 7:30 p.m.)
DESCRIPTION:Winner of the 2002 Drama Desk award for Outstanding Music and Lyrics\, The Last Five Years was written by Tony Award-winner and former Eastman School of Music student\, Jason Robert Brown. It follows New York City couple\, Cathy and Jamie\, who fall in and out of love over the course of their five-year relationship. The show's unconventional structure consists of Jamie's story — told chronologically — and Cathy's story — told backwards — which come together only once in the middle. This emotionally powerful and intimate stage musical\, which was recently made into a feature film starring Pitch Perfect's Anna Kendrick and Smash's Jeremy Jordan\, ingeniously chronicles the rise and fall of a modern marriage. \n [source: MuCCC website\, 2015-Jul-27]
URL:https://jayceland.com/blog/event/the-last-five-years-theatrical-performance-2015-jul-31-730-p-m/
LOCATION:MuCCC (Multi-use Community Cultural Center)\, 142 Atlantic Ave.\, Rochester\, New York\, 14607\, United States
CATEGORIES:JayceLand 2015-Jul-30
END:VEVENT
BEGIN:VEVENT
DTSTART;TZID=America/New_York:20150731T200000
DTEND;TZID=America/New_York:20150731T220000
DTSTAMP:20260423T062447
CREATED:20150729T210926Z
LAST-MODIFIED:20150729T210926Z
UID:5171-1438372800-1438380000@jayceland.com
SUMMARY:Big Black Friday with Uncle Trent
DESCRIPTION:At Brue Coffee Co. (formerly Boulder Coffee in the 19th Ward) is the comedy show Big Black Friday with Uncle Trent featuring Ralph Tetta\, and music by Anthony-Dounte. [source: City Newspaper events calendar\, 2015-Jul-27]
URL:https://jayceland.com/blog/event/big-black-friday-with-uncle-trent/
LOCATION:Brue Coffee Co.\, 960 Genesee St.\, Rochester\, New York\, 14611\, United States
CATEGORIES:JayceLand 2015-Jul-30
END:VEVENT
BEGIN:VEVENT
DTSTART;TZID=America/New_York:20150731T200000
DTEND;TZID=America/New_York:20150731T230000
DTSTAMP:20260423T062447
CREATED:20150729T210923Z
LAST-MODIFIED:20150729T210923Z
UID:5156-1438372800-1438383600@jayceland.com
SUMMARY:Sirsy\, Better By Morning musical performances
DESCRIPTION:Very good medium-tempo progressive rock from Sirsy\, and Better By Morning perform at the Lovin' Cup. [source: Lovin' Cup website\, 2015-Jul-27]
URL:https://jayceland.com/blog/event/sirsy-better-by-morning-musical-performances/
LOCATION:Lovin' Cup\, 300 Park Point Dr.\, Rochester\, New York\, 14623\, United States
CATEGORIES:JayceLand 2015-Jul-30
END:VEVENT
BEGIN:VEVENT
DTSTART;TZID=America/New_York:20150731T200000
DTEND;TZID=America/New_York:20150731T232000
DTSTAMP:20260423T062447
CREATED:20150729T210925Z
LAST-MODIFIED:20150729T210925Z
UID:5167-1438372800-1438384800@jayceland.com
SUMMARY:P'tit Quinquin (Li'l Quinquin) screening
DESCRIPTION:The Dryden will screen P'tit Quinquin (Li'l Quinquin\, Bruno Dumont\, France 2014\, 200 min.\, DCP\, French w/ subtitles).  \nBruno Dumont's films are no stranger to George Eastman House\, as the Dryden Theatre has previously hosted such austere ruminations on mortality and spirituality as Flanders (Grand Prix\, Cannes Film Festival)\, Hadewijch\, and Camille Claudel 1915. These films—plus works such as The Life of Jesus and Twentynine Palms—cemented Dumont's status as a true enfant terrible of French cinema\, a radical talent whose uncompromising vision has attracted admirers and naysayers of equal ferocity. But now the 57-year-old writer-director has delivered what may prove his masterwork\, a film which nearly all commentators have hailed with unalloyed praise. Dumont deftly executes a stunning left-field turn into darkly hilarious comedy with his made-for-TV epic—a surprise ratings hit in its native land—which borrows equally from David Lynch's Twin Peaks and Jacques Tati's Monsieur Hulot. When a bumbling police-detective (an astonishing physical performance by Bernard Pruvost) arrives in a small seaside town to investigate a bizarre murder\, he rubs up against a band of urchins led by the irrepressible\, eponymous Quinquin (Cagney-esque newcomer Alane Delhaye) the starting point for an audacious and unpredictable journey into the more bizarre corners of French society and the human psyche. \n [source: Dryden website\, 2015-Jul-27]
URL:https://jayceland.com/blog/event/ptit-quinquin-lil-quinquin-screening/
LOCATION:Dryden Theatre at George Eastman House\, 900 East Ave.\, Rochester\, New York\, 14607\, United States
CATEGORIES:JayceLand 2015-Jul-30
END:VEVENT
BEGIN:VEVENT
DTSTART;TZID=America/New_York:20150731T220000
DTEND;TZID=America/New_York:20150731T235400
DTSTAMP:20260423T062447
CREATED:20150729T210922Z
LAST-MODIFIED:20150729T210922Z
UID:5148-1438380000-1438386840@jayceland.com
SUMMARY:The Goonies screening
DESCRIPTION:The Little will screen The Goonies (Richard Donner\, U.S. 1985\, 114 min.) as part of the Mondo Movie Series.  \nMikey Walsh and Brandon Walsh are brothers whose family is preparing to move because developers want to build a golf course in the place of their neighborhood — unless enough money is raised to stop the construction of the golf course\, and that's quite doubtful. But when Mikey stumbles upon a treasure map of the famed "One-Eyed" Willy's hidden fortune\, Mikey\, Brandon\, and their friends Lawrence "Chunk" Cohen\, Clark "Mouth" Devereaux\, Andrea "Andy" Carmichael\, Stefanie "Stef" Steinbrenner\, and Richard "Data" Wang\, calling themselves The Goonies\, set out on a quest to find the treasure in hopes of saving their neighborhood. [spoilers omitted] \n [source: Little Theatre website\, 2015-Jul-27]
URL:https://jayceland.com/blog/event/the-goonies-screening/
LOCATION:Little Theatre\, 240 East Ave. #100\, Rochester\, New York\, 14604\, United States
CATEGORIES:JayceLand 2015-Jul-30
END:VEVENT
END:VCALENDAR