BEGIN:VCALENDAR
VERSION:2.0
PRODID:-//JayceLand - ECPv6.15.20//NONSGML v1.0//EN
CALSCALE:GREGORIAN
METHOD:PUBLISH
X-WR-CALNAME:JayceLand
X-ORIGINAL-URL:https://jayceland.com/blog
X-WR-CALDESC:Events for JayceLand
REFRESH-INTERVAL;VALUE=DURATION:PT1H
X-Robots-Tag:noindex
X-PUBLISHED-TTL:PT1H
BEGIN:VTIMEZONE
TZID:America/New_York
BEGIN:DAYLIGHT
TZOFFSETFROM:-0500
TZOFFSETTO:-0400
TZNAME:EDT
DTSTART:20140309T070000
END:DAYLIGHT
BEGIN:STANDARD
TZOFFSETFROM:-0400
TZOFFSETTO:-0500
TZNAME:EST
DTSTART:20141102T060000
END:STANDARD
BEGIN:DAYLIGHT
TZOFFSETFROM:-0500
TZOFFSETTO:-0400
TZNAME:EDT
DTSTART:20150308T070000
END:DAYLIGHT
BEGIN:STANDARD
TZOFFSETFROM:-0400
TZOFFSETTO:-0500
TZNAME:EST
DTSTART:20151101T060000
END:STANDARD
BEGIN:DAYLIGHT
TZOFFSETFROM:-0500
TZOFFSETTO:-0400
TZNAME:EDT
DTSTART:20160313T070000
END:DAYLIGHT
BEGIN:STANDARD
TZOFFSETFROM:-0400
TZOFFSETTO:-0500
TZNAME:EST
DTSTART:20161106T060000
END:STANDARD
END:VTIMEZONE
BEGIN:VEVENT
DTSTART;TZID=America/New_York:20150715T140000
DTEND;TZID=America/New_York:20150715T150000
DTSTAMP:20260422T155210
CREATED:20150630T153940Z
LAST-MODIFIED:20150630T153940Z
UID:4984-1436968800-1436972400@jayceland.com
SUMMARY:Wondrous Wednesday: Glow in the Dark Stars
DESCRIPTION:"Paint your own glow in the dark star." [source: Monroe County Library website\, 2015-Jun-29]
URL:https://jayceland.com/blog/event/wondrous-wednesday-glow-in-the-dark-stars/
LOCATION:Sully Branch Library\, 530 Webster Ave.\, Rochester\, New York\, 14609\, United States
CATEGORIES:JayceLand 2015-Jul-9
END:VEVENT
BEGIN:VEVENT
DTSTART;TZID=America/New_York:20150715T200000
DTEND;TZID=America/New_York:20150715T212300
DTSTAMP:20260422T155210
CREATED:20150630T153944Z
LAST-MODIFIED:20150630T153944Z
UID:5008-1436990400-1436995380@jayceland.com
SUMMARY:Shorts Made for the Theaters screening
DESCRIPTION:The Dryden will screen Shorts Made for the Theaters including Popeye Makes a Movie (Seymour Kneitel\, U.S. 1950\, 9 min.\, 35mm)\, Paramount News Review 1938: A Year of Contrast (U.S. 1938\, 11 min.\, 35mm)\, This Theatre and You (Felix Jacoves\, U.S. 1949\, 8 min.\, 35mm)\, The History and Development of the 35mm Projector (Don Malkames\, U.S. 1956\, 24 min.\, 35mm)\, Let's Go to the Movies (Tholen Gladden\, U.S. 1948\, 9 min.\, 35mm)\, History Brought to Life (Jerry Hopper\, U.S. 1951\, 9 min.\, 35mm)\, The Film That Was Lost (Sammy Lee\, U.S. 1942\, 9 min.\, 35mm)\, and Dancing in the Street (U.S. 1985\, 4 min.\, 35mm).  \nThe way we watch movies has changed greatly over the years—from the films we watch and how we watch them\, to the spaces where we watch them and even the reason we watch them. Once a staple of the moviegoing experience\, short films like those in this program—meant to be shown in a theater to a large audience—are relatively unknown to younger audiences today.  Many people have likely never seen newsreels\, cartoons\, serials\, or educational short films in a theater. Many may not realize that cartoons were originally made for adults\, and that most were series following familiar characters who could do things that would not have been allowed on the screen if done by live people. This program includes a cartoon from a very popular character that continued to be featured in his own series of adventures in theaters for many years.  The newsreel was used for decades as a method of informing the public of interesting and entertaining stories. We will show a Paramount News Review of 1938\, part of the Paramount series that would travel with films at the beginning of each year and review major stories from the previous year\, rather than being based on a weekly series like many newsreels. The program also contains several educational shorts on history and motion pictures\, and it ends with a theatrical music video distributed to commercial theaters by Eastman Kodak Company for use as a promotion for the Live Aid benefit concert.  These treasures from the Eastman House collection will be presented by Ed Stratmann\, associate curator\, Moving Image Department. \n [source: Dryden website\, 2015-Jun-29]
URL:https://jayceland.com/blog/event/shorts-made-for-the-theaters-screening/
LOCATION:Dryden Theatre at George Eastman House\, 900 East Ave.\, Rochester\, New York\, 14607\, United States
CATEGORIES:JayceLand 2015-Jul-9
END:VEVENT
BEGIN:VEVENT
DTSTART;TZID=America/New_York:20150715T200000
DTEND;TZID=America/New_York:20150715T220000
DTSTAMP:20260422T155210
CREATED:20150624T172329Z
LAST-MODIFIED:20150624T172329Z
UID:4954-1436990400-1436997600@jayceland.com
SUMMARY:Henry IV: Part 2 performance (2015-Jul-15 @ 8 p.m.)
DESCRIPTION:The Shakespeare Players program of the Rochester Community Players present Henry IV parts 1 and 2 by William Shakespeare […] This production continues the "Henriad" a cycle of History Plays chronicling the Reigns of Richard II\, Henry IV and Henry V. Henry IV parts 1 and 2 follow the civil war resulting from the ousting of Richard II by Henry Bullingbroke (now King Henry IV) and the questionable company kept by Prince Hal (the future Henry V) in the personage of Sir John Falstaff. \n [source: Facebook\, 2015-Jun-22]
URL:https://jayceland.com/blog/event/henry-iv-part-2-performance-2015-jul-15-8-p-m/
LOCATION:Highland Bowl\, Robinson Dr. and South Ave.\, Rochester\, New York\, 14620\, United States
CATEGORIES:JayceLand 2015-Jul-9
END:VEVENT
END:VCALENDAR