BEGIN:VCALENDAR
VERSION:2.0
PRODID:-//JayceLand - ECPv6.15.20//NONSGML v1.0//EN
CALSCALE:GREGORIAN
METHOD:PUBLISH
X-ORIGINAL-URL:https://jayceland.com/blog
X-WR-CALDESC:Events for JayceLand
REFRESH-INTERVAL;VALUE=DURATION:PT1H
X-Robots-Tag:noindex
X-PUBLISHED-TTL:PT1H
BEGIN:VTIMEZONE
TZID:America/New_York
BEGIN:DAYLIGHT
TZOFFSETFROM:-0500
TZOFFSETTO:-0400
TZNAME:EDT
DTSTART:20140309T070000
END:DAYLIGHT
BEGIN:STANDARD
TZOFFSETFROM:-0400
TZOFFSETTO:-0500
TZNAME:EST
DTSTART:20141102T060000
END:STANDARD
BEGIN:DAYLIGHT
TZOFFSETFROM:-0500
TZOFFSETTO:-0400
TZNAME:EDT
DTSTART:20150308T070000
END:DAYLIGHT
BEGIN:STANDARD
TZOFFSETFROM:-0400
TZOFFSETTO:-0500
TZNAME:EST
DTSTART:20151101T060000
END:STANDARD
BEGIN:DAYLIGHT
TZOFFSETFROM:-0500
TZOFFSETTO:-0400
TZNAME:EDT
DTSTART:20160313T070000
END:DAYLIGHT
BEGIN:STANDARD
TZOFFSETFROM:-0400
TZOFFSETTO:-0500
TZNAME:EST
DTSTART:20161106T060000
END:STANDARD
END:VTIMEZONE
BEGIN:VEVENT
DTSTART;TZID=America/New_York:20150617T073000
DTEND;TZID=America/New_York:20150617T170000
DTSTAMP:20260420T113147
CREATED:20150610T142852Z
LAST-MODIFIED:20150610T142852Z
UID:4830-1434526200-1434560400@jayceland.com
SUMMARY:Genesee River Basin Summit 2015
DESCRIPTION:Today from 7:30 a.m. to 5 p.m. in the College Union Ballroom at SUNY Geneseo is the Genesee River Basin Summit 2015.  \nHelp build on the success of last year's first ever Genesee River Basin Summit by creating an annual Basin Report Card that will be used to: Raise awareness of the Genesee and the condition of its waters; Provide a basis for conversation about what needs to be done to improve water quality in and access to\, the Genesee River; Establish and measure visible targets for the work of stakeholders; and attract funding to execute critical projects. \n [source: Color Brighton Green website\, 2015-Jun-8]
URL:https://jayceland.com/blog/event/genesee-river-basin-summit-2015/
LOCATION:SUNY Geneseo\, 1 College Cir.\, Geneseo\, New York\, 14454\, United States
CATEGORIES:JayceLand 2015-Jun-11
END:VEVENT
BEGIN:VEVENT
DTSTART;TZID=America/New_York:20150617T170000
DTEND;TZID=America/New_York:20150617T200000
DTSTAMP:20260420T113147
CREATED:20150610T142856Z
LAST-MODIFIED:20150610T142856Z
UID:4851-1434560400-1434571200@jayceland.com
SUMMARY:East Main Arts & Market Alternatives Open House
DESCRIPTION:[source: Facebook\, 2015-Jun-8]
URL:https://jayceland.com/blog/event/east-main-arts-market-alternatives-open-house/
LOCATION:School of the Arts\, 45 Prince St.\, Rochester\, New York\, 14607\, United States
CATEGORIES:JayceLand 2015-Jun-11
END:VEVENT
BEGIN:VEVENT
DTSTART;TZID=America/New_York:20150617T180000
DTEND;TZID=America/New_York:20150617T200000
DTSTAMP:20260420T113147
CREATED:20150610T142853Z
LAST-MODIFIED:20150610T142853Z
UID:4837-1434564000-1434571200@jayceland.com
SUMMARY:Garden Vibes 2015\, Hey Mavis
DESCRIPTION:The Americana style of Rochester Jazz Festival favorite Hey Mavis seamlessly blends elements of jazz\, bluegrass\, folk\, and a heaping spoonful of rock and roll—the perfect start to a much-needed summer! \n [source: Eastman House calendar\, 2015-Jun-8]
URL:https://jayceland.com/blog/event/garden-vibes-2015-hey-mavis/
LOCATION:George Eastman House\, 900 East Ave.\, Rochester\, New York\, 14607\, United States
CATEGORIES:JayceLand 2015-Jun-11
END:VEVENT
BEGIN:VEVENT
DTSTART;TZID=America/New_York:20150617T180000
DTEND;TZID=America/New_York:20150617T200000
DTSTAMP:20260420T113147
CREATED:20150613T190017Z
LAST-MODIFIED:20150613T190017Z
UID:4874-1434564000-1434571200@jayceland.com
SUMMARY:Rochester Black Rose Anarchist Federation Meet-and-Greet
DESCRIPTION:Think "anarchist organization" is an oxymoron? Think again.  Rochester Black Rose (formerly known as Rochester Red & Black) is an organization dedicated to making anarchism a force to be reckoned with in our city. Maybe you've been to our events\, or seen our work in social movements. Maybe you've seen our flags or banners fluttering over a rally. If you've ever wondered who we are\, or why someone would join an anarchist organization\, this is your opportunity to learn more. \n [source: Rochester Black Rose e-mail\, 2015-Jun-13]
URL:https://jayceland.com/blog/event/rochester-black-rose-anarchist-federation-meet-and-greet/
LOCATION:Immanuel Baptist Church\, 815 Park Ave.\, Rochester\, New York\, 14607\, United States
CATEGORIES:JayceLand 2015-Jun-11
END:VEVENT
BEGIN:VEVENT
DTSTART;TZID=America/New_York:20150617T190000
DTEND;TZID=America/New_York:20150617T200000
DTSTAMP:20260420T113147
CREATED:20150610T142852Z
LAST-MODIFIED:20150610T142852Z
UID:4832-1434567600-1434571200@jayceland.com
SUMMARY:A History of the Hamburger: American Fast Food
DESCRIPTION:At 7 p.m. in the Fisher Meeting Room of the Pittsford Community Library\, Don Hall will discuss A History of the Hamburger: American Fast Food. [source: Monroe County Library website\, 2015-Jun-8]
URL:https://jayceland.com/blog/event/a-history-of-the-hamburger-american-fast-food/
LOCATION:Pittsford Community Library\, 24 State St.\, Pittsford\, New York\, 14534\, United States
CATEGORIES:JayceLand 2015-Jun-11
END:VEVENT
BEGIN:VEVENT
DTSTART;TZID=America/New_York:20150617T190000
DTEND;TZID=America/New_York:20150617T204800
DTSTAMP:20260420T113147
CREATED:20150610T142857Z
LAST-MODIFIED:20150610T142857Z
UID:4857-1434567600-1434574080@jayceland.com
SUMMARY:Woman in Gold screening (2015-Jun-17 @ 7 p.m.)
DESCRIPTION:The Cinema is screening Woman in Gold (Simon Curtis\, U.S. / U.K. 2015\, 108 min.) "Maria Altmann\, an octogenarian Jewish refugee\, takes on the Austrian government to recover artwork she believes rightfully belongs to her family." [source: Cinema coming soon page\, 2015-Jun-10]
URL:https://jayceland.com/blog/event/woman-in-gold-screening-2015-jun-17-7-p-m/
LOCATION:Cinema Theatre\, 957 S. Clinton Ave.\, Rochester\, New York\, 14620\, United States
CATEGORIES:JayceLand 2015-Jun-11
END:VEVENT
BEGIN:VEVENT
DTSTART;TZID=America/New_York:20150617T203000
DTEND;TZID=America/New_York:20150617T222800
DTSTAMP:20260420T113147
CREATED:20150610T142855Z
LAST-MODIFIED:20150610T142855Z
UID:4844-1434573000-1434580080@jayceland.com
SUMMARY:Battleground screening
DESCRIPTION:The Dryden will screen Battleground (William A. Wellman\, U.S. 1949\, 118 min.\, 35mm).  \nReturning to the territory he charted with The Story of G.I. Joe\, Wellman crafts another deeply humanistic\, documentary-like portrayal of American soldiers during the Second World War as vulnerable humans\, and not heroic killing machines. Restrained almost to the point of neorealism\, Battleground again follows a single company (327th Glider Infantry Regiment\, 101st Airborne Division) as they simply try to survive the notorious Battle of the Bulge.  "And William Wellman . . . has done a tremendous job of making all the action—and reaction—plausible. In settings of striking realism\, he has got the 'look' of that wintry battleground. And the split-second timing of his actors has made them utterly true to the life of 'Joe.' Among his masculine performers (there is only one girl\, Denise Darcel\, in a small role)\, it is difficult to make a selection of those who merit special praise. James Whitmore is magnificently shaggy and laconic as a veteran 'top kick\,' and Douglas Fowley does a dandy job of playing a constant griper with a set of loose store-teeth. Van Johnson is honestly appealing as a wise-cracking\, scrounging rifleman\, and John Hodiak and George Murphy are solid as older and quieter men." — New York Times\, 1949 \n [source: Dryden website\, 2015-Jun-8]
URL:https://jayceland.com/blog/event/battleground-screening/
LOCATION:Dryden Theatre at George Eastman House\, 900 East Ave.\, Rochester\, New York\, 14607\, United States
CATEGORIES:JayceLand 2015-Jun-11
END:VEVENT
BEGIN:VEVENT
DTSTART;TZID=America/New_York:20150617T205500
DTEND;TZID=America/New_York:20150617T222700
DTSTAMP:20260420T113147
CREATED:20150610T142858Z
LAST-MODIFIED:20150610T142858Z
UID:4863-1434574500-1434580020@jayceland.com
SUMMARY:5 Flights Up screening (2015-Jun-17 @ 8:55 p.m.)
DESCRIPTION:The Cinema will screen 5 Flights Up (Richard Loncraine\, U.S. 2014\, 92 min.) "A long-time married couple who've spent their lives together in the same New York apartment become overwhelmed by personal and real estate-related issues when they plan to move away." [source: Cinema coming soon page\, 2015-Jun-10]
URL:https://jayceland.com/blog/event/5-flights-up-screening-2015-jun-17-855-p-m/
LOCATION:Cinema Theatre\, 957 S. Clinton Ave.\, Rochester\, New York\, 14620\, United States
CATEGORIES:JayceLand 2015-Jun-11
END:VEVENT
BEGIN:VEVENT
DTSTART;TZID=America/New_York:20150617T210000
DTEND;TZID=America/New_York:20150617T230000
DTSTAMP:20260420T113147
CREATED:20150610T142850Z
LAST-MODIFIED:20150610T142850Z
UID:4824-1434574800-1434582000@jayceland.com
SUMMARY:King Gizzard and The Lizard Wizard\, Drippers\, Hot Mayonnaise
DESCRIPTION:[source: Bug Jar calendar\, 2015-Jun-8]
URL:https://jayceland.com/blog/event/king-gizzard-and-the-lizard-wizard-drippers-hot-mayonnaise/
LOCATION:Bug Jar\, 219 Monroe Ave\, Rochester\, New York\, 14607\, United States
CATEGORIES:JayceLand 2015-Jun-11
END:VEVENT
END:VCALENDAR