BEGIN:VCALENDAR
VERSION:2.0
PRODID:-//JayceLand - ECPv6.15.20//NONSGML v1.0//EN
CALSCALE:GREGORIAN
METHOD:PUBLISH
X-ORIGINAL-URL:https://jayceland.com/blog
X-WR-CALDESC:Events for JayceLand
REFRESH-INTERVAL;VALUE=DURATION:PT1H
X-Robots-Tag:noindex
X-PUBLISHED-TTL:PT1H
BEGIN:VTIMEZONE
TZID:America/New_York
BEGIN:DAYLIGHT
TZOFFSETFROM:-0500
TZOFFSETTO:-0400
TZNAME:EDT
DTSTART:20140309T070000
END:DAYLIGHT
BEGIN:STANDARD
TZOFFSETFROM:-0400
TZOFFSETTO:-0500
TZNAME:EST
DTSTART:20141102T060000
END:STANDARD
BEGIN:DAYLIGHT
TZOFFSETFROM:-0500
TZOFFSETTO:-0400
TZNAME:EDT
DTSTART:20150308T070000
END:DAYLIGHT
BEGIN:STANDARD
TZOFFSETFROM:-0400
TZOFFSETTO:-0500
TZNAME:EST
DTSTART:20151101T060000
END:STANDARD
BEGIN:DAYLIGHT
TZOFFSETFROM:-0500
TZOFFSETTO:-0400
TZNAME:EDT
DTSTART:20160313T070000
END:DAYLIGHT
BEGIN:STANDARD
TZOFFSETFROM:-0400
TZOFFSETTO:-0500
TZNAME:EST
DTSTART:20161106T060000
END:STANDARD
END:VTIMEZONE
BEGIN:VEVENT
DTSTART;TZID=America/New_York:20150529T110000
DTEND;TZID=America/New_York:20150529T230000
DTSTAMP:20260423T072603
CREATED:20150527T153029Z
LAST-MODIFIED:20150527T153029Z
UID:4736-1432897200-1432940400@jayceland.com
SUMMARY:Greek Festival (2015-May-29 @ 11 a.m.)
DESCRIPTION:[source: Greek Festival website\, 2015-May-27]
URL:https://jayceland.com/blog/event/greek-festival-2015-may-29-11-a-m/
LOCATION:Annunciation Greek Orthodox Church\, 962 East Ave.\, Rochester\, New York\, 14607\, United States
CATEGORIES:JayceLand 2015-May-28
END:VEVENT
BEGIN:VEVENT
DTSTART;TZID=America/New_York:20150529T121500
DTEND;TZID=America/New_York:20150529T130000
DTSTAMP:20260423T072603
CREATED:20150527T153026Z
LAST-MODIFIED:20150527T153026Z
UID:4722-1432901700-1432904400@jayceland.com
SUMMARY:Get Ready to Ride: Bike First Aid
DESCRIPTION:Today from 12:15 p.m. to 1 p.m. in Kate Gleason Auditorium of the Rundel Library Building is Get Ready to Ride: Bike First Aid. [source: Monroe County Library website\, 2015-May-25]
URL:https://jayceland.com/blog/event/get-ready-to-ride-bike-first-aid/
LOCATION:Rundel Library Building\, 115 South Ave.\, Rochester\, New York\, 14604\, United States
CATEGORIES:JayceLand 2015-May-28
END:VEVENT
BEGIN:VEVENT
DTSTART;TZID=America/New_York:20150529T190000
DTEND;TZID=America/New_York:20150529T210000
DTSTAMP:20260423T072603
CREATED:20150505T191726Z
LAST-MODIFIED:20150505T191726Z
UID:4599-1432926000-1432933200@jayceland.com
SUMMARY:Films by Rose Lowder
DESCRIPTION:Starting around 7 p.m. in the VSW Auditorium is a screening of "16mm films by French experimental filmmaker" Rose Lowder\, curated by Tara Merenda Nelson. [source: VSW flyer\, 2015-May-5]
URL:https://jayceland.com/blog/event/films-by-rose-lowder/
LOCATION:Visual Studies Workshop\, 31 Prince St.\, Rochester\, New York\, 14607\, United States
CATEGORIES:JayceLand 2015-May-28
END:VEVENT
BEGIN:VEVENT
DTSTART;TZID=America/New_York:20150529T193000
DTEND;TZID=America/New_York:20150529T213000
DTSTAMP:20260423T072603
CREATED:20150505T132540Z
LAST-MODIFIED:20150505T132540Z
UID:4568-1432927800-1432935000@jayceland.com
SUMMARY:Orestes 2.0 performance (2015-May-29 @ 7:30 p.m.)
DESCRIPTION:Orestes 2.0 by Charles Mee is based on Orestes by Euripedes.  \nThe Euripides after-war play\, re-set in the world today\, in which veterans return from the Trojan War\, to find that the disorder and nightmare of war has come home with them and rendered their homeland in ruins forever. \n [source: Bread and Water Theatre website\, 2015-May-4]
URL:https://jayceland.com/blog/event/orestes-2-0-performance-2015-may-29-730-p-m/
LOCATION:Bread and Water Theatre\, 172 W. Main St.\, Rochester\, New York\, United States
CATEGORIES:JayceLand 2015-May-28
END:VEVENT
BEGIN:VEVENT
DTSTART;TZID=America/New_York:20150529T193000
DTEND;TZID=America/New_York:20150529T213000
DTSTAMP:20260423T072603
CREATED:20150505T132543Z
LAST-MODIFIED:20150505T132543Z
UID:4585-1432927800-1432935000@jayceland.com
SUMMARY:Dave Attell (2015-May-29 @ 7:30 p.m.)
DESCRIPTION:[source: City Newspaper events calendar\, 2015-May-4]
URL:https://jayceland.com/blog/event/dave-attell-2015-may-29-730-p-m/
LOCATION:Comedy Club\, 2235 Empire Blvd.\, Webster\, New York\, 14580\, United States
CATEGORIES:JayceLand 2015-May-28
END:VEVENT
BEGIN:VEVENT
DTSTART;TZID=America/New_York:20150529T193000
DTEND;TZID=America/New_York:20150529T213000
DTSTAMP:20260423T072603
CREATED:20150520T113434Z
LAST-MODIFIED:20150520T113434Z
UID:4675-1432927800-1432935000@jayceland.com
SUMMARY:Grace performance (2015-May-29 @ 7:30 p.m.)
DESCRIPTION:Grace is a tragicomedy that explores human assumptions about how God\, goodness\, faith and causality operate in the cosmic machinery. Steve and Sara have relocated to Sunrise\, Florida to pursue an unbelievably wonderful business deal\, but as the deal slowly unravels and Steve finds himself afflicted with an itch that just won't stop\, Sara finds herself increasingly drawn to their next-door neighbor\, Sam\, a badly-scarred victim of a recent car accident who wants nothing to do with her or her Bible-quoting husband. In the end\, with a little help from an old German exterminator who's still angry about the Allied bombing of Hamburg in World War II\, all three characters are confronted by a world that's both better and worse than any religion can justify. \n [source: MuCCC website\, 2015-May-18]
URL:https://jayceland.com/blog/event/grace-performance-2015-may-29-730-p-m/
LOCATION:MuCCC (Multi-use Community Cultural Center)\, 142 Atlantic Ave.\, Rochester\, New York\, 14607\, United States
CATEGORIES:JayceLand 2015-May-28
END:VEVENT
BEGIN:VEVENT
DTSTART;TZID=America/New_York:20150529T200000
DTEND;TZID=America/New_York:20150529T210800
DTSTAMP:20260423T072603
CREATED:20150527T153027Z
LAST-MODIFIED:20150527T153027Z
UID:4727-1432929600-1432933680@jayceland.com
SUMMARY:Wild Boys of the Road screening
DESCRIPTION:The Dryden will screen Wild Boys of the Road (William A. Wellman\, U.S. 1933\, 68 min.\, 35mm) tonight at 8 p.m.  \nThe carefree fun of high school dances and graffiti-decorated jalopies is short-lived for friends Frankie Darro and Edwin Phillips when the deep despair of the Great Depression sinks in. With jobless parents unable to find employment\, the two teens take to the road looking for work to help support their families. What follows is a harrowing early initiation into the adult world of violence\, hunger\, and even rape. Wellman cast 19-year-old Busby Berkeley dancer Dorothy Coonan as the lead girl of the road (posing as a boy); she hated acting but loved her director and a year later the two were married. Coonan retired from the screen immediately after marrying Wellman (save for one small role in Wellman's 1945 film Story of G.I. Joe—screening Wednesday\, June 10) to raise their seven children\, and the two remained happily married until his death in 1975. \n [source: Dryden website\, 2015-May-25]
URL:https://jayceland.com/blog/event/wild-boys-of-the-road-screening/
LOCATION:Dryden Theatre at George Eastman House\, 900 East Ave.\, Rochester\, New York\, 14607\, United States
CATEGORIES:JayceLand 2015-May-28
END:VEVENT
BEGIN:VEVENT
DTSTART;TZID=America/New_York:20150529T200000
DTEND;TZID=America/New_York:20150529T220000
DTSTAMP:20260423T072603
CREATED:20150527T153026Z
LAST-MODIFIED:20150527T153026Z
UID:4718-1432929600-1432936800@jayceland.com
SUMMARY:5Head\, The Fox Sisters
DESCRIPTION:[source: Lovin' Cup website\, 2015-May-25]
URL:https://jayceland.com/blog/event/5head-the-fox-sisters/
LOCATION:Lovin' Cup\, 300 Park Point Dr.\, Rochester\, New York\, 14623\, United States
CATEGORIES:JayceLand 2015-May-28
END:VEVENT
BEGIN:VEVENT
DTSTART;TZID=America/New_York:20150529T203000
DTEND;TZID=America/New_York:20150529T220000
DTSTAMP:20260423T072603
CREATED:20150527T153029Z
LAST-MODIFIED:20150527T153029Z
UID:4734-1432931400-1432936800@jayceland.com
SUMMARY:Awesome Force: An Improvised Superhero Blockbuster (2015-May-29 @ 8:30 p.m.)
DESCRIPTION:Grab your cape\, don your mask\, and slip into your tightest spandex bodysuit as GCI presents a feature-length improvised Super Hero blockbuster! Will the Awesome Force triumph over the forces of evil? Will the Earth be destroyed by a Doomsday device? Will we remember to stock enough beer at the concession stand? The stakes have never been higher! \n [source: City Newspaper events calendar\, 2015-May-27]
URL:https://jayceland.com/blog/event/awesome-force-an-improvised-superhero-blockbuster-2015-may-29-830-p-m/
LOCATION:Geva Theatre Center\, 75 Woodbury Blvd.\, Rochester\, New York\, 14607\, United States
CATEGORIES:JayceLand 2015-May-28
END:VEVENT
BEGIN:VEVENT
DTSTART;TZID=America/New_York:20150529T220000
DTEND;TZID=America/New_York:20150529T233300
DTSTAMP:20260423T072603
CREATED:20150527T153024Z
LAST-MODIFIED:20150527T153024Z
UID:4712-1432936800-1432942380@jayceland.com
SUMMARY:Rock 'n' Roll High School screening
DESCRIPTION:The Little is screening Rock 'n' Roll High School ( Allan Arkush\, U.S. 1979\, 93 min.) as part of the Mondo Movie Series.   \nVince Lombardi High School keeps losing principals to nervous breakdowns because of the students' love of rock 'n' roll and their disregard of education. The putative leader of the students is Riff Randell\, who loves the music of the Ramones. A new principal\, the rock-music-hating Miss Evelyn Togar\, is brought in and promises to put an end to the music craze. [spoilers omitted] \n [source: Little Theatre website\, 2015-May-25]
URL:https://jayceland.com/blog/event/rock-n-roll-high-school-screening/
LOCATION:Little Theatre\, 240 East Ave. #100\, Rochester\, New York\, 14604\, United States
CATEGORIES:JayceLand 2015-May-28
END:VEVENT
BEGIN:VEVENT
DTSTART;TZID=America/New_York:20150529T220000
DTEND;TZID=America/New_York:20150530T000000
DTSTAMP:20260423T072603
CREATED:20150505T132543Z
LAST-MODIFIED:20150505T132543Z
UID:4586-1432936800-1432944000@jayceland.com
SUMMARY:Dave Attell (2015-May-29 @ 10 p.m.)
DESCRIPTION:[source: City Newspaper events calendar\, 2015-May-4]
URL:https://jayceland.com/blog/event/dave-attell-2015-may-29-10-p-m/
LOCATION:Comedy Club\, 2235 Empire Blvd.\, Webster\, New York\, 14580\, United States
CATEGORIES:JayceLand 2015-May-28
END:VEVENT
END:VCALENDAR