BEGIN:VCALENDAR
VERSION:2.0
PRODID:-//JayceLand - ECPv6.15.20//NONSGML v1.0//EN
CALSCALE:GREGORIAN
METHOD:PUBLISH
X-WR-CALNAME:JayceLand
X-ORIGINAL-URL:https://jayceland.com/blog
X-WR-CALDESC:Events for JayceLand
REFRESH-INTERVAL;VALUE=DURATION:PT1H
X-Robots-Tag:noindex
X-PUBLISHED-TTL:PT1H
BEGIN:VTIMEZONE
TZID:America/New_York
BEGIN:DAYLIGHT
TZOFFSETFROM:-0500
TZOFFSETTO:-0400
TZNAME:EDT
DTSTART:20140309T070000
END:DAYLIGHT
BEGIN:STANDARD
TZOFFSETFROM:-0400
TZOFFSETTO:-0500
TZNAME:EST
DTSTART:20141102T060000
END:STANDARD
BEGIN:DAYLIGHT
TZOFFSETFROM:-0500
TZOFFSETTO:-0400
TZNAME:EDT
DTSTART:20150308T070000
END:DAYLIGHT
BEGIN:STANDARD
TZOFFSETFROM:-0400
TZOFFSETTO:-0500
TZNAME:EST
DTSTART:20151101T060000
END:STANDARD
BEGIN:DAYLIGHT
TZOFFSETFROM:-0500
TZOFFSETTO:-0400
TZNAME:EDT
DTSTART:20160313T070000
END:DAYLIGHT
BEGIN:STANDARD
TZOFFSETFROM:-0400
TZOFFSETTO:-0500
TZNAME:EST
DTSTART:20161106T060000
END:STANDARD
END:VTIMEZONE
BEGIN:VEVENT
DTSTART;TZID=America/New_York:20150527T190000
DTEND;TZID=America/New_York:20150527T204600
DTSTAMP:20260422T021855
CREATED:20150520T113437Z
LAST-MODIFIED:20150520T113437Z
UID:4693-1432753200-1432759560@jayceland.com
SUMMARY:Danny Collins screening (2015-May-27 @ 7 p.m.)
DESCRIPTION:This week's 7 p.m. movie at the Cinema is the charmingly entertaining Danny Collins (Dan Fogelman\, U.S. 2014\, 106 min.) "An aging rock star decides to change his life when he discovers a 40-year-old letter written to him by John Lennon." [source: Cinema coming soon page\, 2015-May-20]
URL:https://jayceland.com/blog/event/danny-collins-screening-2015-may-27-7-p-m/
LOCATION:Cinema Theatre\, 957 S. Clinton Ave.\, Rochester\, New York\, 14620\, United States
CATEGORIES:JayceLand 2015-May-21
END:VEVENT
BEGIN:VEVENT
DTSTART;TZID=America/New_York:20150527T200000
DTEND;TZID=America/New_York:20150527T220700
DTSTAMP:20260422T021855
CREATED:20150520T113435Z
LAST-MODIFIED:20150520T113435Z
UID:4684-1432756800-1432764420@jayceland.com
SUMMARY:Prospero's Books screening
DESCRIPTION:Tonight at 8 p.m.\, the Dryden will screen Prospero's Books (Peter Greenaway\, U.K. 1991\, 127 min.\, 35mm).  \nIt would not be quite accurate to say that Prospero's Books is an "adaption" of William Shakespeare's The Tempest. Rather\, Greenaway's film is a lively and deeply experimental reflection on the nature of reading and the materiality of books\, using the Bard's final play as a point of departure. When a violent storm casts Prospero (John Gielgud) astray on an unidentified island\, his vast library somehow survives with him. He resides in a state of limbo\, somewhere between reading and writing\, between life and death\, and it is from this perpetual in-between state that Prospero's Books finds its footing. The written and spoken word constantly invades the space of the film\, whether in the form of pages adrift in the mise-en-scÃ¨ne\, frames of text embedded within the image\, or Gielgud's magisterial voice. Like many of Greenaway's films\, Prospero's Books is best experienced not as a narrative to follow but as a kind of literary fever dream to which one surrenders. \n [source: Dryden website\, 2015-May-18]
URL:https://jayceland.com/blog/event/prosperos-books-screening/
LOCATION:Dryden Theatre at George Eastman House\, 900 East Ave.\, Rochester\, New York\, 14607\, United States
CATEGORIES:JayceLand 2015-May-21
END:VEVENT
BEGIN:VEVENT
DTSTART;TZID=America/New_York:20150527T205000
DTEND;TZID=America/New_York:20150527T225400
DTSTAMP:20260422T021855
CREATED:20150520T113438Z
LAST-MODIFIED:20150520T113438Z
UID:4699-1432759800-1432767240@jayceland.com
SUMMARY:Clouds of Sils Maria screening (2015-May-27 @ 8:50 p.m.)
DESCRIPTION:This week's 8:50 p.m. movie at the Cinema is the excellent character study Clouds of Sils Maria (Olivier Assayas\, France / Switzerland / Germany / U.S. / Belgium 2014\, 124 min.) "A veteran actress comes face-to-face with an uncomfortable reflection of herself when she agrees to take part in a revival of the play that launched her career 20 years earlier." [source: Cinema coming soon page\, 2015-May-20]
URL:https://jayceland.com/blog/event/clouds-of-sils-maria-screening-2015-may-27-850-p-m/
LOCATION:Cinema Theatre\, 957 S. Clinton Ave.\, Rochester\, New York\, 14620\, United States
CATEGORIES:JayceLand 2015-May-21
END:VEVENT
END:VCALENDAR