BEGIN:VCALENDAR
VERSION:2.0
PRODID:-//JayceLand - ECPv6.15.20//NONSGML v1.0//EN
CALSCALE:GREGORIAN
METHOD:PUBLISH
X-ORIGINAL-URL:https://jayceland.com/blog
X-WR-CALDESC:Events for JayceLand
REFRESH-INTERVAL;VALUE=DURATION:PT1H
X-Robots-Tag:noindex
X-PUBLISHED-TTL:PT1H
BEGIN:VTIMEZONE
TZID:America/New_York
BEGIN:DAYLIGHT
TZOFFSETFROM:-0500
TZOFFSETTO:-0400
TZNAME:EDT
DTSTART:20140309T070000
END:DAYLIGHT
BEGIN:STANDARD
TZOFFSETFROM:-0400
TZOFFSETTO:-0500
TZNAME:EST
DTSTART:20141102T060000
END:STANDARD
BEGIN:DAYLIGHT
TZOFFSETFROM:-0500
TZOFFSETTO:-0400
TZNAME:EDT
DTSTART:20150308T070000
END:DAYLIGHT
BEGIN:STANDARD
TZOFFSETFROM:-0400
TZOFFSETTO:-0500
TZNAME:EST
DTSTART:20151101T060000
END:STANDARD
BEGIN:DAYLIGHT
TZOFFSETFROM:-0500
TZOFFSETTO:-0400
TZNAME:EDT
DTSTART:20160313T070000
END:DAYLIGHT
BEGIN:STANDARD
TZOFFSETFROM:-0400
TZOFFSETTO:-0500
TZNAME:EST
DTSTART:20161106T060000
END:STANDARD
END:VTIMEZONE
BEGIN:VEVENT
DTSTART;TZID=America/New_York:20150526T170000
DTEND;TZID=America/New_York:20150526T190000
DTSTAMP:20260421T095410
CREATED:20150513T154642Z
LAST-MODIFIED:20150513T154642Z
UID:4648-1432659600-1432666800@jayceland.com
SUMMARY:Jenn Libby Portraits Opening Reception
DESCRIPTION:Tonight starting at 5 p.m. at the Little Cafe is the Opening Reception for Jenn Libby's Portraits\, on display through June 19. "An exhibition of wet-plate collodion tintypes and ambrotypes by Jenn Libby. These one-of-a-kind portraits on glass and metal embody and belie their Victorian origins." [source: Facebook\, 2015-May-12]
URL:https://jayceland.com/blog/event/jenn-libby-portraits-opening-reception/
LOCATION:Little Theatre\, 240 East Ave. #100\, Rochester\, New York\, 14604\, United States
CATEGORIES:JayceLand 2015-May-21
END:VEVENT
BEGIN:VEVENT
DTSTART;TZID=America/New_York:20150526T190000
DTEND;TZID=America/New_York:20150526T204600
DTSTAMP:20260421T095410
CREATED:20150520T113432Z
LAST-MODIFIED:20150520T113432Z
UID:4664-1432666800-1432673160@jayceland.com
SUMMARY:Don't Think I've Forgotten: Cambodia's Lost Rock And Roll screening
DESCRIPTION:Starting at 7 p.m.\, the Little will screen Don't Think I've Forgotten: Cambodia's Lost Rock And Roll (John Pirozzi\, U.S. / Camobdia / France 2014\, 106 min.) followed by a videoconference Q&A with director John Pirozzi.  \nThrough the eyes\, words and songs of its popular music stars of the 50's\, 60's\, and 70's\, Don't Think I've Forgotten: Cambodia's Lost Rock And Roll examines and unravels Cambodia's tragic past. Combining interviews with surviving musicians and never-before-seen archival material and rare songs\, the film tracks the winding course of Cambodian music as it morphs into a unique style of rock and roll. A vibrant musical culture that was nearly lost forever under the brutal Khmer Rouge regime is revived and celebrated. \n [source: Little Theatre website\, 2015-May-18]
URL:https://jayceland.com/blog/event/dont-think-ive-forgotten-cambodias-lost-rock-and-roll-screening/
LOCATION:Little Theatre\, 240 East Ave. #100\, Rochester\, New York\, 14604\, United States
CATEGORIES:JayceLand 2015-May-21
END:VEVENT
BEGIN:VEVENT
DTSTART;TZID=America/New_York:20150526T190000
DTEND;TZID=America/New_York:20150526T204600
DTSTAMP:20260421T095410
CREATED:20150520T113437Z
LAST-MODIFIED:20150520T113437Z
UID:4692-1432666800-1432673160@jayceland.com
SUMMARY:Danny Collins screening (2015-May-26 @ 7 p.m.)
DESCRIPTION:This week's 7 p.m. movie at the Cinema is the charmingly entertaining Danny Collins (Dan Fogelman\, U.S. 2014\, 106 min.) "An aging rock star decides to change his life when he discovers a 40-year-old letter written to him by John Lennon." [source: Cinema coming soon page\, 2015-May-20]
URL:https://jayceland.com/blog/event/danny-collins-screening-2015-may-26-7-p-m/
LOCATION:Cinema Theatre\, 957 S. Clinton Ave.\, Rochester\, New York\, 14620\, United States
CATEGORIES:JayceLand 2015-May-21
END:VEVENT
BEGIN:VEVENT
DTSTART;TZID=America/New_York:20150526T200000
DTEND;TZID=America/New_York:20150526T221000
DTSTAMP:20260421T095410
CREATED:20150520T113435Z
LAST-MODIFIED:20150520T113435Z
UID:4683-1432670400-1432678200@jayceland.com
SUMMARY:Mutiny on the Bounty screening
DESCRIPTION:At the Dryden at 8 p.m. is a screening of Mutiny on the Bounty (Frank Lloyd\, U.S. 1935\, 130 min.\, 35mm).  \nIn the midst of a 1789 voyage to the West Indies\, master's mate of the HMS Bounty Fletcher Christian (Clark Gable) rebels against the sadistic Captain Bligh (Charles Laughton). The most breathtaking and expensive film of 1935 was based on historical incident\, but the combination of spectacular seascapes\, shipboard intrigue\, and Gable's and Laughton's battle for control make for a timeless story that will never be topped. Winner of an Academy Award for Best Picture\, this lavish MGM production was a career high point for Laughton\, whose performance seethes with nautical villainy.  James Card screened this film as part of the second series he programmed for the Dryden in 1951\, its first year in operation. Titled Exceptional Films of the World\, the series strived to "conjure up shadows of some long-forgotten and some well-remembered films produced in nearly every country that regularly makes movies." Card chose Mutiny on the Bounty as the sole representative of American filmmaking. \n [source: Dryden website\, 2015-May-18]
URL:https://jayceland.com/blog/event/mutiny-on-the-bounty-screening/
LOCATION:Dryden Theatre at George Eastman House\, 900 East Ave.\, Rochester\, New York\, 14607\, United States
CATEGORIES:JayceLand 2015-May-21
END:VEVENT
BEGIN:VEVENT
DTSTART;TZID=America/New_York:20150526T205000
DTEND;TZID=America/New_York:20150526T225400
DTSTAMP:20260421T095410
CREATED:20150520T113438Z
LAST-MODIFIED:20150520T113438Z
UID:4698-1432673400-1432680840@jayceland.com
SUMMARY:Clouds of Sils Maria screening (2015-May-26 @ 8:50 p.m.)
DESCRIPTION:This week's 8:50 p.m. movie at the Cinema is the excellent character study Clouds of Sils Maria (Olivier Assayas\, France / Switzerland / Germany / U.S. / Belgium 2014\, 124 min.) "A veteran actress comes face-to-face with an uncomfortable reflection of herself when she agrees to take part in a revival of the play that launched her career 20 years earlier." [source: Cinema coming soon page\, 2015-May-20]
URL:https://jayceland.com/blog/event/clouds-of-sils-maria-screening-2015-may-26-850-p-m/
LOCATION:Cinema Theatre\, 957 S. Clinton Ave.\, Rochester\, New York\, 14620\, United States
CATEGORIES:JayceLand 2015-May-21
END:VEVENT
END:VCALENDAR