BEGIN:VCALENDAR
VERSION:2.0
PRODID:-//JayceLand - ECPv6.15.20//NONSGML v1.0//EN
CALSCALE:GREGORIAN
METHOD:PUBLISH
X-ORIGINAL-URL:https://jayceland.com/blog
X-WR-CALDESC:Events for JayceLand
REFRESH-INTERVAL;VALUE=DURATION:PT1H
X-Robots-Tag:noindex
X-PUBLISHED-TTL:PT1H
BEGIN:VTIMEZONE
TZID:America/New_York
BEGIN:DAYLIGHT
TZOFFSETFROM:-0500
TZOFFSETTO:-0400
TZNAME:EDT
DTSTART:20140309T070000
END:DAYLIGHT
BEGIN:STANDARD
TZOFFSETFROM:-0400
TZOFFSETTO:-0500
TZNAME:EST
DTSTART:20141102T060000
END:STANDARD
BEGIN:DAYLIGHT
TZOFFSETFROM:-0500
TZOFFSETTO:-0400
TZNAME:EDT
DTSTART:20150308T070000
END:DAYLIGHT
BEGIN:STANDARD
TZOFFSETFROM:-0400
TZOFFSETTO:-0500
TZNAME:EST
DTSTART:20151101T060000
END:STANDARD
BEGIN:DAYLIGHT
TZOFFSETFROM:-0500
TZOFFSETTO:-0400
TZNAME:EDT
DTSTART:20160313T070000
END:DAYLIGHT
BEGIN:STANDARD
TZOFFSETFROM:-0400
TZOFFSETTO:-0500
TZNAME:EST
DTSTART:20161106T060000
END:STANDARD
END:VTIMEZONE
BEGIN:VEVENT
DTSTART;TZID=America/New_York:20150525T190000
DTEND;TZID=America/New_York:20150525T204600
DTSTAMP:20260423T100844
CREATED:20150520T113437Z
LAST-MODIFIED:20150520T113437Z
UID:4691-1432580400-1432586760@jayceland.com
SUMMARY:Danny Collins screening (2015-May-25 @ 7 p.m.)
DESCRIPTION:This week's 7 p.m. movie at the Cinema is the charmingly entertaining Danny Collins (Dan Fogelman\, U.S. 2014\, 106 min.) "An aging rock star decides to change his life when he discovers a 40-year-old letter written to him by John Lennon." [source: Cinema coming soon page\, 2015-May-20]
URL:https://jayceland.com/blog/event/danny-collins-screening-2015-may-25-7-p-m/
LOCATION:Cinema Theatre\, 957 S. Clinton Ave.\, Rochester\, New York\, 14620\, United States
CATEGORIES:JayceLand 2015-May-21
END:VEVENT
BEGIN:VEVENT
DTSTART;TZID=America/New_York:20150525T200000
DTEND;TZID=America/New_York:20150525T220000
DTSTAMP:20260423T100844
CREATED:20150520T113433Z
LAST-MODIFIED:20150520T113433Z
UID:4669-1432584000-1432591200@jayceland.com
SUMMARY:Geeks Who Drink trivia
DESCRIPTION:Despite Memorial Day\, Boulder's calendar reports their weekly trivia quiz continues today. [source: Boulder Coffee calendar\, 2015-May-18]
URL:https://jayceland.com/blog/event/geeks-who-drink-trivia/
LOCATION:Boulder Coffee\, South Wedge\, 100 Alexander St.\, Rochester\, New York\, 14620\, United States
CATEGORIES:JayceLand 2015-May-21
END:VEVENT
BEGIN:VEVENT
DTSTART;TZID=America/New_York:20150525T205000
DTEND;TZID=America/New_York:20150525T225400
DTSTAMP:20260423T100844
CREATED:20150520T113438Z
LAST-MODIFIED:20150520T113438Z
UID:4697-1432587000-1432594440@jayceland.com
SUMMARY:Clouds of Sils Maria screening (2015-May-25 @ 8:50 p.m.)
DESCRIPTION:This week's 8:50 p.m. movie at the Cinema is the excellent character study Clouds of Sils Maria (Olivier Assayas\, France / Switzerland / Germany / U.S. / Belgium 2014\, 124 min.) "A veteran actress comes face-to-face with an uncomfortable reflection of herself when she agrees to take part in a revival of the play that launched her career 20 years earlier." [source: Cinema coming soon page\, 2015-May-20]
URL:https://jayceland.com/blog/event/clouds-of-sils-maria-screening-2015-may-25-850-p-m/
LOCATION:Cinema Theatre\, 957 S. Clinton Ave.\, Rochester\, New York\, 14620\, United States
CATEGORIES:JayceLand 2015-May-21
END:VEVENT
END:VCALENDAR