BEGIN:VCALENDAR
VERSION:2.0
PRODID:-//JayceLand - ECPv6.15.20//NONSGML v1.0//EN
CALSCALE:GREGORIAN
METHOD:PUBLISH
X-WR-CALNAME:JayceLand
X-ORIGINAL-URL:https://jayceland.com/blog
X-WR-CALDESC:Events for JayceLand
REFRESH-INTERVAL;VALUE=DURATION:PT1H
X-Robots-Tag:noindex
X-PUBLISHED-TTL:PT1H
BEGIN:VTIMEZONE
TZID:America/New_York
BEGIN:DAYLIGHT
TZOFFSETFROM:-0500
TZOFFSETTO:-0400
TZNAME:EDT
DTSTART:20140309T070000
END:DAYLIGHT
BEGIN:STANDARD
TZOFFSETFROM:-0400
TZOFFSETTO:-0500
TZNAME:EST
DTSTART:20141102T060000
END:STANDARD
BEGIN:DAYLIGHT
TZOFFSETFROM:-0500
TZOFFSETTO:-0400
TZNAME:EDT
DTSTART:20150308T070000
END:DAYLIGHT
BEGIN:STANDARD
TZOFFSETFROM:-0400
TZOFFSETTO:-0500
TZNAME:EST
DTSTART:20151101T060000
END:STANDARD
BEGIN:DAYLIGHT
TZOFFSETFROM:-0500
TZOFFSETTO:-0400
TZNAME:EDT
DTSTART:20160313T070000
END:DAYLIGHT
BEGIN:STANDARD
TZOFFSETFROM:-0400
TZOFFSETTO:-0500
TZNAME:EST
DTSTART:20161106T060000
END:STANDARD
END:VTIMEZONE
BEGIN:VEVENT
DTSTART;TZID=America/New_York:20150523T190000
DTEND;TZID=America/New_York:20150523T204600
DTSTAMP:20260420T002458
CREATED:20150520T113436Z
LAST-MODIFIED:20150520T113436Z
UID:4689-1432407600-1432413960@jayceland.com
SUMMARY:Danny Collins screening (2015-May-23 @ 7 p.m.)
DESCRIPTION:This week's 7 p.m. movie at the Cinema is the charmingly entertaining Danny Collins (Dan Fogelman\, U.S. 2014\, 106 min.) "An aging rock star decides to change his life when he discovers a 40-year-old letter written to him by John Lennon." [source: Cinema coming soon page\, 2015-May-20]
URL:https://jayceland.com/blog/event/danny-collins-screening-2015-may-23-7-p-m/
LOCATION:Cinema Theatre\, 957 S. Clinton Ave.\, Rochester\, New York\, 14620\, United States
CATEGORIES:JayceLand 2015-May-21
END:VEVENT
BEGIN:VEVENT
DTSTART;TZID=America/New_York:20150523T190000
DTEND;TZID=America/New_York:20150523T220000
DTSTAMP:20260420T002458
CREATED:20150521T205837Z
LAST-MODIFIED:20150521T205837Z
UID:4704-1432407600-1432418400@jayceland.com
SUMMARY:Opening of DNO: Self Titled Show
DESCRIPTION:Starting at 7 p.m. at 1975 Gallery is the Opening Reception for DNO: Self Titled Show with works by Dudes Night Out. The show is on display until May 30.  \nInto their second year of Roc art world domination\, the Dudes Night Out team is landing for a weeklong show at their favorite gallery\, 1975! The show will be featuring over a dozen artists\, all creating large and "off the wall" work. From sculpture\, to interactive pieces\, every team member is bumping up their game and making something that is sure to be truly one of a kind. \n [source: Facebook\, 2015-May-21]
URL:https://jayceland.com/blog/event/opening-of-dno-self-titled-show/
LOCATION:1975 Gallery\, 89 Charlotte St.\, Rochester\, New York\, 14607\, United States
CATEGORIES:JayceLand 2015-May-21
END:VEVENT
BEGIN:VEVENT
DTSTART;TZID=America/New_York:20150523T193000
DTEND;TZID=America/New_York:20150523T213000
DTSTAMP:20260420T002458
CREATED:20150520T113433Z
LAST-MODIFIED:20150520T113433Z
UID:4673-1432409400-1432416600@jayceland.com
SUMMARY:Grace performance (2015-May-23 @ 7:30 p.m.)
DESCRIPTION:Grace is a tragicomedy that explores human assumptions about how God\, goodness\, faith and causality operate in the cosmic machinery. Steve and Sara have relocated to Sunrise\, Florida to pursue an unbelievably wonderful business deal\, but as the deal slowly unravels and Steve finds himself afflicted with an itch that just won't stop\, Sara finds herself increasingly drawn to their next-door neighbor\, Sam\, a badly-scarred victim of a recent car accident who wants nothing to do with her or her Bible-quoting husband. In the end\, with a little help from an old German exterminator who's still angry about the Allied bombing of Hamburg in World War II\, all three characters are confronted by a world that's both better and worse than any religion can justify. \n [source: MuCCC website\, 2015-May-18]
URL:https://jayceland.com/blog/event/grace-performance-2015-may-23-730-p-m/
LOCATION:MuCCC (Multi-use Community Cultural Center)\, 142 Atlantic Ave.\, Rochester\, New York\, 14607\, United States
CATEGORIES:JayceLand 2015-May-21
END:VEVENT
BEGIN:VEVENT
DTSTART;TZID=America/New_York:20150523T200000
DTEND;TZID=America/New_York:20150523T213100
DTSTAMP:20260420T002458
CREATED:20150520T113435Z
LAST-MODIFIED:20150520T113435Z
UID:4681-1432411200-1432416660@jayceland.com
SUMMARY:Gods of the Plague screening
DESCRIPTION:The Dryden will screen GÃ¶tter der Pest (Gods of the Plague\, R. W. Fassbinder\, West Germany 1970\, 91 min.\, 35mm\, German w/subtitles) tonight at 8 p.m.  \nFranz (Harry Baer) has been released from jail and is looking for former acquaintances. First he finds Joanna (Hanna Schygulla)\, who sings in a bar. She loves him and wants to help. But Franz senses that behind this love lingers a claim of ownership that would take away the last bit of freedom he has. Franz also does not want to be kept by Joanna. He states: "There must be some money!" He abandons Joanna. Then he meets Margarethe (Margarethe von Trotta). She\, too\, is ready to help and\, more importantly\, less possessive in her love. This is the second part of Fassbinder's highly stylized loose trilogy of gangster pictures\, considered by the filmmaker to be the fifth best picture he ever made. \n [source: Dryden website\, 2015-May-18]
URL:https://jayceland.com/blog/event/gods-of-the-plague-screening/
LOCATION:Dryden Theatre at George Eastman House\, 900 East Ave.\, Rochester\, New York\, 14607\, United States
CATEGORIES:JayceLand 2015-May-21
END:VEVENT
BEGIN:VEVENT
DTSTART;TZID=America/New_York:20150523T205000
DTEND;TZID=America/New_York:20150523T225400
DTSTAMP:20260420T002458
CREATED:20150520T113437Z
LAST-MODIFIED:20150520T113437Z
UID:4695-1432414200-1432421640@jayceland.com
SUMMARY:Clouds of Sils Maria screening (2015-May-23 @ 8:50 p.m.)
DESCRIPTION:This week's 8:50 p.m. movie at the Cinema is the excellent character study Clouds of Sils Maria (Olivier Assayas\, France / Switzerland / Germany / U.S. / Belgium 2014\, 124 min.) "A veteran actress comes face-to-face with an uncomfortable reflection of herself when she agrees to take part in a revival of the play that launched her career 20 years earlier." [source: Cinema coming soon page\, 2015-May-20]
URL:https://jayceland.com/blog/event/clouds-of-sils-maria-screening-2015-may-23-850-p-m/
LOCATION:Cinema Theatre\, 957 S. Clinton Ave.\, Rochester\, New York\, 14620\, United States
CATEGORIES:JayceLand 2015-May-21
END:VEVENT
BEGIN:VEVENT
DTSTART;TZID=America/New_York:20150523T213000
DTEND;TZID=America/New_York:20150524T003000
DTSTAMP:20260420T002458
CREATED:20150520T113436Z
LAST-MODIFIED:20150520T113436Z
UID:4686-1432416600-1432427400@jayceland.com
SUMMARY:Seth Faergolzia and 23 Psaegz\, Danielle Ponder and The Tomorrow People
DESCRIPTION:Starting around 9:30 p.m. at Skylark Lounge is Seth Faergolzia and the 23 Psaegz\, and Danielle Ponder and The Tomorrow People [source: Facebook\, 2015-May-18]
URL:https://jayceland.com/blog/event/seth-faergolzia-and-23-psaegz-danielle-ponder-and-the-tomorrow-people/
LOCATION:Skylark Lounge\, 40 South Union St.\, Rochester\, New York\, 14607\, United States
CATEGORIES:JayceLand 2015-May-21
END:VEVENT
END:VCALENDAR