BEGIN:VCALENDAR
VERSION:2.0
PRODID:-//JayceLand - ECPv6.15.20//NONSGML v1.0//EN
CALSCALE:GREGORIAN
METHOD:PUBLISH
X-WR-CALNAME:JayceLand
X-ORIGINAL-URL:https://jayceland.com/blog
X-WR-CALDESC:Events for JayceLand
REFRESH-INTERVAL;VALUE=DURATION:PT1H
X-Robots-Tag:noindex
X-PUBLISHED-TTL:PT1H
BEGIN:VTIMEZONE
TZID:America/New_York
BEGIN:DAYLIGHT
TZOFFSETFROM:-0500
TZOFFSETTO:-0400
TZNAME:EDT
DTSTART:20140309T070000
END:DAYLIGHT
BEGIN:STANDARD
TZOFFSETFROM:-0400
TZOFFSETTO:-0500
TZNAME:EST
DTSTART:20141102T060000
END:STANDARD
BEGIN:DAYLIGHT
TZOFFSETFROM:-0500
TZOFFSETTO:-0400
TZNAME:EDT
DTSTART:20150308T070000
END:DAYLIGHT
BEGIN:STANDARD
TZOFFSETFROM:-0400
TZOFFSETTO:-0500
TZNAME:EST
DTSTART:20151101T060000
END:STANDARD
BEGIN:DAYLIGHT
TZOFFSETFROM:-0500
TZOFFSETTO:-0400
TZNAME:EDT
DTSTART:20160313T070000
END:DAYLIGHT
BEGIN:STANDARD
TZOFFSETFROM:-0400
TZOFFSETTO:-0500
TZNAME:EST
DTSTART:20161106T060000
END:STANDARD
END:VTIMEZONE
BEGIN:VEVENT
DTSTART;TZID=America/New_York:20150522T190000
DTEND;TZID=America/New_York:20150522T204600
DTSTAMP:20260422T021845
CREATED:20150520T113436Z
LAST-MODIFIED:20150520T113436Z
UID:4688-1432321200-1432327560@jayceland.com
SUMMARY:Danny Collins screening (2015-May-22 @ 7 p.m.)
DESCRIPTION:This week's 7 p.m. movie at the Cinema is the charmingly entertaining Danny Collins (Dan Fogelman\, U.S. 2014\, 106 min.) "An aging rock star decides to change his life when he discovers a 40-year-old letter written to him by John Lennon." [source: Cinema coming soon page\, 2015-May-20]
URL:https://jayceland.com/blog/event/danny-collins-screening-2015-may-22-7-p-m/
LOCATION:Cinema Theatre\, 957 S. Clinton Ave.\, Rochester\, New York\, 14620\, United States
CATEGORIES:JayceLand 2015-May-21
END:VEVENT
BEGIN:VEVENT
DTSTART;TZID=America/New_York:20150522T193000
DTEND;TZID=America/New_York:20150522T213000
DTSTAMP:20260422T021845
CREATED:20150520T113433Z
LAST-MODIFIED:20150520T113433Z
UID:4672-1432323000-1432330200@jayceland.com
SUMMARY:Grace performance (2015-May-22 @ 7:30 p.m.)
DESCRIPTION:Grace is a tragicomedy that explores human assumptions about how God\, goodness\, faith and causality operate in the cosmic machinery. Steve and Sara have relocated to Sunrise\, Florida to pursue an unbelievably wonderful business deal\, but as the deal slowly unravels and Steve finds himself afflicted with an itch that just won't stop\, Sara finds herself increasingly drawn to their next-door neighbor\, Sam\, a badly-scarred victim of a recent car accident who wants nothing to do with her or her Bible-quoting husband. In the end\, with a little help from an old German exterminator who's still angry about the Allied bombing of Hamburg in World War II\, all three characters are confronted by a world that's both better and worse than any religion can justify. \n [source: MuCCC website\, 2015-May-18]
URL:https://jayceland.com/blog/event/grace-performance-2015-may-22-730-p-m/
LOCATION:MuCCC (Multi-use Community Cultural Center)\, 142 Atlantic Ave.\, Rochester\, New York\, 14607\, United States
CATEGORIES:JayceLand 2015-May-21
END:VEVENT
BEGIN:VEVENT
DTSTART;TZID=America/New_York:20150522T200000
DTEND;TZID=America/New_York:20150522T211000
DTSTAMP:20260422T021845
CREATED:20150520T113435Z
LAST-MODIFIED:20150520T113435Z
UID:4680-1432324800-1432329000@jayceland.com
SUMMARY:Night Nurse screening
DESCRIPTION:At 8 p.m.\, the Dryden will screen Night Nurse (William A. Wellman\, U.S. 1931\, 70 min.\, 35mm).  \nFresh from nursing school\, idealistic young trainee Barbara Stanwyck has her work cut out for her with her first assignment: caring for two children mysteriously suffering from malnourishment. With their drunken and mostly unconscious mother more interested in partying than in her children's well-being; a menacing\, manipulative chauffeur (an early role for Clark Gable\, without a mustache or dimpled charm); and a shady but helpful bootlegger (played by Ben Lyon) whom Stanwyck meets while patching up his gunshot wound in the emergency ward\, you have all the ingredients for one of the tastiest pre-Code films produced by Warner Bros. A gum-chomping Joan Blondell is delightfully on hand as Stanwyck's nursing school pal who knows the score. This was the first of five films director Wellman made with Stanwyck\, and they loved working together. Wellman was also quick to recognize the talent he saw in Gable and urged Warner Bros. to sign him to a contract. They didn't\, and he soon moved on to MGM where he steadily put his star power to work at the box office for them for the next twenty years. \n [source: Dryden website\, 2015-May-18]
URL:https://jayceland.com/blog/event/night-nurse-screening/
LOCATION:Dryden Theatre at George Eastman House\, 900 East Ave.\, Rochester\, New York\, 14607\, United States
CATEGORIES:JayceLand 2015-May-21
END:VEVENT
BEGIN:VEVENT
DTSTART;TZID=America/New_York:20150522T200000
DTEND;TZID=America/New_York:20150522T220000
DTSTAMP:20260422T021845
CREATED:20150520T113432Z
LAST-MODIFIED:20150520T113432Z
UID:4666-1432324800-1432332000@jayceland.com
SUMMARY:An Evening with The Rita Collective
DESCRIPTION:The Rita Collective is a new acoustic world jazz quartet. Currently busy arranging a diverse collection of melodies from around the world for it's unusual instrumentation of bass clarinet\, marimba\, acoustic bass\, and altered drum kit\, the group has a sound and feeling rarely found in the Jazz world. The bass clarinet is at times hauntingly lyrical and at other times deeply sinister\, a fascinating compliment to the beautiful woody tones of the marimba. Acoustic bass supports the melodies with a strength and warmth that rounds out the group\, and an altered drum kit reaches beyond the traditional color pallet of drum set to infuse the music with a diverse world beat. Together\, these wooden instruments resonate with a warmth and clarity that connects the listener to the music. \n [source: Bernunzio Uptown Music website\, 2015-May-18]
URL:https://jayceland.com/blog/event/an-evening-with-the-rita-collective/
LOCATION:Bernunzio Uptown Music\, 122 East Ave.\, Rochester\, New York\, 14604\, United States
CATEGORIES:JayceLand 2015-May-21
END:VEVENT
BEGIN:VEVENT
DTSTART;TZID=America/New_York:20150522T200000
DTEND;TZID=America/New_York:20150522T220000
DTSTAMP:20260422T021845
CREATED:20150520T113433Z
LAST-MODIFIED:20150520T113433Z
UID:4668-1432324800-1432332000@jayceland.com
SUMMARY:The Defeated Royals\, Ashton Blake and author C.J. Campbell
DESCRIPTION:"Love Will Not Be Defeated Tour" featuring The Defeated Royals\, Ashton Blake and author C.J. Campbell in the month of May. This tour will be in support of the upcoming release of "The Zen of Beard Trimming" the highly acclaimed debut from author C.J. Campbell. The live show will consist of live music from the bands as well as storytelling from C.J. Campbell. \n [source: Boulder Coffee calendar\, 2015-May-18]
URL:https://jayceland.com/blog/event/the-defeated-royals-ashton-blake-and-author-c-j-campbell/
LOCATION:Boulder Coffee\, South Wedge\, 100 Alexander St.\, Rochester\, New York\, 14620\, United States
CATEGORIES:JayceLand 2015-May-21
END:VEVENT
BEGIN:VEVENT
DTSTART;TZID=America/New_York:20150522T205000
DTEND;TZID=America/New_York:20150522T225400
DTSTAMP:20260422T021845
CREATED:20150520T113439Z
LAST-MODIFIED:20150520T113439Z
UID:4701-1432327800-1432335240@jayceland.com
SUMMARY:Clouds of Sils Maria screening (2015-May-22 @ 8:50 p.m.)
DESCRIPTION:This week's 8:50 p.m. movie at the Cinema is the excellent character study Clouds of Sils Maria (Olivier Assayas\, France / Switzerland / Germany / U.S. / Belgium 2014\, 124 min.) "A veteran actress comes face-to-face with an uncomfortable reflection of herself when she agrees to take part in a revival of the play that launched her career 20 years earlier." [source: Cinema coming soon page\, 2015-May-20]
URL:https://jayceland.com/blog/event/clouds-of-sils-maria-screening-2015-may-22-850-p-m/
LOCATION:Cinema Theatre\, 957 S. Clinton Ave.\, Rochester\, New York\, 14620\, United States
CATEGORIES:JayceLand 2015-May-21
END:VEVENT
BEGIN:VEVENT
DTSTART;TZID=America/New_York:20150522T220000
DTEND;TZID=America/New_York:20150522T233500
DTSTAMP:20260422T021845
CREATED:20150520T113432Z
LAST-MODIFIED:20150520T113432Z
UID:4665-1432332000-1432337700@jayceland.com
SUMMARY:Pink Floyd: The Wall screening
DESCRIPTION:[source: Little Theatre website\, 2015-May-18]
URL:https://jayceland.com/blog/event/pink-floyd-the-wall-screening/
LOCATION:Little Theatre\, 240 East Ave. #100\, Rochester\, New York\, 14604\, United States
CATEGORIES:JayceLand 2015-May-21
END:VEVENT
END:VCALENDAR